BEGIN:VCALENDAR
VERSION:2.0
PRODID:-//Dominican University - ECPv6.15.18//NONSGML v1.0//EN
CALSCALE:GREGORIAN
METHOD:PUBLISH
X-ORIGINAL-URL:https://www.duny.edu
X-WR-CALDESC:Events for Dominican University
REFRESH-INTERVAL;VALUE=DURATION:PT1H
X-Robots-Tag:noindex
X-PUBLISHED-TTL:PT1H
BEGIN:VTIMEZONE
TZID:America/New_York
BEGIN:DAYLIGHT
TZOFFSETFROM:-0500
TZOFFSETTO:-0400
TZNAME:EDT
DTSTART:20250309T070000
END:DAYLIGHT
BEGIN:STANDARD
TZOFFSETFROM:-0400
TZOFFSETTO:-0500
TZNAME:EST
DTSTART:20251102T060000
END:STANDARD
BEGIN:DAYLIGHT
TZOFFSETFROM:-0500
TZOFFSETTO:-0400
TZNAME:EDT
DTSTART:20260308T070000
END:DAYLIGHT
BEGIN:STANDARD
TZOFFSETFROM:-0400
TZOFFSETTO:-0500
TZNAME:EST
DTSTART:20261101T060000
END:STANDARD
BEGIN:DAYLIGHT
TZOFFSETFROM:-0500
TZOFFSETTO:-0400
TZNAME:EDT
DTSTART:20270314T070000
END:DAYLIGHT
BEGIN:STANDARD
TZOFFSETFROM:-0400
TZOFFSETTO:-0500
TZNAME:EST
DTSTART:20271107T060000
END:STANDARD
END:VTIMEZONE
BEGIN:VEVENT
DTSTART;TZID=America/New_York:20260205T190000
DTEND;TZID=America/New_York:20260205T210000
DTSTAMP:20260424T082836
CREATED:20260105T200812Z
LAST-MODIFIED:20260128T174624Z
UID:10001522-1770318000-1770325200@www.duny.edu
SUMMARY:Senior Dinner & Wine tasting🥂
DESCRIPTION:Legacy Class Reunion \nOnce a Charger.\nAlways a Charger.\n\nCome back. Reconnect. Celebrate. \nJoin us for an afternoon honoring the milestone 50th and 25th anniversary classes — reconnect with classmates and raise a glass to the legacy you've built since. \n\n\nDate\nSaturday\, May 16th\nTime\n1:00 PM\nLocation\nGranito Badami Room\n\n\n\n50\nYears\n25\nYears\n\n\n\nAlumni\nFree\nGuests\n$50\nLunch & champagne included\n\n\nRSVP by\nMay 9th
URL:https://www.duny.edu/events/senior-dinner-%f0%9f%a5%82/
LOCATION:Del Arte Restaurant\, 20 Mountain View Avenue\, Orangeburg\, NY\, 10962\, United States
CATEGORIES:All Events,Senior Special Events,Student Events
ORGANIZER;CN="Rachel Shaw%2C Director of Student Engagement Lecturer in Business Administration":MAILTO:rachel.mcginty@duny.edu
END:VEVENT
END:VCALENDAR