BEGIN:VCALENDAR
VERSION:2.0
PRODID:-//Dominican University - ECPv6.15.18//NONSGML v1.0//EN
CALSCALE:GREGORIAN
METHOD:PUBLISH
X-WR-CALNAME:Dominican University
X-ORIGINAL-URL:https://www.duny.edu
X-WR-CALDESC:Events for Dominican University
REFRESH-INTERVAL;VALUE=DURATION:PT1H
X-Robots-Tag:noindex
X-PUBLISHED-TTL:PT1H
BEGIN:VTIMEZONE
TZID:America/New_York
BEGIN:DAYLIGHT
TZOFFSETFROM:-0500
TZOFFSETTO:-0400
TZNAME:EDT
DTSTART:20250309T070000
END:DAYLIGHT
BEGIN:STANDARD
TZOFFSETFROM:-0400
TZOFFSETTO:-0500
TZNAME:EST
DTSTART:20251102T060000
END:STANDARD
BEGIN:DAYLIGHT
TZOFFSETFROM:-0500
TZOFFSETTO:-0400
TZNAME:EDT
DTSTART:20260308T070000
END:DAYLIGHT
BEGIN:STANDARD
TZOFFSETFROM:-0400
TZOFFSETTO:-0500
TZNAME:EST
DTSTART:20261101T060000
END:STANDARD
BEGIN:DAYLIGHT
TZOFFSETFROM:-0500
TZOFFSETTO:-0400
TZNAME:EDT
DTSTART:20270314T070000
END:DAYLIGHT
BEGIN:STANDARD
TZOFFSETFROM:-0400
TZOFFSETTO:-0500
TZNAME:EST
DTSTART:20271107T060000
END:STANDARD
END:VTIMEZONE
BEGIN:VEVENT
DTSTART;VALUE=DATE:20260224
DTEND;VALUE=DATE:20260226
DTSTAMP:20260422T160906
CREATED:20250504T210526Z
LAST-MODIFIED:20250504T210526Z
UID:10001367-1771891200-1772063999@www.duny.edu
SUMMARY:Major Declaration Days for First-Year Students
DESCRIPTION:February 24 & 25\, 2026 \nAcademic Calendar – Special Events
URL:https://www.duny.edu/events/major-declaration-days-for-first-year-students/
CATEGORIES:Academics
END:VEVENT
BEGIN:VEVENT
DTSTART;TZID=America/New_York:20260225T170000
DTEND;TZID=America/New_York:20260225T183000
DTSTAMP:20260422T160906
CREATED:20260128T173822Z
LAST-MODIFIED:20260128T173822Z
UID:10001544-1772038800-1772044200@www.duny.edu
SUMMARY:2026 Alumni Travel Club Info Session
DESCRIPTION:Our 2026 Trip is now booked! We have 30 slots available this year for the trip. \nPortugal Dates: September 27 – October 6\, 2026 \nLink to register: \ngateway.gocollette.com/link/1410232 \nOur Travel Agent\, Ryan Faer\, will be on campus on February 25th from 5 – 6:30 PM in the Granito Extension to answer any questions.\nPlease email Margaret.Treacy@duny.edu to RSVP \n View the Portugal Brochure
URL:https://www.duny.edu/events/2026-alumni-travel-club-info-session/
LOCATION:Granito Extension
CATEGORIES:Alumni Events
ORGANIZER;CN="Margaret Treacy%2C Director of Annual Giving and Alumni & Parent Relations":MAILTO:Margaret.Treacy@duny.edu
END:VEVENT
BEGIN:VEVENT
DTSTART;TZID=America/New_York:20260225T173000
DTEND;TZID=America/New_York:20260225T190000
DTSTAMP:20260422T160906
CREATED:20250617T170030Z
LAST-MODIFIED:20250617T170030Z
UID:10001426-1772040600-1772046000@www.duny.edu
SUMMARY:Virtual Info Session
DESCRIPTION:If you’re juggling work\, family\, and other responsibilities\, we understand how challenging it can be to attend an in-person visit. That’s why Dominican University offers Virtual Information Sessions. In an hour or less\, you’ll get answers to your most important questions and be one step closer to making your decision. \nHere’s what to expect during your virtual session: \n\nFaculty members will review your program or degree\, including curriculum\, expectations\, and outcomes.\nAdmissions representatives will personally guide you through the admissions process.\nFinancial Aid specialists will be available to discuss financing options tailored to you.\n\nIf you have any questions about Virtual Information Sessions\, please email the Dominican University New York Admissions Team
URL:https://www.duny.edu/events/virtual-info-session-2/
CATEGORIES:Admissions,All Events
ORGANIZER;CN="Dominican University Office of Admissions":MAILTO:admissions@duny.edu
END:VEVENT
END:VCALENDAR