BEGIN:VCALENDAR
VERSION:2.0
PRODID:-//Dominican University - ECPv6.15.18//NONSGML v1.0//EN
CALSCALE:GREGORIAN
METHOD:PUBLISH
X-WR-CALNAME:Dominican University
X-ORIGINAL-URL:https://www.duny.edu
X-WR-CALDESC:Events for Dominican University
REFRESH-INTERVAL;VALUE=DURATION:PT1H
X-Robots-Tag:noindex
X-PUBLISHED-TTL:PT1H
BEGIN:VTIMEZONE
TZID:America/New_York
BEGIN:DAYLIGHT
TZOFFSETFROM:-0500
TZOFFSETTO:-0400
TZNAME:EDT
DTSTART:20240310T070000
END:DAYLIGHT
BEGIN:STANDARD
TZOFFSETFROM:-0400
TZOFFSETTO:-0500
TZNAME:EST
DTSTART:20241103T060000
END:STANDARD
BEGIN:DAYLIGHT
TZOFFSETFROM:-0500
TZOFFSETTO:-0400
TZNAME:EDT
DTSTART:20250309T070000
END:DAYLIGHT
BEGIN:STANDARD
TZOFFSETFROM:-0400
TZOFFSETTO:-0500
TZNAME:EST
DTSTART:20251102T060000
END:STANDARD
BEGIN:DAYLIGHT
TZOFFSETFROM:-0500
TZOFFSETTO:-0400
TZNAME:EDT
DTSTART:20260308T070000
END:DAYLIGHT
BEGIN:STANDARD
TZOFFSETFROM:-0400
TZOFFSETTO:-0500
TZNAME:EST
DTSTART:20261101T060000
END:STANDARD
END:VTIMEZONE
BEGIN:VEVENT
DTSTART;TZID=America/New_York:20251104T150000
DTEND;TZID=America/New_York:20251104T170000
DTSTAMP:20260420T095748
CREATED:20250707T203418Z
LAST-MODIFIED:20251009T021005Z
UID:10001442-1762268400-1762275600@www.duny.edu
SUMMARY:Information Session and Campus Tour
DESCRIPTION:<!DOCTYPE html>\n<html lang="en">\n<head>\n<meta charset="UTF-8">\n<meta name="viewport" content="width=device-width\, initial-scale=1.0">\n<style>\n/* Scoped styles - only affects elements within .duny-event-container */\n.duny-event-container {\n  max-width: 1200px;\n  margin: 0 auto;\n  padding: 20px;\n  box-sizing: border-box;\n}\n\n.duny-event-container * {\n  box-sizing: border-box;\n}\n\n.duny-event-grid {\n  display: block;\n}\n\n.duny-event-content {\n  padding: 0;\n}\n\n.duny-event-content p {\n  margin: 0 0 1.5em 0;\n  line-height: 1.6;\n  color: #333;\n}\n\n.duny-event-content ul {\n  margin: 1em 0 1.5em 0;\n  padding-left: 20px;\n  line-height: 1.7;\n}\n\n.duny-event-content li {\n  margin-bottom: 0.75em;\n  color: #333;\n}\n\n.duny-event-schedule {\n  width: 100%;\n  border-collapse: collapse;\n  margin: 1.5em 0;\n}\n\n.duny-event-schedule thead {\n  background-color: #f5f5f5;\n}\n\n.duny-event-schedule th\,\n.duny-event-schedule td {\n  padding: 12px 15px;\n  text-align: left;\n  border: 1px solid #ddd;\n}\n\n.duny-event-schedule th {\n  font-weight: 600;\n  color: #333;\n}\n\n.duny-event-schedule tbody tr:nth-child(even) {\n  background-color: #fafafa;\n}\n\n.duny-event-contact {\n  margin-top: 1.5em;\n  padding-top: 1.5em;\n  border-top: 1px solid #e0e0e0;\n  font-size: 0.95em;\n  color: #555;\n}\n\n.duny-event-contact a {\n  color: #0066cc;\n  text-decoration: none;\n}\n\n.duny-event-contact a:hover {\n  text-decoration: underline;\n}\n</style>\n</head>\n<body>\n\n<div class="duny-event-container">\n  <div class="duny-event-grid">\n    \n    <!-- Left Column: Content -->\n    <div class="duny-event-content">\n      <p>Join us for a special panel focused on Student Success Services and discover how Dominican University New York supports you\, every step of the way!</p>\n      \n      <p><strong>During your visit\, you'll:</strong></p>\n      <ul>\n        <li>Learn about our academic programs and personalized support services</li>\n        <li>Tour our beautiful 64-acre campus in scenic Rockland County</li>\n        <li>Hear directly from faculty\, staff\, and administration during a panel discussion hosted by Student Success Services</li>\n      </ul>\n      \n      <p>Come see what it's like to be part of the DUNY community!</p>\n      \n      <table class="duny-event-schedule">\n        <thead>\n          <tr>\n            <th>Time</th>\n            <th>Activity</th>\n          </tr>\n        </thead>\n        <tbody>\n          <tr>\n            <td>3:00 p.m.</td>\n            <td>Presentation</td>\n          </tr>\n          <tr>\n            <td>3:30 – 4:30 p.m.</td>\n            <td>Campus Tour</td>\n          </tr>\n          <tr>\n            <td>4:30 – 5:00 p.m.</td>\n            <td>Student Success Services Panel</td>\n          </tr>\n        </tbody>\n      </table>\n      \n      <div class="duny-event-contact">\n        <p>For more information\, please contact the Office of Admissions at <a href="mailto:admissions@duny.edu">admissions@duny.edu</a> or call <a href="tel:8458487900">(845) 848-7900</a>.</p>\n      </div>\n    </div>\n    \n  </div>\n</div>\n\n</body>\n</html>\n\n\n\n\n\nRSVP Now!\nFirst\, please tell us your relationship to DUNY. Once you do\, the rest of the form will appear so you can complete your RSVP. \nLoading…
URL:https://www.duny.edu/events/info-session-nov-4-2025/
LOCATION:Holt Room- Hennessy Center\, 495 Western Highway\, Blauvelt\, NY\, 10913\, United States
CATEGORIES:Admissions,All Events,Open House
ORGANIZER;CN="Dominican University Office of Admissions":MAILTO:admissions@duny.edu
END:VEVENT
END:VCALENDAR