BEGIN:VCALENDAR
VERSION:2.0
PRODID:-//Dominican University - ECPv6.15.18//NONSGML v1.0//EN
CALSCALE:GREGORIAN
METHOD:PUBLISH
X-WR-CALNAME:Dominican University
X-ORIGINAL-URL:https://www.duny.edu
X-WR-CALDESC:Events for Dominican University
REFRESH-INTERVAL;VALUE=DURATION:PT1H
X-Robots-Tag:noindex
X-PUBLISHED-TTL:PT1H
BEGIN:VTIMEZONE
TZID:America/New_York
BEGIN:DAYLIGHT
TZOFFSETFROM:-0500
TZOFFSETTO:-0400
TZNAME:EDT
DTSTART:20250309T070000
END:DAYLIGHT
BEGIN:STANDARD
TZOFFSETFROM:-0400
TZOFFSETTO:-0500
TZNAME:EST
DTSTART:20251102T060000
END:STANDARD
BEGIN:DAYLIGHT
TZOFFSETFROM:-0500
TZOFFSETTO:-0400
TZNAME:EDT
DTSTART:20260308T070000
END:DAYLIGHT
BEGIN:STANDARD
TZOFFSETFROM:-0400
TZOFFSETTO:-0500
TZNAME:EST
DTSTART:20261101T060000
END:STANDARD
BEGIN:DAYLIGHT
TZOFFSETFROM:-0500
TZOFFSETTO:-0400
TZNAME:EDT
DTSTART:20270314T070000
END:DAYLIGHT
BEGIN:STANDARD
TZOFFSETFROM:-0400
TZOFFSETTO:-0500
TZNAME:EST
DTSTART:20271107T060000
END:STANDARD
END:VTIMEZONE
BEGIN:VEVENT
DTSTART;TZID=America/New_York:20260414T140000
DTEND;TZID=America/New_York:20260414T160000
DTSTAMP:20260424T224030
CREATED:20260225T125415Z
LAST-MODIFIED:20260225T125415Z
UID:10001558-1776175200-1776182400@www.duny.edu
SUMMARY:Cupcakes & Kudos
DESCRIPTION:Honoring Freshman inducted into Alpha Lambda Delta Honor Society. \nWhen: Tuesday\, April 14\n2:00-4:00 PM\nWhere: Casey Hall\, Palisades Room \nDrop in anytime for treats and celebration! 🧁
URL:https://www.duny.edu/events/cupcakes-kudos/
LOCATION:Casey Hall\, 470 Western Highway\, Orangeburg\, 10962\, United States
CATEGORIES:All Events,Student Events
ORGANIZER;CN="Katie Anderson%2C Director New Student and Transition Center":MAILTO:katie.anderson@duny.edu
END:VEVENT
BEGIN:VEVENT
DTSTART;TZID=America/New_York:20260414T141500
DTEND;TZID=America/New_York:20260414T160000
DTSTAMP:20260424T224030
CREATED:20260407T174643Z
LAST-MODIFIED:20260407T174701Z
UID:10001578-1776176100-1776182400@www.duny.edu
SUMMARY:Liberal Arts Day
DESCRIPTION:Our students have been working on projects all semester.  Please come to our Annual Liberal Arts Day 2026 to celebrate our students’ creativity and scholarship\, view their posters\, hear their ideas\, ask your questions\, and discuss their research.  \nApril 14\, 2026\nRosary Hall\n2:15-4:00 PM
URL:https://www.duny.edu/events/liberal-arts-day/
LOCATION:Rosary Hall\, 480 Western Hwy South\, Orangeburg\, 10962\, United States
CATEGORIES:All Events
END:VEVENT
END:VCALENDAR