BEGIN:VCALENDAR
VERSION:2.0
PRODID:-//Dominican University - ECPv6.15.18//NONSGML v1.0//EN
CALSCALE:GREGORIAN
METHOD:PUBLISH
X-WR-CALNAME:Dominican University
X-ORIGINAL-URL:https://www.duny.edu
X-WR-CALDESC:Events for Dominican University
REFRESH-INTERVAL;VALUE=DURATION:PT1H
X-Robots-Tag:noindex
X-PUBLISHED-TTL:PT1H
BEGIN:VTIMEZONE
TZID:America/New_York
BEGIN:DAYLIGHT
TZOFFSETFROM:-0500
TZOFFSETTO:-0400
TZNAME:EDT
DTSTART:20250309T070000
END:DAYLIGHT
BEGIN:STANDARD
TZOFFSETFROM:-0400
TZOFFSETTO:-0500
TZNAME:EST
DTSTART:20251102T060000
END:STANDARD
BEGIN:DAYLIGHT
TZOFFSETFROM:-0500
TZOFFSETTO:-0400
TZNAME:EDT
DTSTART:20260308T070000
END:DAYLIGHT
BEGIN:STANDARD
TZOFFSETFROM:-0400
TZOFFSETTO:-0500
TZNAME:EST
DTSTART:20261101T060000
END:STANDARD
BEGIN:DAYLIGHT
TZOFFSETFROM:-0500
TZOFFSETTO:-0400
TZNAME:EDT
DTSTART:20270314T070000
END:DAYLIGHT
BEGIN:STANDARD
TZOFFSETFROM:-0400
TZOFFSETTO:-0500
TZNAME:EST
DTSTART:20271107T060000
END:STANDARD
END:VTIMEZONE
BEGIN:VEVENT
DTSTART;VALUE=DATE:20260105
DTEND;VALUE=DATE:20260117
DTSTAMP:20260420T111253
CREATED:20250120T180206Z
LAST-MODIFIED:20250120T180206Z
UID:10001296-1767571200-1768607999@www.duny.edu
SUMMARY:Undergraduate Winter Session Classes
DESCRIPTION:10 Class Sessions\nJanuary 5 —January 16\, 2026 (Monday-Friday) \n  \n2025-2026 Academic Calendar 
URL:https://www.duny.edu/events/undergraduate-winter-session-classes/
CATEGORIES:Academics,All Events
END:VEVENT
BEGIN:VEVENT
DTSTART;VALUE=DATE:20260115
DTEND;VALUE=DATE:20260116
DTSTAMP:20260420T111253
CREATED:20250224T145123Z
LAST-MODIFIED:20250224T145123Z
UID:10001328-1768435200-1768521599@www.duny.edu
SUMMARY:University Conference
DESCRIPTION:Faculty and Staff
URL:https://www.duny.edu/events/university-conference-3/
LOCATION:Granito Center\, 470 Western Highway\, NY\, United States
CATEGORIES:All Events,Faculty and Staff
END:VEVENT
BEGIN:VEVENT
DTSTART;TZID=America/New_York:20260117T100000
DTEND;TZID=America/New_York:20260117T120000
DTSTAMP:20260420T111253
CREATED:20250710T134024Z
LAST-MODIFIED:20250710T134025Z
UID:10001447-1768644000-1768651200@www.duny.edu
SUMMARY:Undergraduate Saturday Tour
DESCRIPTION:Please visit our Saturday Tours page to learn more.
URL:https://www.duny.edu/events/undergraduate-saturday-tour-jan-17-2026/
LOCATION:Holt Room- Hennessy Center\, 495 Western Highway\, Blauvelt\, NY\, 10913\, United States
CATEGORIES:Admissions,All Events,Open House
ORGANIZER;CN="Dominican University Office of Admissions":MAILTO:admissions@duny.edu
END:VEVENT
END:VCALENDAR