BEGIN:VCALENDAR
VERSION:2.0
PRODID:-//Dominican University - ECPv6.15.18//NONSGML v1.0//EN
CALSCALE:GREGORIAN
METHOD:PUBLISH
X-ORIGINAL-URL:https://www.duny.edu
X-WR-CALDESC:Events for Dominican University
REFRESH-INTERVAL;VALUE=DURATION:PT1H
X-Robots-Tag:noindex
X-PUBLISHED-TTL:PT1H
BEGIN:VTIMEZONE
TZID:America/New_York
BEGIN:DAYLIGHT
TZOFFSETFROM:-0500
TZOFFSETTO:-0400
TZNAME:EDT
DTSTART:20250309T070000
END:DAYLIGHT
BEGIN:STANDARD
TZOFFSETFROM:-0400
TZOFFSETTO:-0500
TZNAME:EST
DTSTART:20251102T060000
END:STANDARD
BEGIN:DAYLIGHT
TZOFFSETFROM:-0500
TZOFFSETTO:-0400
TZNAME:EDT
DTSTART:20260308T070000
END:DAYLIGHT
BEGIN:STANDARD
TZOFFSETFROM:-0400
TZOFFSETTO:-0500
TZNAME:EST
DTSTART:20261101T060000
END:STANDARD
BEGIN:DAYLIGHT
TZOFFSETFROM:-0500
TZOFFSETTO:-0400
TZNAME:EDT
DTSTART:20270314T070000
END:DAYLIGHT
BEGIN:STANDARD
TZOFFSETFROM:-0400
TZOFFSETTO:-0500
TZNAME:EST
DTSTART:20271107T060000
END:STANDARD
END:VTIMEZONE
BEGIN:VEVENT
DTSTART;TZID=America/New_York:20260301T110000
DTEND;TZID=America/New_York:20260307T120000
DTSTAMP:20260421T200749
CREATED:20260128T175542Z
LAST-MODIFIED:20260128T175542Z
UID:10001546-1772362800-1772884800@www.duny.edu
SUMMARY:Alternative Spring Break
DESCRIPTION:
URL:https://www.duny.edu/events/alternative-spring-break/
CATEGORIES:Faculty and Staff,Student Events
END:VEVENT
BEGIN:VEVENT
DTSTART;TZID=America/New_York:20260308T140000
DTEND;TZID=America/New_York:20260308T140000
DTSTAMP:20260421T200749
CREATED:20260216T171601Z
LAST-MODIFIED:20260216T171602Z
UID:10001550-1772978400-1772978400@www.duny.edu
SUMMARY:Celtic Tea
DESCRIPTION:  \n  \n  \n  \n  \n  \n  \n  \n  \n  \n  \n  \n  \n  \n Purchase Tickets Here \n 
URL:https://www.duny.edu/events/celtic-tea/
LOCATION:Dominican Convent: Huston Room\, 496 Western Highway\, Blauvelt\, 10913\, United States
CATEGORIES:All Events,Alumni Events,Community Events & Workshops,Faculty and Staff
END:VEVENT
BEGIN:VEVENT
DTSTART;TZID=America/New_York:20260317T133000
DTEND;TZID=America/New_York:20260317T163000
DTSTAMP:20260421T200749
CREATED:20260225T123356Z
LAST-MODIFIED:20260225T123356Z
UID:10001556-1773754200-1773765000@www.duny.edu
SUMMARY:Pop Up Shop
DESCRIPTION:Stop by our Dominican University Pop-Up Shop for a convenient\, one-day shopping experience right on campus! Browse a curated selection of DUNY essentials\, spirit gear\, accessories\, and unique items perfect for showing your school pride or picking up a thoughtful gift. \nWhether you’re treating yourself\, grabbing last-minute supplies\, or just curious to see what’s available\, there’s something for everyone! \nMarch 17 | 1:30–4:30 PMGranito Center\, Room 202B
URL:https://www.duny.edu/events/pop-up-shop/
LOCATION:Granito Center\, 470 Western Highway\, NY\, United States
CATEGORIES:All Events,Faculty and Staff,Student Events
END:VEVENT
BEGIN:VEVENT
DTSTART;TZID=America/New_York:20260319T111500
DTEND;TZID=America/New_York:20260319T121500
DTSTAMP:20260421T200749
CREATED:20260316T202143Z
LAST-MODIFIED:20260316T202143Z
UID:10001566-1773918900-1773922500@www.duny.edu
SUMMARY:Brain Injury Awareness Month
DESCRIPTION:
URL:https://www.duny.edu/events/brain-injury-awareness-month/
LOCATION:Palisades Room\, Casey Hall
CATEGORIES:All Events,Faculty and Staff,Student Events
END:VEVENT
BEGIN:VEVENT
DTSTART;TZID=America/New_York:20260322T190000
DTEND;TZID=America/New_York:20260322T190000
DTSTAMP:20260421T200749
CREATED:20260121T163226Z
LAST-MODIFIED:20260202T202340Z
UID:10001530-1774206000-1774206000@www.duny.edu
SUMMARY:Campus Mass and Liturgy
DESCRIPTION:Join us for a time of reflection\, community\, and prayer. \nWhether you are looking for a quiet space to center yourself before the week begins or a place to connect with fellow students\, our weekly Mass is open to everyone—regardless of where you are on your spiritual journey. \nEvent Details\n\nTime: 7:00 PM \nLocation: Rosary Hall \nWho: Open to all students\, faculty\, and staff. \n\nSpring 2026 Schedule\nMark your calendars! We gather on the following Sunday evenings: \nFebruary: 1\, 8\, 15\, 22 \nMarch: 15\, 29   \nApril: 12\, 19\, 26 \nMay: 3\, 10
URL:https://www.duny.edu/events/campus-mass-and-liturgy-2/2026-03-22/
LOCATION:Rosary Hall Chapel\, 480 Western Highway\, Blauvelt\, NY\, 10913\, United States
CATEGORIES:All Events,Community Events & Workshops,Faculty and Staff,Student Events
END:VEVENT
BEGIN:VEVENT
DTSTART;VALUE=DATE:20260329
DTEND;VALUE=DATE:20260330
DTSTAMP:20260421T200749
CREATED:20250521T192421Z
LAST-MODIFIED:20260326T132359Z
UID:10001390-1774742400-1774828799@www.duny.edu
SUMMARY:Palm Sunday
DESCRIPTION:The Sisters of Saint Dominic warmly welcome you to join in Holy Week liturgies and gatherings.  \nPlease click the link below to see the schedule of events and come as you are able as we pray\, remember\, and celebrate together. \n2026 Holy Week Schedule
URL:https://www.duny.edu/events/palm-sunday/
CATEGORIES:Community Events & Workshops,Faculty and Staff,Student Events
END:VEVENT
BEGIN:VEVENT
DTSTART;TZID=America/New_York:20260329T190000
DTEND;TZID=America/New_York:20260329T190000
DTSTAMP:20260421T200749
CREATED:20260121T163226Z
LAST-MODIFIED:20260202T202340Z
UID:10001531-1774810800-1774810800@www.duny.edu
SUMMARY:Campus Mass and Liturgy
DESCRIPTION:Join us for a time of reflection\, community\, and prayer. \nWhether you are looking for a quiet space to center yourself before the week begins or a place to connect with fellow students\, our weekly Mass is open to everyone—regardless of where you are on your spiritual journey. \nEvent Details\n\nTime: 7:00 PM \nLocation: Rosary Hall \nWho: Open to all students\, faculty\, and staff. \n\nSpring 2026 Schedule\nMark your calendars! We gather on the following Sunday evenings: \nFebruary: 1\, 8\, 15\, 22 \nMarch: 15\, 29   \nApril: 12\, 19\, 26 \nMay: 3\, 10
URL:https://www.duny.edu/events/campus-mass-and-liturgy-2/2026-03-29/
LOCATION:Rosary Hall Chapel\, 480 Western Highway\, Blauvelt\, NY\, 10913\, United States
CATEGORIES:All Events,Community Events & Workshops,Faculty and Staff,Student Events
END:VEVENT
END:VCALENDAR