BEGIN:VCALENDAR
VERSION:2.0
PRODID:-//Dominican University - ECPv6.15.18//NONSGML v1.0//EN
CALSCALE:GREGORIAN
METHOD:PUBLISH
X-WR-CALNAME:Dominican University
X-ORIGINAL-URL:https://www.duny.edu
X-WR-CALDESC:Events for Dominican University
REFRESH-INTERVAL;VALUE=DURATION:PT1H
X-Robots-Tag:noindex
X-PUBLISHED-TTL:PT1H
BEGIN:VTIMEZONE
TZID:America/New_York
BEGIN:DAYLIGHT
TZOFFSETFROM:-0500
TZOFFSETTO:-0400
TZNAME:EDT
DTSTART:20250309T070000
END:DAYLIGHT
BEGIN:STANDARD
TZOFFSETFROM:-0400
TZOFFSETTO:-0500
TZNAME:EST
DTSTART:20251102T060000
END:STANDARD
BEGIN:DAYLIGHT
TZOFFSETFROM:-0500
TZOFFSETTO:-0400
TZNAME:EDT
DTSTART:20260308T070000
END:DAYLIGHT
BEGIN:STANDARD
TZOFFSETFROM:-0400
TZOFFSETTO:-0500
TZNAME:EST
DTSTART:20261101T060000
END:STANDARD
BEGIN:DAYLIGHT
TZOFFSETFROM:-0500
TZOFFSETTO:-0400
TZNAME:EDT
DTSTART:20270314T070000
END:DAYLIGHT
BEGIN:STANDARD
TZOFFSETFROM:-0400
TZOFFSETTO:-0500
TZNAME:EST
DTSTART:20271107T060000
END:STANDARD
END:VTIMEZONE
BEGIN:VEVENT
DTSTART;VALUE=DATE:20261012
DTEND;VALUE=DATE:20261013
DTSTAMP:20260424T220753
CREATED:20260414T004940Z
LAST-MODIFIED:20260414T004940Z
UID:10001594-1791763200-1791849599@www.duny.edu
SUMMARY:Columbus Day
DESCRIPTION:Legacy Class Reunion \nOnce a Charger.\nAlways a Charger.\n\nCome back. Reconnect. Celebrate. \nJoin us for an afternoon honoring the milestone 50th and 25th anniversary classes — reconnect with classmates and raise a glass to the legacy you've built since. \n\n\nDate\nSaturday\, May 16th\nTime\n1:00 PM\nLocation\nGranito Badami Room\n\n\n\n50\nYears\n25\nYears\n\n\n\nAlumni\nFree\nGuests\n$50\nLunch & champagne included\n\n\nRSVP by\nMay 9th
URL:https://www.duny.edu/events/columbus-day/
END:VEVENT
BEGIN:VEVENT
DTSTART;VALUE=DATE:20260915
DTEND;VALUE=DATE:20260916
DTSTAMP:20260424T220753
CREATED:20260413T233540Z
LAST-MODIFIED:20260413T233540Z
UID:10001582-1789430400-1789516799@www.duny.edu
SUMMARY:Founders’ Day and Convocation-No Undergraduate Classes
DESCRIPTION:Legacy Class Reunion \nOnce a Charger.\nAlways a Charger.\n\nCome back. Reconnect. Celebrate. \nJoin us for an afternoon honoring the milestone 50th and 25th anniversary classes — reconnect with classmates and raise a glass to the legacy you've built since. \n\n\nDate\nSaturday\, May 16th\nTime\n1:00 PM\nLocation\nGranito Badami Room\n\n\n\n50\nYears\n25\nYears\n\n\n\nAlumni\nFree\nGuests\n$50\nLunch & champagne included\n\n\nRSVP by\nMay 9th
URL:https://www.duny.edu/events/founders-day-and-convocation-no-undergraduate-classes/
CATEGORIES:Academics
END:VEVENT
BEGIN:VEVENT
DTSTART;VALUE=DATE:20260907
DTEND;VALUE=DATE:20260908
DTSTAMP:20260424T220753
CREATED:20260413T233241Z
LAST-MODIFIED:20260413T233241Z
UID:10001581-1788739200-1788825599@www.duny.edu
SUMMARY:Labor Day-University Closed
DESCRIPTION:Legacy Class Reunion \nOnce a Charger.\nAlways a Charger.\n\nCome back. Reconnect. Celebrate. \nJoin us for an afternoon honoring the milestone 50th and 25th anniversary classes — reconnect with classmates and raise a glass to the legacy you've built since. \n\n\nDate\nSaturday\, May 16th\nTime\n1:00 PM\nLocation\nGranito Badami Room\n\n\n\n50\nYears\n25\nYears\n\n\n\nAlumni\nFree\nGuests\n$50\nLunch & champagne included\n\n\nRSVP by\nMay 9th
URL:https://www.duny.edu/events/labor-day-university-closed/
CATEGORIES:Academics
END:VEVENT
BEGIN:VEVENT
DTSTART;TZID=America/New_York:20260831T080000
DTEND;TZID=America/New_York:20260904T170000
DTSTAMP:20260424T220753
CREATED:20260413T232833Z
LAST-MODIFIED:20260413T232833Z
UID:10001580-1788163200-1788541200@www.duny.edu
SUMMARY:Late Registration & Drop/Add for Fall Semester
DESCRIPTION:Legacy Class Reunion \nOnce a Charger.\nAlways a Charger.\n\nCome back. Reconnect. Celebrate. \nJoin us for an afternoon honoring the milestone 50th and 25th anniversary classes — reconnect with classmates and raise a glass to the legacy you've built since. \n\n\nDate\nSaturday\, May 16th\nTime\n1:00 PM\nLocation\nGranito Badami Room\n\n\n\n50\nYears\n25\nYears\n\n\n\nAlumni\nFree\nGuests\n$50\nLunch & champagne included\n\n\nRSVP by\nMay 9th
URL:https://www.duny.edu/events/late-registration-drop-add-for-fall-semester/
CATEGORIES:Academics
END:VEVENT
BEGIN:VEVENT
DTSTART;VALUE=DATE:20260828
DTEND;VALUE=DATE:20260830
DTSTAMP:20260424T220753
CREATED:20260327T155714Z
LAST-MODIFIED:20260327T155714Z
UID:10001574-1787875200-1788047999@www.duny.edu
SUMMARY:New Student Orientation
DESCRIPTION:Legacy Class Reunion \nOnce a Charger.\nAlways a Charger.\n\nCome back. Reconnect. Celebrate. \nJoin us for an afternoon honoring the milestone 50th and 25th anniversary classes — reconnect with classmates and raise a glass to the legacy you've built since. \n\n\nDate\nSaturday\, May 16th\nTime\n1:00 PM\nLocation\nGranito Badami Room\n\n\n\n50\nYears\n25\nYears\n\n\n\nAlumni\nFree\nGuests\n$50\nLunch & champagne included\n\n\nRSVP by\nMay 9th
URL:https://www.duny.edu/events/new-student-orientation/
LOCATION:Various Locations
CATEGORIES:Academics,All Events,Faculty and Staff,Student Events
END:VEVENT
BEGIN:VEVENT
DTSTART;VALUE=DATE:20260820
DTEND;VALUE=DATE:20260821
DTSTAMP:20260424T220753
CREATED:20260327T155345Z
LAST-MODIFIED:20260327T155345Z
UID:10001573-1787184000-1787270399@www.duny.edu
SUMMARY:Faculty Conference
DESCRIPTION:Legacy Class Reunion \nOnce a Charger.\nAlways a Charger.\n\nCome back. Reconnect. Celebrate. \nJoin us for an afternoon honoring the milestone 50th and 25th anniversary classes — reconnect with classmates and raise a glass to the legacy you've built since. \n\n\nDate\nSaturday\, May 16th\nTime\n1:00 PM\nLocation\nGranito Badami Room\n\n\n\n50\nYears\n25\nYears\n\n\n\nAlumni\nFree\nGuests\n$50\nLunch & champagne included\n\n\nRSVP by\nMay 9th
URL:https://www.duny.edu/events/faculty-conference/
CATEGORIES:Faculty and Staff
END:VEVENT
BEGIN:VEVENT
DTSTART;TZID=America/New_York:20260819T083000
DTEND;TZID=America/New_York:20260819T083000
DTSTAMP:20260424T220753
CREATED:20260327T155240Z
LAST-MODIFIED:20260327T155240Z
UID:10001572-1787128200-1787128200@www.duny.edu
SUMMARY:University Conference
DESCRIPTION:Legacy Class Reunion \nOnce a Charger.\nAlways a Charger.\n\nCome back. Reconnect. Celebrate. \nJoin us for an afternoon honoring the milestone 50th and 25th anniversary classes — reconnect with classmates and raise a glass to the legacy you've built since. \n\n\nDate\nSaturday\, May 16th\nTime\n1:00 PM\nLocation\nGranito Badami Room\n\n\n\n50\nYears\n25\nYears\n\n\n\nAlumni\nFree\nGuests\n$50\nLunch & champagne included\n\n\nRSVP by\nMay 9th
URL:https://www.duny.edu/events/fall-university-conference/
LOCATION:Granito Center\, 470 Western Highway\, NY\, United States
CATEGORIES:Faculty and Staff
END:VEVENT
BEGIN:VEVENT
DTSTART;VALUE=DATE:20260817
DTEND;VALUE=DATE:20260819
DTSTAMP:20260424T220753
CREATED:20260320T173158Z
LAST-MODIFIED:20260320T173158Z
UID:10001571-1786924800-1787097599@www.duny.edu
SUMMARY:Fall Semester Advisement/Testing/Registration
DESCRIPTION:Legacy Class Reunion \nOnce a Charger.\nAlways a Charger.\n\nCome back. Reconnect. Celebrate. \nJoin us for an afternoon honoring the milestone 50th and 25th anniversary classes — reconnect with classmates and raise a glass to the legacy you've built since. \n\n\nDate\nSaturday\, May 16th\nTime\n1:00 PM\nLocation\nGranito Badami Room\n\n\n\n50\nYears\n25\nYears\n\n\n\nAlumni\nFree\nGuests\n$50\nLunch & champagne included\n\n\nRSVP by\nMay 9th
URL:https://www.duny.edu/events/fall-semester-advisement-testing-registration/
CATEGORIES:Academics
END:VEVENT
BEGIN:VEVENT
DTSTART;TZID=America/New_York:20260812T173000
DTEND;TZID=America/New_York:20260812T190000
DTSTAMP:20260424T220753
CREATED:20250707T180324Z
LAST-MODIFIED:20250707T194925Z
UID:10001434-1786555800-1786561200@www.duny.edu
SUMMARY:Virtual Info Session
DESCRIPTION:Legacy Class Reunion \nOnce a Charger.\nAlways a Charger.\n\nCome back. Reconnect. Celebrate. \nJoin us for an afternoon honoring the milestone 50th and 25th anniversary classes — reconnect with classmates and raise a glass to the legacy you've built since. \n\n\nDate\nSaturday\, May 16th\nTime\n1:00 PM\nLocation\nGranito Badami Room\n\n\n\n50\nYears\n25\nYears\n\n\n\nAlumni\nFree\nGuests\n$50\nLunch & champagne included\n\n\nRSVP by\nMay 9th
URL:https://www.duny.edu/events/virtual-info-session-august-12-2026/
CATEGORIES:Admissions,All Events,Open House
ORGANIZER;CN="Dominican University Office of Admissions":MAILTO:admissions@duny.edu
END:VEVENT
BEGIN:VEVENT
DTSTART;TZID=America/New_York:20260715T173000
DTEND;TZID=America/New_York:20260715T190000
DTSTAMP:20260424T220753
CREATED:20250707T160722Z
LAST-MODIFIED:20250707T160723Z
UID:10001433-1784136600-1784142000@www.duny.edu
SUMMARY:Virtual Info Session
DESCRIPTION:Legacy Class Reunion \nOnce a Charger.\nAlways a Charger.\n\nCome back. Reconnect. Celebrate. \nJoin us for an afternoon honoring the milestone 50th and 25th anniversary classes — reconnect with classmates and raise a glass to the legacy you've built since. \n\n\nDate\nSaturday\, May 16th\nTime\n1:00 PM\nLocation\nGranito Badami Room\n\n\n\n50\nYears\n25\nYears\n\n\n\nAlumni\nFree\nGuests\n$50\nLunch & champagne included\n\n\nRSVP by\nMay 9th
URL:https://www.duny.edu/events/virtual-info-session-july-15-2026/
CATEGORIES:Admissions,All Events,Open House
ORGANIZER;CN="Dominican University Office of Admissions":MAILTO:admissions@duny.edu
END:VEVENT
BEGIN:VEVENT
DTSTART;VALUE=DATE:20260703
DTEND;VALUE=DATE:20260706
DTSTAMP:20260424T220753
CREATED:20250605T203816Z
LAST-MODIFIED:20250605T203816Z
UID:10001419-1783036800-1783295999@www.duny.edu
SUMMARY:Independence Day (UNIVERSITY CLOSED)
DESCRIPTION:Legacy Class Reunion \nOnce a Charger.\nAlways a Charger.\n\nCome back. Reconnect. Celebrate. \nJoin us for an afternoon honoring the milestone 50th and 25th anniversary classes — reconnect with classmates and raise a glass to the legacy you've built since. \n\n\nDate\nSaturday\, May 16th\nTime\n1:00 PM\nLocation\nGranito Badami Room\n\n\n\n50\nYears\n25\nYears\n\n\n\nAlumni\nFree\nGuests\n$50\nLunch & champagne included\n\n\nRSVP by\nMay 9th
URL:https://www.duny.edu/events/independence-day-university-closed/
CATEGORIES:Academics,All Events,Faculty and Staff
END:VEVENT
BEGIN:VEVENT
DTSTART;VALUE=DATE:20260630
DTEND;VALUE=DATE:20260701
DTSTAMP:20260424T220753
CREATED:20250605T203420Z
LAST-MODIFIED:20250605T203420Z
UID:10001418-1782777600-1782863999@www.duny.edu
SUMMARY:MBA/MSOLC Session VI Begins
DESCRIPTION:Legacy Class Reunion \nOnce a Charger.\nAlways a Charger.\n\nCome back. Reconnect. Celebrate. \nJoin us for an afternoon honoring the milestone 50th and 25th anniversary classes — reconnect with classmates and raise a glass to the legacy you've built since. \n\n\nDate\nSaturday\, May 16th\nTime\n1:00 PM\nLocation\nGranito Badami Room\n\n\n\n50\nYears\n25\nYears\n\n\n\nAlumni\nFree\nGuests\n$50\nLunch & champagne included\n\n\nRSVP by\nMay 9th
URL:https://www.duny.edu/events/mba-msolc-session-vi-begins-3/
CATEGORIES:Academics
END:VEVENT
BEGIN:VEVENT
DTSTART;VALUE=DATE:20260623
DTEND;VALUE=DATE:20260624
DTSTAMP:20260424T220753
CREATED:20250605T203313Z
LAST-MODIFIED:20250605T203313Z
UID:10001417-1782172800-1782259199@www.duny.edu
SUMMARY:Day/Evening Summer Session III
DESCRIPTION:Legacy Class Reunion \nOnce a Charger.\nAlways a Charger.\n\nCome back. Reconnect. Celebrate. \nJoin us for an afternoon honoring the milestone 50th and 25th anniversary classes — reconnect with classmates and raise a glass to the legacy you've built since. \n\n\nDate\nSaturday\, May 16th\nTime\n1:00 PM\nLocation\nGranito Badami Room\n\n\n\n50\nYears\n25\nYears\n\n\n\nAlumni\nFree\nGuests\n$50\nLunch & champagne included\n\n\nRSVP by\nMay 9th
URL:https://www.duny.edu/events/day-evening-summer-session-iii-3/
CATEGORIES:Academics
END:VEVENT
BEGIN:VEVENT
DTSTART;VALUE=DATE:20260619
DTEND;VALUE=DATE:20260620
DTSTAMP:20260424T220753
CREATED:20250605T203127Z
LAST-MODIFIED:20250605T203127Z
UID:10001416-1781827200-1781913599@www.duny.edu
SUMMARY:Juneteenth (UNIVERSITY CLOSED)
DESCRIPTION:Legacy Class Reunion \nOnce a Charger.\nAlways a Charger.\n\nCome back. Reconnect. Celebrate. \nJoin us for an afternoon honoring the milestone 50th and 25th anniversary classes — reconnect with classmates and raise a glass to the legacy you've built since. \n\n\nDate\nSaturday\, May 16th\nTime\n1:00 PM\nLocation\nGranito Badami Room\n\n\n\n50\nYears\n25\nYears\n\n\n\nAlumni\nFree\nGuests\n$50\nLunch & champagne included\n\n\nRSVP by\nMay 9th
URL:https://www.duny.edu/events/juneteenth-university-closed/
CATEGORIES:Academics,Faculty and Staff,Student Events
END:VEVENT
BEGIN:VEVENT
DTSTART;VALUE=DATE:20260615
DTEND;VALUE=DATE:20260722
DTSTAMP:20260424T220753
CREATED:20250605T195445Z
LAST-MODIFIED:20250605T195445Z
UID:10001406-1781481600-1784678399@www.duny.edu
SUMMARY:Day/Evening Summer Session II
DESCRIPTION:Legacy Class Reunion \nOnce a Charger.\nAlways a Charger.\n\nCome back. Reconnect. Celebrate. \nJoin us for an afternoon honoring the milestone 50th and 25th anniversary classes — reconnect with classmates and raise a glass to the legacy you've built since. \n\n\nDate\nSaturday\, May 16th\nTime\n1:00 PM\nLocation\nGranito Badami Room\n\n\n\n50\nYears\n25\nYears\n\n\n\nAlumni\nFree\nGuests\n$50\nLunch & champagne included\n\n\nRSVP by\nMay 9th
URL:https://www.duny.edu/events/day-evening-summer-session-ii-3/
CATEGORIES:Academics
END:VEVENT
BEGIN:VEVENT
DTSTART;VALUE=DATE:20260615
DTEND;VALUE=DATE:20260616
DTSTAMP:20260424T220753
CREATED:20240530T201544Z
LAST-MODIFIED:20260423T205647Z
UID:10001069-1781481600-1781567999@www.duny.edu
SUMMARY:Golf Classic
DESCRIPTION:Legacy Class Reunion \nOnce a Charger.\nAlways a Charger.\n\nCome back. Reconnect. Celebrate. \nJoin us for an afternoon honoring the milestone 50th and 25th anniversary classes — reconnect with classmates and raise a glass to the legacy you've built since. \n\n\nDate\nSaturday\, May 16th\nTime\n1:00 PM\nLocation\nGranito Badami Room\n\n\n\n50\nYears\n25\nYears\n\n\n\nAlumni\nFree\nGuests\n$50\nLunch & champagne included\n\n\nRSVP by\nMay 9th
URL:https://www.duny.edu/events/golf-classic/
LOCATION:Rockland County Club\, 380 Route 9W\, Sparkill\, NY\, 10976\, United States
CATEGORIES:All Events,Alumni Events,Community Events & Workshops,Faculty and Staff
ORGANIZER;CN="Bruna Ambrose%2C Director of Special Events":MAILTO:Bruna.Ambrose@duny.edu
END:VEVENT
BEGIN:VEVENT
DTSTART;TZID=America/New_York:20260613T100000
DTEND;TZID=America/New_York:20260613T150000
DTSTAMP:20260424T220753
CREATED:20260331T180859Z
LAST-MODIFIED:20260423T163842Z
UID:10001577-1781344800-1781362800@www.duny.edu
SUMMARY:Rockland County Writers Festival
DESCRIPTION:Legacy Class Reunion \nOnce a Charger.\nAlways a Charger.\n\nCome back. Reconnect. Celebrate. \nJoin us for an afternoon honoring the milestone 50th and 25th anniversary classes — reconnect with classmates and raise a glass to the legacy you've built since. \n\n\nDate\nSaturday\, May 16th\nTime\n1:00 PM\nLocation\nGranito Badami Room\n\n\n\n50\nYears\n25\nYears\n\n\n\nAlumni\nFree\nGuests\n$50\nLunch & champagne included\n\n\nRSVP by\nMay 9th
URL:https://www.duny.edu/events/rockland-county-writers-festival/
LOCATION:Granito Center\, 470 Western Highway\, NY\, United States
END:VEVENT
BEGIN:VEVENT
DTSTART;VALUE=DATE:20260613
DTEND;VALUE=DATE:20260614
DTSTAMP:20260424T220753
CREATED:20260214T211011Z
LAST-MODIFIED:20260324T194605Z
UID:10001548-1781308800-1781395199@www.duny.edu
SUMMARY:Athletics Hall of Fame Induction Ceremony
DESCRIPTION:Legacy Class Reunion \nOnce a Charger.\nAlways a Charger.\n\nCome back. Reconnect. Celebrate. \nJoin us for an afternoon honoring the milestone 50th and 25th anniversary classes — reconnect with classmates and raise a glass to the legacy you've built since. \n\n\nDate\nSaturday\, May 16th\nTime\n1:00 PM\nLocation\nGranito Badami Room\n\n\n\n50\nYears\n25\nYears\n\n\n\nAlumni\nFree\nGuests\n$50\nLunch & champagne included\n\n\nRSVP by\nMay 9th
URL:https://www.duny.edu/events/athletics-hall-of-fame-induction-ceremony/
CATEGORIES:Alumni Events
ORGANIZER;CN="Margaret Treacy%2C Director of Annual Giving and Alumni & Parent Relations":MAILTO:Margaret.Treacy@duny.edu
END:VEVENT
BEGIN:VEVENT
DTSTART;TZID=America/New_York:20260610T173000
DTEND;TZID=America/New_York:20260610T193000
DTSTAMP:20260424T220753
CREATED:20250707T155946Z
LAST-MODIFIED:20250707T160340Z
UID:10001432-1781112600-1781119800@www.duny.edu
SUMMARY:Virtual Info Session
DESCRIPTION:Legacy Class Reunion \nOnce a Charger.\nAlways a Charger.\n\nCome back. Reconnect. Celebrate. \nJoin us for an afternoon honoring the milestone 50th and 25th anniversary classes — reconnect with classmates and raise a glass to the legacy you've built since. \n\n\nDate\nSaturday\, May 16th\nTime\n1:00 PM\nLocation\nGranito Badami Room\n\n\n\n50\nYears\n25\nYears\n\n\n\nAlumni\nFree\nGuests\n$50\nLunch & champagne included\n\n\nRSVP by\nMay 9th
URL:https://www.duny.edu/events/virtual-info-session-june-10-2026/
CATEGORIES:Admissions,Open House
ORGANIZER;CN="Dominican University Office of Admissions":MAILTO:admissions@duny.edu
END:VEVENT
BEGIN:VEVENT
DTSTART;VALUE=DATE:20260610
DTEND;VALUE=DATE:20260611
DTSTAMP:20260424T220753
CREATED:20260216T204939Z
LAST-MODIFIED:20260216T204939Z
UID:10001551-1781049600-1781135999@www.duny.edu
SUMMARY:Northern New Jersey Chamber of Commerce Speed Networking event
DESCRIPTION:Legacy Class Reunion \nOnce a Charger.\nAlways a Charger.\n\nCome back. Reconnect. Celebrate. \nJoin us for an afternoon honoring the milestone 50th and 25th anniversary classes — reconnect with classmates and raise a glass to the legacy you've built since. \n\n\nDate\nSaturday\, May 16th\nTime\n1:00 PM\nLocation\nGranito Badami Room\n\n\n\n50\nYears\n25\nYears\n\n\n\nAlumni\nFree\nGuests\n$50\nLunch & champagne included\n\n\nRSVP by\nMay 9th
URL:https://www.duny.edu/events/northern-new-jersey-chamber-of-commerce-speed-networking-event/
CATEGORIES:Community Events & Workshops
ORGANIZER;CN="Joanne F. Sorace%2C Director of Major Gifts":MAILTO:joanne.sorace@duny.edu
END:VEVENT
BEGIN:VEVENT
DTSTART;VALUE=DATE:20260527
DTEND;VALUE=DATE:20260612
DTSTAMP:20260424T220753
CREATED:20250605T195625Z
LAST-MODIFIED:20250605T195625Z
UID:10001407-1779840000-1781222399@www.duny.edu
SUMMARY:Day/Evening Summer Session I
DESCRIPTION:Legacy Class Reunion \nOnce a Charger.\nAlways a Charger.\n\nCome back. Reconnect. Celebrate. \nJoin us for an afternoon honoring the milestone 50th and 25th anniversary classes — reconnect with classmates and raise a glass to the legacy you've built since. \n\n\nDate\nSaturday\, May 16th\nTime\n1:00 PM\nLocation\nGranito Badami Room\n\n\n\n50\nYears\n25\nYears\n\n\n\nAlumni\nFree\nGuests\n$50\nLunch & champagne included\n\n\nRSVP by\nMay 9th
URL:https://www.duny.edu/events/day-evening-summer-session-i-3/
CATEGORIES:Academics
END:VEVENT
BEGIN:VEVENT
DTSTART;VALUE=DATE:20260527
DTEND;VALUE=DATE:20260528
DTSTAMP:20260424T220753
CREATED:20250613T134333Z
LAST-MODIFIED:20250613T134333Z
UID:10001422-1779840000-1779926399@www.duny.edu
SUMMARY:Eid al Adha
DESCRIPTION:Legacy Class Reunion \nOnce a Charger.\nAlways a Charger.\n\nCome back. Reconnect. Celebrate. \nJoin us for an afternoon honoring the milestone 50th and 25th anniversary classes — reconnect with classmates and raise a glass to the legacy you've built since. \n\n\nDate\nSaturday\, May 16th\nTime\n1:00 PM\nLocation\nGranito Badami Room\n\n\n\n50\nYears\n25\nYears\n\n\n\nAlumni\nFree\nGuests\n$50\nLunch & champagne included\n\n\nRSVP by\nMay 9th
URL:https://www.duny.edu/events/eid-al-adha-3/
CATEGORIES:All Events
END:VEVENT
BEGIN:VEVENT
DTSTART;VALUE=DATE:20260526
DTEND;VALUE=DATE:20260527
DTSTAMP:20260424T220753
CREATED:20250605T195848Z
LAST-MODIFIED:20250605T195904Z
UID:10001409-1779753600-1779839999@www.duny.edu
SUMMARY:Graduate Nursing Summer Semester Begins
DESCRIPTION:Legacy Class Reunion \nOnce a Charger.\nAlways a Charger.\n\nCome back. Reconnect. Celebrate. \nJoin us for an afternoon honoring the milestone 50th and 25th anniversary classes — reconnect with classmates and raise a glass to the legacy you've built since. \n\n\nDate\nSaturday\, May 16th\nTime\n1:00 PM\nLocation\nGranito Badami Room\n\n\n\n50\nYears\n25\nYears\n\n\n\nAlumni\nFree\nGuests\n$50\nLunch & champagne included\n\n\nRSVP by\nMay 9th
URL:https://www.duny.edu/events/graduate-nursing-summer-trimester-begins/
CATEGORIES:Academics
END:VEVENT
BEGIN:VEVENT
DTSTART;VALUE=DATE:20260526
DTEND;VALUE=DATE:20260527
DTSTAMP:20260424T220753
CREATED:20250605T195735Z
LAST-MODIFIED:20250605T195735Z
UID:10001408-1779753600-1779839999@www.duny.edu
SUMMARY:ABSN Academic Year Begins
DESCRIPTION:Legacy Class Reunion \nOnce a Charger.\nAlways a Charger.\n\nCome back. Reconnect. Celebrate. \nJoin us for an afternoon honoring the milestone 50th and 25th anniversary classes — reconnect with classmates and raise a glass to the legacy you've built since. \n\n\nDate\nSaturday\, May 16th\nTime\n1:00 PM\nLocation\nGranito Badami Room\n\n\n\n50\nYears\n25\nYears\n\n\n\nAlumni\nFree\nGuests\n$50\nLunch & champagne included\n\n\nRSVP by\nMay 9th
URL:https://www.duny.edu/events/absn-academic-year-begins-3/
CATEGORIES:Academics
END:VEVENT
BEGIN:VEVENT
DTSTART;VALUE=DATE:20260525
DTEND;VALUE=DATE:20260526
DTSTAMP:20260424T220753
CREATED:20250605T200213Z
LAST-MODIFIED:20250605T200213Z
UID:10001410-1779667200-1779753599@www.duny.edu
SUMMARY:Memorial Day (UNIVERSITY CLOSED)
DESCRIPTION:Legacy Class Reunion \nOnce a Charger.\nAlways a Charger.\n\nCome back. Reconnect. Celebrate. \nJoin us for an afternoon honoring the milestone 50th and 25th anniversary classes — reconnect with classmates and raise a glass to the legacy you've built since. \n\n\nDate\nSaturday\, May 16th\nTime\n1:00 PM\nLocation\nGranito Badami Room\n\n\n\n50\nYears\n25\nYears\n\n\n\nAlumni\nFree\nGuests\n$50\nLunch & champagne included\n\n\nRSVP by\nMay 9th
URL:https://www.duny.edu/events/memorial-day-university-closed/
CATEGORIES:Academics,Faculty and Staff
END:VEVENT
BEGIN:VEVENT
DTSTART;VALUE=DATE:20260518
DTEND;VALUE=DATE:20260519
DTSTAMP:20260424T220753
CREATED:20250604T174514Z
LAST-MODIFIED:20260417T184926Z
UID:10001405-1779062400-1779148799@www.duny.edu
SUMMARY:Nursing Pinning Ceremony
DESCRIPTION:Legacy Class Reunion \nOnce a Charger.\nAlways a Charger.\n\nCome back. Reconnect. Celebrate. \nJoin us for an afternoon honoring the milestone 50th and 25th anniversary classes — reconnect with classmates and raise a glass to the legacy you've built since. \n\n\nDate\nSaturday\, May 16th\nTime\n1:00 PM\nLocation\nGranito Badami Room\n\n\n\n50\nYears\n25\nYears\n\n\n\nAlumni\nFree\nGuests\n$50\nLunch & champagne included\n\n\nRSVP by\nMay 9th
URL:https://www.duny.edu/events/nurse-pinning-ceremony/
LOCATION:Hennessy Center\, 495 Western Highway\, Blauvelt\, NY\, 10913\, United States
CATEGORIES:Commencement
END:VEVENT
BEGIN:VEVENT
DTSTART;VALUE=DATE:20260517
DTEND;VALUE=DATE:20260518
DTSTAMP:20260424T220753
CREATED:20250224T153427Z
LAST-MODIFIED:20250224T153427Z
UID:10001344-1778976000-1779062399@www.duny.edu
SUMMARY:Commencement Class of 2026
DESCRIPTION:Legacy Class Reunion \nOnce a Charger.\nAlways a Charger.\n\nCome back. Reconnect. Celebrate. \nJoin us for an afternoon honoring the milestone 50th and 25th anniversary classes — reconnect with classmates and raise a glass to the legacy you've built since. \n\n\nDate\nSaturday\, May 16th\nTime\n1:00 PM\nLocation\nGranito Badami Room\n\n\n\n50\nYears\n25\nYears\n\n\n\nAlumni\nFree\nGuests\n$50\nLunch & champagne included\n\n\nRSVP by\nMay 9th
URL:https://www.duny.edu/events/commencement-class-of-2026/
CATEGORIES:Academics,All Events,Commencement,Faculty and Staff
END:VEVENT
BEGIN:VEVENT
DTSTART;TZID=America/New_York:20260516T160000
DTEND;TZID=America/New_York:20260516T160000
DTSTAMP:20260424T220753
CREATED:20260121T164113Z
LAST-MODIFIED:20260121T164113Z
UID:10001537-1778947200-1778947200@www.duny.edu
SUMMARY:Graduation Mass
DESCRIPTION:Legacy Class Reunion \nOnce a Charger.\nAlways a Charger.\n\nCome back. Reconnect. Celebrate. \nJoin us for an afternoon honoring the milestone 50th and 25th anniversary classes — reconnect with classmates and raise a glass to the legacy you've built since. \n\n\nDate\nSaturday\, May 16th\nTime\n1:00 PM\nLocation\nGranito Badami Room\n\n\n\n50\nYears\n25\nYears\n\n\n\nAlumni\nFree\nGuests\n$50\nLunch & champagne included\n\n\nRSVP by\nMay 9th
URL:https://www.duny.edu/events/graduation-mass-2/
LOCATION:Sisters of St. Dominic Motherhouse Chapel\, 496 Western Highway\, Blauvelt\, NY\, 10913\, United States
CATEGORIES:All Events,Commencement,Community Events & Workshops,Faculty and Staff,Senior Special Events,Student Events
END:VEVENT
BEGIN:VEVENT
DTSTART;TZID=America/New_York:20260516T130000
DTEND;TZID=America/New_York:20260516T150000
DTSTAMP:20260424T220753
CREATED:20260423T183521Z
LAST-MODIFIED:20260423T183557Z
UID:10001602-1778936400-1778943600@www.duny.edu
SUMMARY:
DESCRIPTION:Legacy Class Reunion \nOnce a Charger.\nAlways a Charger.\n\nCome back. Reconnect. Celebrate. \nJoin us for an afternoon honoring the milestone 50th and 25th anniversary classes — reconnect with classmates and raise a glass to the legacy you've built since. \n\n\nDate\nSaturday\, May 16th\nTime\n1:00 PM\nLocation\nGranito Badami Room\n\n\n\n50\nYears\n25\nYears\n\n\n\nAlumni\nFree\nGuests\n$50\nLunch & champagne included\n\n\nRSVP by\nMay 9th
URL:https://www.duny.edu/events/legacy-reunion-2026/
LOCATION:Badami Room
ORGANIZER;CN="Margaret Treacy%2C Director of Annual Giving and Alumni & Parent Relations":MAILTO:Margaret.Treacy@duny.edu
END:VEVENT
BEGIN:VEVENT
DTSTART;VALUE=DATE:20260516
DTEND;VALUE=DATE:20260517
DTSTAMP:20260424T220753
CREATED:20250224T153238Z
LAST-MODIFIED:20260121T164203Z
UID:10001343-1778889600-1778975999@www.duny.edu
SUMMARY:Baccalaurate Awards Ceremony
DESCRIPTION:Legacy Class Reunion \nOnce a Charger.\nAlways a Charger.\n\nCome back. Reconnect. Celebrate. \nJoin us for an afternoon honoring the milestone 50th and 25th anniversary classes — reconnect with classmates and raise a glass to the legacy you've built since. \n\n\nDate\nSaturday\, May 16th\nTime\n1:00 PM\nLocation\nGranito Badami Room\n\n\n\n50\nYears\n25\nYears\n\n\n\nAlumni\nFree\nGuests\n$50\nLunch & champagne included\n\n\nRSVP by\nMay 9th
URL:https://www.duny.edu/events/graduation-mass-and-baccalaurate-awards-ceremony/
CATEGORIES:Academics,All Events,Faculty and Staff
END:VEVENT
END:VCALENDAR