BEGIN:VCALENDAR
VERSION:2.0
PRODID:-//Dominican University - ECPv6.15.18//NONSGML v1.0//EN
CALSCALE:GREGORIAN
METHOD:PUBLISH
X-WR-CALNAME:Dominican University
X-ORIGINAL-URL:https://www.duny.edu
X-WR-CALDESC:Events for Dominican University
REFRESH-INTERVAL;VALUE=DURATION:PT1H
X-Robots-Tag:noindex
X-PUBLISHED-TTL:PT1H
BEGIN:VTIMEZONE
TZID:America/New_York
BEGIN:DAYLIGHT
TZOFFSETFROM:-0500
TZOFFSETTO:-0400
TZNAME:EDT
DTSTART:20240310T070000
END:DAYLIGHT
BEGIN:STANDARD
TZOFFSETFROM:-0400
TZOFFSETTO:-0500
TZNAME:EST
DTSTART:20241103T060000
END:STANDARD
BEGIN:DAYLIGHT
TZOFFSETFROM:-0500
TZOFFSETTO:-0400
TZNAME:EDT
DTSTART:20250309T070000
END:DAYLIGHT
BEGIN:STANDARD
TZOFFSETFROM:-0400
TZOFFSETTO:-0500
TZNAME:EST
DTSTART:20251102T060000
END:STANDARD
BEGIN:DAYLIGHT
TZOFFSETFROM:-0500
TZOFFSETTO:-0400
TZNAME:EDT
DTSTART:20260308T070000
END:DAYLIGHT
BEGIN:STANDARD
TZOFFSETFROM:-0400
TZOFFSETTO:-0500
TZNAME:EST
DTSTART:20261101T060000
END:STANDARD
END:VTIMEZONE
BEGIN:VEVENT
DTSTART;VALUE=DATE:20250701
DTEND;VALUE=DATE:20250729
DTSTAMP:20260425T091638
CREATED:20240924T010543Z
LAST-MODIFIED:20240924T010543Z
UID:10001190-1751328000-1753747199@www.duny.edu
SUMMARY:Day/Evening Summer Session III
DESCRIPTION:Legacy Class Reunion \nOnce a Charger.\nAlways a Charger.\n\nCome back. Reconnect. Celebrate. \nJoin us for an afternoon honoring the milestone 50th and 25th anniversary classes — reconnect with classmates and raise a glass to the legacy you've built since. \n\n\nDate\nSaturday\, May 16th\nTime\n1:00 PM\nLocation\nGranito Badami Room\n\n\n\n50\nYears\n25\nYears\n\n\n\nAlumni\nFree\nGuests\n$50\nLunch & champagne included\n\n\nRSVP by\nMay 9th
URL:https://www.duny.edu/events/day-evening-summer-session-iii-2/
CATEGORIES:Academics
END:VEVENT
BEGIN:VEVENT
DTSTART;VALUE=DATE:20250726
DTEND;VALUE=DATE:20250727
DTSTAMP:20260425T091638
CREATED:20250605T205829Z
LAST-MODIFIED:20250605T205829Z
UID:10001420-1753488000-1753574399@www.duny.edu
SUMMARY:MBA/MSOLC Session I Begins
DESCRIPTION:Legacy Class Reunion \nOnce a Charger.\nAlways a Charger.\n\nCome back. Reconnect. Celebrate. \nJoin us for an afternoon honoring the milestone 50th and 25th anniversary classes — reconnect with classmates and raise a glass to the legacy you've built since. \n\n\nDate\nSaturday\, May 16th\nTime\n1:00 PM\nLocation\nGranito Badami Room\n\n\n\n50\nYears\n25\nYears\n\n\n\nAlumni\nFree\nGuests\n$50\nLunch & champagne included\n\n\nRSVP by\nMay 9th
URL:https://www.duny.edu/events/mba-msolc-session-i-begins-2/
CATEGORIES:Academics
END:VEVENT
BEGIN:VEVENT
DTSTART;TZID=America/New_York:20250731T203000
DTEND;TZID=America/New_York:20250731T203000
DTSTAMP:20260425T091638
CREATED:20250718T211405Z
LAST-MODIFIED:20260413T232038Z
UID:10001462-1753993800-1753993800@www.duny.edu
SUMMARY:Summer Movie Nights: The Garfield Movie
DESCRIPTION:Legacy Class Reunion \nOnce a Charger.\nAlways a Charger.\n\nCome back. Reconnect. Celebrate. \nJoin us for an afternoon honoring the milestone 50th and 25th anniversary classes — reconnect with classmates and raise a glass to the legacy you've built since. \n\n\nDate\nSaturday\, May 16th\nTime\n1:00 PM\nLocation\nGranito Badami Room\n\n\n\n50\nYears\n25\nYears\n\n\n\nAlumni\nFree\nGuests\n$50\nLunch & champagne included\n\n\nRSVP by\nMay 9th
URL:https://www.duny.edu/events/65204/
LOCATION:Doering Quad\, Campus Drive\, Blauvelt\, NY\, 10913\, United States
CATEGORIES:All Events,Alumni Events,Community Events & Workshops,Faculty and Staff,Student Events
ORGANIZER;CN="Dana McStowe%2C Associate Director of Student Engagement":MAILTO:dana.mcstowe@duny.edu
END:VEVENT
BEGIN:VEVENT
DTSTART;TZID=America/New_York:20250808T110000
DTEND;TZID=America/New_York:20250808T110000
DTSTAMP:20260425T091638
CREATED:20250521T143009Z
LAST-MODIFIED:20250729T195215Z
UID:10001374-1754650800-1754650800@www.duny.edu
SUMMARY:Feast Day of St. Dominic
DESCRIPTION:Legacy Class Reunion \nOnce a Charger.\nAlways a Charger.\n\nCome back. Reconnect. Celebrate. \nJoin us for an afternoon honoring the milestone 50th and 25th anniversary classes — reconnect with classmates and raise a glass to the legacy you've built since. \n\n\nDate\nSaturday\, May 16th\nTime\n1:00 PM\nLocation\nGranito Badami Room\n\n\n\n50\nYears\n25\nYears\n\n\n\nAlumni\nFree\nGuests\n$50\nLunch & champagne included\n\n\nRSVP by\nMay 9th
URL:https://www.duny.edu/events/feast-day-of-st-dominic/
CATEGORIES:All Events,Faculty and Staff,Student Events
END:VEVENT
BEGIN:VEVENT
DTSTART;TZID=America/New_York:20250813T173000
DTEND;TZID=America/New_York:20250813T190000
DTSTAMP:20260425T091638
CREATED:20240613T162455Z
LAST-MODIFIED:20250722T152255Z
UID:10001090-1755106200-1755111600@www.duny.edu
SUMMARY:Virtual Info Session
DESCRIPTION:Legacy Class Reunion \nOnce a Charger.\nAlways a Charger.\n\nCome back. Reconnect. Celebrate. \nJoin us for an afternoon honoring the milestone 50th and 25th anniversary classes — reconnect with classmates and raise a glass to the legacy you've built since. \n\n\nDate\nSaturday\, May 16th\nTime\n1:00 PM\nLocation\nGranito Badami Room\n\n\n\n50\nYears\n25\nYears\n\n\n\nAlumni\nFree\nGuests\n$50\nLunch & champagne included\n\n\nRSVP by\nMay 9th
URL:https://www.duny.edu/events/virtual-info-session-aug-13-2025/
LOCATION:hosted on Microsoft Teams
CATEGORIES:Admissions,All Events
END:VEVENT
BEGIN:VEVENT
DTSTART;VALUE=DATE:20250815
DTEND;VALUE=DATE:20250816
DTSTAMP:20260425T091638
CREATED:20240626T142441Z
LAST-MODIFIED:20250521T143333Z
UID:10001096-1755216000-1755302399@www.duny.edu
SUMMARY:Assumption of Mary
DESCRIPTION:Legacy Class Reunion \nOnce a Charger.\nAlways a Charger.\n\nCome back. Reconnect. Celebrate. \nJoin us for an afternoon honoring the milestone 50th and 25th anniversary classes — reconnect with classmates and raise a glass to the legacy you've built since. \n\n\nDate\nSaturday\, May 16th\nTime\n1:00 PM\nLocation\nGranito Badami Room\n\n\n\n50\nYears\n25\nYears\n\n\n\nAlumni\nFree\nGuests\n$50\nLunch & champagne included\n\n\nRSVP by\nMay 9th
URL:https://www.duny.edu/events/assumption-of-mary-2/
CATEGORIES:All Events
END:VEVENT
BEGIN:VEVENT
DTSTART;TZID=America/New_York:20250820T093000
DTEND;TZID=America/New_York:20250820T130000
DTSTAMP:20260425T091638
CREATED:20250120T154955Z
LAST-MODIFIED:20250731T132449Z
UID:10001274-1755682200-1755694800@www.duny.edu
SUMMARY:University Conference & Service Recognitions
DESCRIPTION:Legacy Class Reunion \nOnce a Charger.\nAlways a Charger.\n\nCome back. Reconnect. Celebrate. \nJoin us for an afternoon honoring the milestone 50th and 25th anniversary classes — reconnect with classmates and raise a glass to the legacy you've built since. \n\n\nDate\nSaturday\, May 16th\nTime\n1:00 PM\nLocation\nGranito Badami Room\n\n\n\n50\nYears\n25\nYears\n\n\n\nAlumni\nFree\nGuests\n$50\nLunch & champagne included\n\n\nRSVP by\nMay 9th
URL:https://www.duny.edu/events/university-conference-service-recognitions/
LOCATION:Granito Center\, 470 Western Highway\, NY\, United States
CATEGORIES:All Events,Faculty and Staff
END:VEVENT
BEGIN:VEVENT
DTSTART;TZID=America/New_York:20250821T000000
DTEND;TZID=America/New_York:20250821T000000
DTSTAMP:20260425T091638
CREATED:20250120T155235Z
LAST-MODIFIED:20250120T155345Z
UID:10001275-1755734400-1755734400@www.duny.edu
SUMMARY:Faculty Conference/Division Meetings
DESCRIPTION:Legacy Class Reunion \nOnce a Charger.\nAlways a Charger.\n\nCome back. Reconnect. Celebrate. \nJoin us for an afternoon honoring the milestone 50th and 25th anniversary classes — reconnect with classmates and raise a glass to the legacy you've built since. \n\n\nDate\nSaturday\, May 16th\nTime\n1:00 PM\nLocation\nGranito Badami Room\n\n\n\n50\nYears\n25\nYears\n\n\n\nAlumni\nFree\nGuests\n$50\nLunch & champagne included\n\n\nRSVP by\nMay 9th
URL:https://www.duny.edu/events/faculty-conference-division-meetings/
CATEGORIES:Faculty and Staff
END:VEVENT
BEGIN:VEVENT
DTSTART;TZID=America/New_York:20250822T080000
DTEND;TZID=America/New_York:20250823T180000
DTSTAMP:20260425T091638
CREATED:20250120T163248Z
LAST-MODIFIED:20250120T163248Z
UID:10001276-1755849600-1755972000@www.duny.edu
SUMMARY:New Student Orientation
DESCRIPTION:Legacy Class Reunion \nOnce a Charger.\nAlways a Charger.\n\nCome back. Reconnect. Celebrate. \nJoin us for an afternoon honoring the milestone 50th and 25th anniversary classes — reconnect with classmates and raise a glass to the legacy you've built since. \n\n\nDate\nSaturday\, May 16th\nTime\n1:00 PM\nLocation\nGranito Badami Room\n\n\n\n50\nYears\n25\nYears\n\n\n\nAlumni\nFree\nGuests\n$50\nLunch & champagne included\n\n\nRSVP by\nMay 9th
URL:https://www.duny.edu/events/new-student-orientation-3/
LOCATION:Multiple Locations\, NY
CATEGORIES:All Events,Student Events
END:VEVENT
BEGIN:VEVENT
DTSTART;VALUE=DATE:20250823
DTEND;VALUE=DATE:20250824
DTSTAMP:20260425T091638
CREATED:20250120T163600Z
LAST-MODIFIED:20250120T163600Z
UID:10001277-1755907200-1755993599@www.duny.edu
SUMMARY:New Student Convocation
DESCRIPTION:Legacy Class Reunion \nOnce a Charger.\nAlways a Charger.\n\nCome back. Reconnect. Celebrate. \nJoin us for an afternoon honoring the milestone 50th and 25th anniversary classes — reconnect with classmates and raise a glass to the legacy you've built since. \n\n\nDate\nSaturday\, May 16th\nTime\n1:00 PM\nLocation\nGranito Badami Room\n\n\n\n50\nYears\n25\nYears\n\n\n\nAlumni\nFree\nGuests\n$50\nLunch & champagne included\n\n\nRSVP by\nMay 9th
URL:https://www.duny.edu/events/new-student-convocation-2/
CATEGORIES:All Events,Student Events
END:VEVENT
BEGIN:VEVENT
DTSTART;VALUE=DATE:20250823
DTEND;VALUE=DATE:20250824
DTSTAMP:20260425T091638
CREATED:20250521T144241Z
LAST-MODIFIED:20250521T144241Z
UID:10001375-1755907200-1755993599@www.duny.edu
SUMMARY:Feast Day of St. Rose of Lima
DESCRIPTION:Legacy Class Reunion \nOnce a Charger.\nAlways a Charger.\n\nCome back. Reconnect. Celebrate. \nJoin us for an afternoon honoring the milestone 50th and 25th anniversary classes — reconnect with classmates and raise a glass to the legacy you've built since. \n\n\nDate\nSaturday\, May 16th\nTime\n1:00 PM\nLocation\nGranito Badami Room\n\n\n\n50\nYears\n25\nYears\n\n\n\nAlumni\nFree\nGuests\n$50\nLunch & champagne included\n\n\nRSVP by\nMay 9th
URL:https://www.duny.edu/events/feast-day-of-st-rose-of-lima/
END:VEVENT
BEGIN:VEVENT
DTSTART;TZID=America/New_York:20250823T080000
DTEND;TZID=America/New_York:20250823T080000
DTSTAMP:20260425T091638
CREATED:20250120T164118Z
LAST-MODIFIED:20250120T164118Z
UID:10001278-1755936000-1755936000@www.duny.edu
SUMMARY:Graduate Education Quarter I/V Begins
DESCRIPTION:Legacy Class Reunion \nOnce a Charger.\nAlways a Charger.\n\nCome back. Reconnect. Celebrate. \nJoin us for an afternoon honoring the milestone 50th and 25th anniversary classes — reconnect with classmates and raise a glass to the legacy you've built since. \n\n\nDate\nSaturday\, May 16th\nTime\n1:00 PM\nLocation\nGranito Badami Room\n\n\n\n50\nYears\n25\nYears\n\n\n\nAlumni\nFree\nGuests\n$50\nLunch & champagne included\n\n\nRSVP by\nMay 9th
URL:https://www.duny.edu/events/graduate-education-quarter-i-v-begins-3/
CATEGORIES:Academics,Faculty and Staff
END:VEVENT
BEGIN:VEVENT
DTSTART;TZID=America/New_York:20250824T190000
DTEND;TZID=America/New_York:20250824T190000
DTSTAMP:20260425T091638
CREATED:20250815T005012Z
LAST-MODIFIED:20260413T231842Z
UID:10001467-1756062000-1756062000@www.duny.edu
SUMMARY:Campus Mass
DESCRIPTION:Legacy Class Reunion \nOnce a Charger.\nAlways a Charger.\n\nCome back. Reconnect. Celebrate. \nJoin us for an afternoon honoring the milestone 50th and 25th anniversary classes — reconnect with classmates and raise a glass to the legacy you've built since. \n\n\nDate\nSaturday\, May 16th\nTime\n1:00 PM\nLocation\nGranito Badami Room\n\n\n\n50\nYears\n25\nYears\n\n\n\nAlumni\nFree\nGuests\n$50\nLunch & champagne included\n\n\nRSVP by\nMay 9th
URL:https://www.duny.edu/events/campus-mass/2025-08-24/
LOCATION:Rosary Hall Chapel\, 480 Western Highway\, Blauvelt\, NY\, 10913\, United States
CATEGORIES:All Events,Student Events
END:VEVENT
BEGIN:VEVENT
DTSTART;TZID=America/New_York:20250825T080000
DTEND;TZID=America/New_York:20250825T080000
DTSTAMP:20260425T091638
CREATED:20250120T171733Z
LAST-MODIFIED:20250120T171733Z
UID:10001279-1756108800-1756108800@www.duny.edu
SUMMARY:Fall Semester Begins
DESCRIPTION:Legacy Class Reunion \nOnce a Charger.\nAlways a Charger.\n\nCome back. Reconnect. Celebrate. \nJoin us for an afternoon honoring the milestone 50th and 25th anniversary classes — reconnect with classmates and raise a glass to the legacy you've built since. \n\n\nDate\nSaturday\, May 16th\nTime\n1:00 PM\nLocation\nGranito Badami Room\n\n\n\n50\nYears\n25\nYears\n\n\n\nAlumni\nFree\nGuests\n$50\nLunch & champagne included\n\n\nRSVP by\nMay 9th
URL:https://www.duny.edu/events/fall-semester-begins-3/
CATEGORIES:Academics,Faculty and Staff
END:VEVENT
BEGIN:VEVENT
DTSTART;TZID=America/New_York:20250825T080000
DTEND;TZID=America/New_York:20250825T080000
DTSTAMP:20260425T091638
CREATED:20250120T172048Z
LAST-MODIFIED:20250120T172048Z
UID:10001280-1756108800-1756108800@www.duny.edu
SUMMARY:Evening Traditional & Graduate Nursing Fall Semester Begins
DESCRIPTION:Legacy Class Reunion \nOnce a Charger.\nAlways a Charger.\n\nCome back. Reconnect. Celebrate. \nJoin us for an afternoon honoring the milestone 50th and 25th anniversary classes — reconnect with classmates and raise a glass to the legacy you've built since. \n\n\nDate\nSaturday\, May 16th\nTime\n1:00 PM\nLocation\nGranito Badami Room\n\n\n\n50\nYears\n25\nYears\n\n\n\nAlumni\nFree\nGuests\n$50\nLunch & champagne included\n\n\nRSVP by\nMay 9th
URL:https://www.duny.edu/events/evening-traditional-graduate-nursing-fall-semester-begins-2/
CATEGORIES:Academics,Faculty and Staff
END:VEVENT
BEGIN:VEVENT
DTSTART;TZID=America/New_York:20250825T080000
DTEND;TZID=America/New_York:20250825T080000
DTSTAMP:20260425T091638
CREATED:20250120T172246Z
LAST-MODIFIED:20250605T204146Z
UID:10001281-1756108800-1756108800@www.duny.edu
SUMMARY:Accelerated BSN (ABSN) Fall Trimester Begins
DESCRIPTION:Legacy Class Reunion \nOnce a Charger.\nAlways a Charger.\n\nCome back. Reconnect. Celebrate. \nJoin us for an afternoon honoring the milestone 50th and 25th anniversary classes — reconnect with classmates and raise a glass to the legacy you've built since. \n\n\nDate\nSaturday\, May 16th\nTime\n1:00 PM\nLocation\nGranito Badami Room\n\n\n\n50\nYears\n25\nYears\n\n\n\nAlumni\nFree\nGuests\n$50\nLunch & champagne included\n\n\nRSVP by\nMay 9th
URL:https://www.duny.edu/events/accelerated-bsn-absn-fall-trimester-begins-2/
CATEGORIES:Academics,Faculty and Staff
END:VEVENT
BEGIN:VEVENT
DTSTART;TZID=America/New_York:20250825T080000
DTEND;TZID=America/New_York:20250829T140000
DTSTAMP:20260425T091638
CREATED:20250120T172623Z
LAST-MODIFIED:20250120T172623Z
UID:10001282-1756108800-1756476000@www.duny.edu
SUMMARY:Late Registration & Drop/Add for Fall Semester
DESCRIPTION:Legacy Class Reunion \nOnce a Charger.\nAlways a Charger.\n\nCome back. Reconnect. Celebrate. \nJoin us for an afternoon honoring the milestone 50th and 25th anniversary classes — reconnect with classmates and raise a glass to the legacy you've built since. \n\n\nDate\nSaturday\, May 16th\nTime\n1:00 PM\nLocation\nGranito Badami Room\n\n\n\n50\nYears\n25\nYears\n\n\n\nAlumni\nFree\nGuests\n$50\nLunch & champagne included\n\n\nRSVP by\nMay 9th
URL:https://www.duny.edu/events/late-registration-drop-add-for-fall-semester-3/
CATEGORIES:Academics,All Events,Faculty and Staff
END:VEVENT
BEGIN:VEVENT
DTSTART;TZID=America/New_York:20250826T080000
DTEND;TZID=America/New_York:20250826T080000
DTSTAMP:20260425T091638
CREATED:20250120T172823Z
LAST-MODIFIED:20250120T172823Z
UID:10001283-1756195200-1756195200@www.duny.edu
SUMMARY:MBA/MSOLC Session I Begins
DESCRIPTION:Legacy Class Reunion \nOnce a Charger.\nAlways a Charger.\n\nCome back. Reconnect. Celebrate. \nJoin us for an afternoon honoring the milestone 50th and 25th anniversary classes — reconnect with classmates and raise a glass to the legacy you've built since. \n\n\nDate\nSaturday\, May 16th\nTime\n1:00 PM\nLocation\nGranito Badami Room\n\n\n\n50\nYears\n25\nYears\n\n\n\nAlumni\nFree\nGuests\n$50\nLunch & champagne included\n\n\nRSVP by\nMay 9th
URL:https://www.duny.edu/events/mba-msolc-session-i-begins/
END:VEVENT
BEGIN:VEVENT
DTSTART;TZID=America/New_York:20250831T190000
DTEND;TZID=America/New_York:20250831T190000
DTSTAMP:20260425T091638
CREATED:20250815T005012Z
LAST-MODIFIED:20260413T231842Z
UID:10001468-1756666800-1756666800@www.duny.edu
SUMMARY:Campus Mass
DESCRIPTION:Legacy Class Reunion \nOnce a Charger.\nAlways a Charger.\n\nCome back. Reconnect. Celebrate. \nJoin us for an afternoon honoring the milestone 50th and 25th anniversary classes — reconnect with classmates and raise a glass to the legacy you've built since. \n\n\nDate\nSaturday\, May 16th\nTime\n1:00 PM\nLocation\nGranito Badami Room\n\n\n\n50\nYears\n25\nYears\n\n\n\nAlumni\nFree\nGuests\n$50\nLunch & champagne included\n\n\nRSVP by\nMay 9th
URL:https://www.duny.edu/events/campus-mass/2025-08-31/
LOCATION:Rosary Hall Chapel\, 480 Western Highway\, Blauvelt\, NY\, 10913\, United States
CATEGORIES:All Events,Student Events
END:VEVENT
BEGIN:VEVENT
DTSTART;VALUE=DATE:20250901
DTEND;VALUE=DATE:20250902
DTSTAMP:20260425T091638
CREATED:20240626T142357Z
LAST-MODIFIED:20250120T173114Z
UID:10001095-1756684800-1756771199@www.duny.edu
SUMMARY:Labor Day-University CLOSED
DESCRIPTION:Legacy Class Reunion \nOnce a Charger.\nAlways a Charger.\n\nCome back. Reconnect. Celebrate. \nJoin us for an afternoon honoring the milestone 50th and 25th anniversary classes — reconnect with classmates and raise a glass to the legacy you've built since. \n\n\nDate\nSaturday\, May 16th\nTime\n1:00 PM\nLocation\nGranito Badami Room\n\n\n\n50\nYears\n25\nYears\n\n\n\nAlumni\nFree\nGuests\n$50\nLunch & champagne included\n\n\nRSVP by\nMay 9th
URL:https://www.duny.edu/events/labor-day-2/
CATEGORIES:Academics,All Events,Faculty and Staff,Student Events
END:VEVENT
BEGIN:VEVENT
DTSTART;TZID=America/New_York:20250902T080000
DTEND;TZID=America/New_York:20250902T080000
DTSTAMP:20260425T091638
CREATED:20250120T173307Z
LAST-MODIFIED:20250120T173307Z
UID:10001284-1756800000-1756800000@www.duny.edu
SUMMARY:OT Weekday (Tuesdays) Fall Semester Begins
DESCRIPTION:Legacy Class Reunion \nOnce a Charger.\nAlways a Charger.\n\nCome back. Reconnect. Celebrate. \nJoin us for an afternoon honoring the milestone 50th and 25th anniversary classes — reconnect with classmates and raise a glass to the legacy you've built since. \n\n\nDate\nSaturday\, May 16th\nTime\n1:00 PM\nLocation\nGranito Badami Room\n\n\n\n50\nYears\n25\nYears\n\n\n\nAlumni\nFree\nGuests\n$50\nLunch & champagne included\n\n\nRSVP by\nMay 9th
URL:https://www.duny.edu/events/ot-weekday-tuesdays-fall-semester-begins/
CATEGORIES:Academics,Faculty and Staff
END:VEVENT
BEGIN:VEVENT
DTSTART;TZID=America/New_York:20250905T080000
DTEND;TZID=America/New_York:20250905T080000
DTSTAMP:20260425T091638
CREATED:20250120T173446Z
LAST-MODIFIED:20250120T173446Z
UID:10001285-1757059200-1757059200@www.duny.edu
SUMMARY:OT and PT Fall Trimesters Begin
DESCRIPTION:Legacy Class Reunion \nOnce a Charger.\nAlways a Charger.\n\nCome back. Reconnect. Celebrate. \nJoin us for an afternoon honoring the milestone 50th and 25th anniversary classes — reconnect with classmates and raise a glass to the legacy you've built since. \n\n\nDate\nSaturday\, May 16th\nTime\n1:00 PM\nLocation\nGranito Badami Room\n\n\n\n50\nYears\n25\nYears\n\n\n\nAlumni\nFree\nGuests\n$50\nLunch & champagne included\n\n\nRSVP by\nMay 9th
URL:https://www.duny.edu/events/ot-and-pt-fall-trimesters-begin/
CATEGORIES:Academics,Faculty and Staff
END:VEVENT
BEGIN:VEVENT
DTSTART;TZID=America/New_York:20250906T080000
DTEND;TZID=America/New_York:20250906T080000
DTSTAMP:20260425T091638
CREATED:20250120T173626Z
LAST-MODIFIED:20250605T204920Z
UID:10001286-1757145600-1757145600@www.duny.edu
SUMMARY:Weekend ABSN Fall Trimester Begins
DESCRIPTION:Legacy Class Reunion \nOnce a Charger.\nAlways a Charger.\n\nCome back. Reconnect. Celebrate. \nJoin us for an afternoon honoring the milestone 50th and 25th anniversary classes — reconnect with classmates and raise a glass to the legacy you've built since. \n\n\nDate\nSaturday\, May 16th\nTime\n1:00 PM\nLocation\nGranito Badami Room\n\n\n\n50\nYears\n25\nYears\n\n\n\nAlumni\nFree\nGuests\n$50\nLunch & champagne included\n\n\nRSVP by\nMay 9th
URL:https://www.duny.edu/events/weekend-absn-fall-trimester-begins-3/
CATEGORIES:Academics,Faculty and Staff
END:VEVENT
BEGIN:VEVENT
DTSTART;TZID=America/New_York:20250907T190000
DTEND;TZID=America/New_York:20250907T190000
DTSTAMP:20260425T091638
CREATED:20250815T005012Z
LAST-MODIFIED:20260413T231842Z
UID:10001469-1757271600-1757271600@www.duny.edu
SUMMARY:Campus Mass
DESCRIPTION:Legacy Class Reunion \nOnce a Charger.\nAlways a Charger.\n\nCome back. Reconnect. Celebrate. \nJoin us for an afternoon honoring the milestone 50th and 25th anniversary classes — reconnect with classmates and raise a glass to the legacy you've built since. \n\n\nDate\nSaturday\, May 16th\nTime\n1:00 PM\nLocation\nGranito Badami Room\n\n\n\n50\nYears\n25\nYears\n\n\n\nAlumni\nFree\nGuests\n$50\nLunch & champagne included\n\n\nRSVP by\nMay 9th
URL:https://www.duny.edu/events/campus-mass/2025-09-07/
LOCATION:Rosary Hall Chapel\, 480 Western Highway\, Blauvelt\, NY\, 10913\, United States
CATEGORIES:All Events,Student Events
END:VEVENT
BEGIN:VEVENT
DTSTART;TZID=America/New_York:20250908T074500
DTEND;TZID=America/New_York:20250908T100000
DTSTAMP:20260425T091638
CREATED:20250724T231420Z
LAST-MODIFIED:20250917T165948Z
UID:10001463-1757317500-1757325600@www.duny.edu
SUMMARY:Town Supervisor Forum
DESCRIPTION:Legacy Class Reunion \nOnce a Charger.\nAlways a Charger.\n\nCome back. Reconnect. Celebrate. \nJoin us for an afternoon honoring the milestone 50th and 25th anniversary classes — reconnect with classmates and raise a glass to the legacy you've built since. \n\n\nDate\nSaturday\, May 16th\nTime\n1:00 PM\nLocation\nGranito Badami Room\n\n\n\n50\nYears\n25\nYears\n\n\n\nAlumni\nFree\nGuests\n$50\nLunch & champagne included\n\n\nRSVP by\nMay 9th
URL:https://www.duny.edu/events/town-supervisor-forum/
LOCATION:Lawrence Room\, Rosary Hall\, 488–500 Western Highway South\, Orangeburg\, NY\, 10962\, United States
END:VEVENT
BEGIN:VEVENT
DTSTART;TZID=America/New_York:20250908T193000
DTEND;TZID=America/New_York:20250908T203000
DTSTAMP:20260425T091638
CREATED:20250825T205508Z
LAST-MODIFIED:20250825T205757Z
UID:10001482-1757359800-1757363400@www.duny.edu
SUMMARY:Virtual Occupational Therapy Info Session
DESCRIPTION:Legacy Class Reunion \nOnce a Charger.\nAlways a Charger.\n\nCome back. Reconnect. Celebrate. \nJoin us for an afternoon honoring the milestone 50th and 25th anniversary classes — reconnect with classmates and raise a glass to the legacy you've built since. \n\n\nDate\nSaturday\, May 16th\nTime\n1:00 PM\nLocation\nGranito Badami Room\n\n\n\n50\nYears\n25\nYears\n\n\n\nAlumni\nFree\nGuests\n$50\nLunch & champagne included\n\n\nRSVP by\nMay 9th
URL:https://www.duny.edu/events/virtual-occupational-therapy-info-session/
LOCATION:https://www.duny.edu/events/virtual-occupational-therapy-info-session/
END:VEVENT
BEGIN:VEVENT
DTSTART;TZID=America/New_York:20250911T143000
DTEND;TZID=America/New_York:20250911T143000
DTSTAMP:20260425T091638
CREATED:20240626T143212Z
LAST-MODIFIED:20250731T131155Z
UID:10001097-1757601000-1757601000@www.duny.edu
SUMMARY:Patriot Day | 9/11 Prayer Service
DESCRIPTION:Legacy Class Reunion \nOnce a Charger.\nAlways a Charger.\n\nCome back. Reconnect. Celebrate. \nJoin us for an afternoon honoring the milestone 50th and 25th anniversary classes — reconnect with classmates and raise a glass to the legacy you've built since. \n\n\nDate\nSaturday\, May 16th\nTime\n1:00 PM\nLocation\nGranito Badami Room\n\n\n\n50\nYears\n25\nYears\n\n\n\nAlumni\nFree\nGuests\n$50\nLunch & champagne included\n\n\nRSVP by\nMay 9th
URL:https://www.duny.edu/events/patriot-day/
LOCATION:Granito Patio\, NY\, United States
CATEGORIES:All Events,Community Events & Workshops,Student Events
END:VEVENT
BEGIN:VEVENT
DTSTART;TZID=America/New_York:20250914T190000
DTEND;TZID=America/New_York:20250914T190000
DTSTAMP:20260425T091638
CREATED:20250815T005012Z
LAST-MODIFIED:20260413T231842Z
UID:10001470-1757876400-1757876400@www.duny.edu
SUMMARY:Campus Mass
DESCRIPTION:Legacy Class Reunion \nOnce a Charger.\nAlways a Charger.\n\nCome back. Reconnect. Celebrate. \nJoin us for an afternoon honoring the milestone 50th and 25th anniversary classes — reconnect with classmates and raise a glass to the legacy you've built since. \n\n\nDate\nSaturday\, May 16th\nTime\n1:00 PM\nLocation\nGranito Badami Room\n\n\n\n50\nYears\n25\nYears\n\n\n\nAlumni\nFree\nGuests\n$50\nLunch & champagne included\n\n\nRSVP by\nMay 9th
URL:https://www.duny.edu/events/campus-mass/2025-09-14/
LOCATION:Rosary Hall Chapel\, 480 Western Highway\, Blauvelt\, NY\, 10913\, United States
CATEGORIES:All Events,Student Events
END:VEVENT
BEGIN:VEVENT
DTSTART;TZID=America/New_York:20250917T141500
DTEND;TZID=America/New_York:20250917T141500
DTSTAMP:20260425T091638
CREATED:20250504T205254Z
LAST-MODIFIED:20250504T205320Z
UID:10001360-1758118500-1758118500@www.duny.edu
SUMMARY:Law School Information Session
DESCRIPTION:Legacy Class Reunion \nOnce a Charger.\nAlways a Charger.\n\nCome back. Reconnect. Celebrate. \nJoin us for an afternoon honoring the milestone 50th and 25th anniversary classes — reconnect with classmates and raise a glass to the legacy you've built since. \n\n\nDate\nSaturday\, May 16th\nTime\n1:00 PM\nLocation\nGranito Badami Room\n\n\n\n50\nYears\n25\nYears\n\n\n\nAlumni\nFree\nGuests\n$50\nLunch & champagne included\n\n\nRSVP by\nMay 9th
URL:https://www.duny.edu/events/law-school-information-session/
CATEGORIES:Academics
END:VEVENT
BEGIN:VEVENT
DTSTART;TZID=America/New_York:20250918T143000
DTEND;TZID=America/New_York:20250918T143000
DTSTAMP:20260425T091638
CREATED:20250504T205543Z
LAST-MODIFIED:20250504T205543Z
UID:10001361-1758205800-1758205800@www.duny.edu
SUMMARY:Honors Program Ice Cream Social
DESCRIPTION:Legacy Class Reunion \nOnce a Charger.\nAlways a Charger.\n\nCome back. Reconnect. Celebrate. \nJoin us for an afternoon honoring the milestone 50th and 25th anniversary classes — reconnect with classmates and raise a glass to the legacy you've built since. \n\n\nDate\nSaturday\, May 16th\nTime\n1:00 PM\nLocation\nGranito Badami Room\n\n\n\n50\nYears\n25\nYears\n\n\n\nAlumni\nFree\nGuests\n$50\nLunch & champagne included\n\n\nRSVP by\nMay 9th
URL:https://www.duny.edu/events/honors-program-ice-cream-social/
CATEGORIES:Academics
END:VEVENT
END:VCALENDAR