BEGIN:VCALENDAR
VERSION:2.0
PRODID:-//Dominican University - ECPv6.15.18//NONSGML v1.0//EN
CALSCALE:GREGORIAN
METHOD:PUBLISH
X-WR-CALNAME:Dominican University
X-ORIGINAL-URL:https://www.duny.edu
X-WR-CALDESC:Events for Dominican University
REFRESH-INTERVAL;VALUE=DURATION:PT1H
X-Robots-Tag:noindex
X-PUBLISHED-TTL:PT1H
BEGIN:VTIMEZONE
TZID:America/New_York
BEGIN:DAYLIGHT
TZOFFSETFROM:-0500
TZOFFSETTO:-0400
TZNAME:EDT
DTSTART:20250309T070000
END:DAYLIGHT
BEGIN:STANDARD
TZOFFSETFROM:-0400
TZOFFSETTO:-0500
TZNAME:EST
DTSTART:20251102T060000
END:STANDARD
BEGIN:DAYLIGHT
TZOFFSETFROM:-0500
TZOFFSETTO:-0400
TZNAME:EDT
DTSTART:20260308T070000
END:DAYLIGHT
BEGIN:STANDARD
TZOFFSETFROM:-0400
TZOFFSETTO:-0500
TZNAME:EST
DTSTART:20261101T060000
END:STANDARD
BEGIN:DAYLIGHT
TZOFFSETFROM:-0500
TZOFFSETTO:-0400
TZNAME:EDT
DTSTART:20270314T070000
END:DAYLIGHT
BEGIN:STANDARD
TZOFFSETFROM:-0400
TZOFFSETTO:-0500
TZNAME:EST
DTSTART:20271107T060000
END:STANDARD
END:VTIMEZONE
BEGIN:VEVENT
DTSTART;TZID=America/New_York:20260312T140000
DTEND;TZID=America/New_York:20260312T160000
DTSTAMP:20260425T075853
CREATED:20260225T130759Z
LAST-MODIFIED:20260225T130759Z
UID:10001561-1773324000-1773331200@www.duny.edu
SUMMARY:Catholic Sisters Week: Irish Soda Bread Bake-Off
DESCRIPTION:Legacy Class Reunion \nOnce a Charger.\nAlways a Charger.\n\nCome back. Reconnect. Celebrate. \nJoin us for an afternoon honoring the milestone 50th and 25th anniversary classes — reconnect with classmates and raise a glass to the legacy you've built since. \n\n\nDate\nSaturday\, May 16th\nTime\n1:00 PM\nLocation\nGranito Badami Room\n\n\n\n50\nYears\n25\nYears\n\n\n\nAlumni\nFree\nGuests\n$50\nLunch & champagne included\n\n\nRSVP by\nMay 9th
URL:https://www.duny.edu/events/catholic-sisters-week-irish-soda-bread-bake-off/
LOCATION:Sisters of St. Dominic Motherhouse Chapel\, 496 Western Highway\, Blauvelt\, NY\, 10913\, United States
CATEGORIES:All Events,Student Events
END:VEVENT
BEGIN:VEVENT
DTSTART;TZID=America/New_York:20260314T100000
DTEND;TZID=America/New_York:20260314T120000
DTSTAMP:20260425T075853
CREATED:20250710T135518Z
LAST-MODIFIED:20260123T155156Z
UID:10001455-1773482400-1773489600@www.duny.edu
SUMMARY:Undergraduate Saturday Tour
DESCRIPTION:Legacy Class Reunion \nOnce a Charger.\nAlways a Charger.\n\nCome back. Reconnect. Celebrate. \nJoin us for an afternoon honoring the milestone 50th and 25th anniversary classes — reconnect with classmates and raise a glass to the legacy you've built since. \n\n\nDate\nSaturday\, May 16th\nTime\n1:00 PM\nLocation\nGranito Badami Room\n\n\n\n50\nYears\n25\nYears\n\n\n\nAlumni\nFree\nGuests\n$50\nLunch & champagne included\n\n\nRSVP by\nMay 9th
URL:https://www.duny.edu/events/undergraduate-saturday-tour-march-14-2026/
LOCATION:Holt Room- Hennessy Center\, 495 Western Highway\, Blauvelt\, NY\, 10913\, United States
CATEGORIES:Admissions,All Events,Open House
ORGANIZER;CN="Dominican University Office of Admissions":MAILTO:admissions@duny.edu
END:VEVENT
BEGIN:VEVENT
DTSTART;TZID=America/New_York:20260317T133000
DTEND;TZID=America/New_York:20260317T163000
DTSTAMP:20260425T075853
CREATED:20260225T123356Z
LAST-MODIFIED:20260225T123356Z
UID:10001556-1773754200-1773765000@www.duny.edu
SUMMARY:Pop Up Shop
DESCRIPTION:Legacy Class Reunion \nOnce a Charger.\nAlways a Charger.\n\nCome back. Reconnect. Celebrate. \nJoin us for an afternoon honoring the milestone 50th and 25th anniversary classes — reconnect with classmates and raise a glass to the legacy you've built since. \n\n\nDate\nSaturday\, May 16th\nTime\n1:00 PM\nLocation\nGranito Badami Room\n\n\n\n50\nYears\n25\nYears\n\n\n\nAlumni\nFree\nGuests\n$50\nLunch & champagne included\n\n\nRSVP by\nMay 9th
URL:https://www.duny.edu/events/pop-up-shop/
LOCATION:Granito Center\, 470 Western Highway\, NY\, United States
CATEGORIES:All Events,Faculty and Staff,Student Events
END:VEVENT
BEGIN:VEVENT
DTSTART;VALUE=DATE:20260319
DTEND;VALUE=DATE:20260320
DTSTAMP:20260425T075853
CREATED:20250504T210849Z
LAST-MODIFIED:20250504T210849Z
UID:10001369-1773878400-1773964799@www.duny.edu
SUMMARY:Criminal Justice Day
DESCRIPTION:Legacy Class Reunion \nOnce a Charger.\nAlways a Charger.\n\nCome back. Reconnect. Celebrate. \nJoin us for an afternoon honoring the milestone 50th and 25th anniversary classes — reconnect with classmates and raise a glass to the legacy you've built since. \n\n\nDate\nSaturday\, May 16th\nTime\n1:00 PM\nLocation\nGranito Badami Room\n\n\n\n50\nYears\n25\nYears\n\n\n\nAlumni\nFree\nGuests\n$50\nLunch & champagne included\n\n\nRSVP by\nMay 9th
URL:https://www.duny.edu/events/criminal-justice-day-3/
CATEGORIES:Academics
END:VEVENT
BEGIN:VEVENT
DTSTART;TZID=America/New_York:20260319T111500
DTEND;TZID=America/New_York:20260319T121500
DTSTAMP:20260425T075853
CREATED:20260316T202143Z
LAST-MODIFIED:20260316T202143Z
UID:10001566-1773918900-1773922500@www.duny.edu
SUMMARY:Brain Injury Awareness Month
DESCRIPTION:Legacy Class Reunion \nOnce a Charger.\nAlways a Charger.\n\nCome back. Reconnect. Celebrate. \nJoin us for an afternoon honoring the milestone 50th and 25th anniversary classes — reconnect with classmates and raise a glass to the legacy you've built since. \n\n\nDate\nSaturday\, May 16th\nTime\n1:00 PM\nLocation\nGranito Badami Room\n\n\n\n50\nYears\n25\nYears\n\n\n\nAlumni\nFree\nGuests\n$50\nLunch & champagne included\n\n\nRSVP by\nMay 9th
URL:https://www.duny.edu/events/brain-injury-awareness-month/
LOCATION:Palisades Room\, Casey Hall
CATEGORIES:All Events,Faculty and Staff,Student Events
END:VEVENT
BEGIN:VEVENT
DTSTART;VALUE=DATE:20260321
DTEND;VALUE=DATE:20260322
DTSTAMP:20260425T075853
CREATED:20250521T192110Z
LAST-MODIFIED:20260215T214634Z
UID:10001389-1774051200-1774137599@www.duny.edu
SUMMARY:Eid al Fitr
DESCRIPTION:Legacy Class Reunion \nOnce a Charger.\nAlways a Charger.\n\nCome back. Reconnect. Celebrate. \nJoin us for an afternoon honoring the milestone 50th and 25th anniversary classes — reconnect with classmates and raise a glass to the legacy you've built since. \n\n\nDate\nSaturday\, May 16th\nTime\n1:00 PM\nLocation\nGranito Badami Room\n\n\n\n50\nYears\n25\nYears\n\n\n\nAlumni\nFree\nGuests\n$50\nLunch & champagne included\n\n\nRSVP by\nMay 9th
URL:https://www.duny.edu/events/eid-al-fitr-3/
END:VEVENT
BEGIN:VEVENT
DTSTART;TZID=America/New_York:20260321T100000
DTEND;TZID=America/New_York:20260321T133000
DTSTAMP:20260425T075853
CREATED:20250710T141108Z
LAST-MODIFIED:20260203T171201Z
UID:10001456-1774087200-1774099800@www.duny.edu
SUMMARY:Undergraduate Open House
DESCRIPTION:Legacy Class Reunion \nOnce a Charger.\nAlways a Charger.\n\nCome back. Reconnect. Celebrate. \nJoin us for an afternoon honoring the milestone 50th and 25th anniversary classes — reconnect with classmates and raise a glass to the legacy you've built since. \n\n\nDate\nSaturday\, May 16th\nTime\n1:00 PM\nLocation\nGranito Badami Room\n\n\n\n50\nYears\n25\nYears\n\n\n\nAlumni\nFree\nGuests\n$50\nLunch & champagne included\n\n\nRSVP by\nMay 9th
URL:https://www.duny.edu/events/undergraduate-open-house-march-21-2026/
LOCATION:The Hennessy Center\, 470 Western Highway\, Blauvelt\, NY\, 10913\, United States
CATEGORIES:Admissions,All Events,Open House
ORGANIZER;CN="Dominican University Office of Admissions":MAILTO:admissions@duny.edu
END:VEVENT
BEGIN:VEVENT
DTSTART;TZID=America/New_York:20260322T190000
DTEND;TZID=America/New_York:20260322T190000
DTSTAMP:20260425T075853
CREATED:20260121T163226Z
LAST-MODIFIED:20260202T202340Z
UID:10001530-1774206000-1774206000@www.duny.edu
SUMMARY:Campus Mass and Liturgy
DESCRIPTION:Legacy Class Reunion \nOnce a Charger.\nAlways a Charger.\n\nCome back. Reconnect. Celebrate. \nJoin us for an afternoon honoring the milestone 50th and 25th anniversary classes — reconnect with classmates and raise a glass to the legacy you've built since. \n\n\nDate\nSaturday\, May 16th\nTime\n1:00 PM\nLocation\nGranito Badami Room\n\n\n\n50\nYears\n25\nYears\n\n\n\nAlumni\nFree\nGuests\n$50\nLunch & champagne included\n\n\nRSVP by\nMay 9th
URL:https://www.duny.edu/events/campus-mass-and-liturgy-2/2026-03-22/
LOCATION:Rosary Hall Chapel\, 480 Western Highway\, Blauvelt\, NY\, 10913\, United States
CATEGORIES:All Events,Community Events & Workshops,Faculty and Staff,Student Events
END:VEVENT
BEGIN:VEVENT
DTSTART;TZID=America/New_York:20260323T113000
DTEND;TZID=America/New_York:20260323T130000
DTSTAMP:20260425T075853
CREATED:20260216T145614Z
LAST-MODIFIED:20260414T174956Z
UID:10001549-1774265400-1774270800@www.duny.edu
SUMMARY:AI: From Tool to Teammate
DESCRIPTION:Legacy Class Reunion \nOnce a Charger.\nAlways a Charger.\n\nCome back. Reconnect. Celebrate. \nJoin us for an afternoon honoring the milestone 50th and 25th anniversary classes — reconnect with classmates and raise a glass to the legacy you've built since. \n\n\nDate\nSaturday\, May 16th\nTime\n1:00 PM\nLocation\nGranito Badami Room\n\n\n\n50\nYears\n25\nYears\n\n\n\nAlumni\nFree\nGuests\n$50\nLunch & champagne included\n\n\nRSVP by\nMay 9th
URL:https://www.duny.edu/events/ai-from-tool-to-teammate/
LOCATION:Granito Extension
END:VEVENT
BEGIN:VEVENT
DTSTART;TZID=America/New_York:20260324T093000
DTEND;TZID=America/New_York:20260324T153000
DTSTAMP:20260425T075853
CREATED:20260318T205548Z
LAST-MODIFIED:20260318T205548Z
UID:10001568-1774344600-1774366200@www.duny.edu
SUMMARY:Blood Drive
DESCRIPTION:Legacy Class Reunion \nOnce a Charger.\nAlways a Charger.\n\nCome back. Reconnect. Celebrate. \nJoin us for an afternoon honoring the milestone 50th and 25th anniversary classes — reconnect with classmates and raise a glass to the legacy you've built since. \n\n\nDate\nSaturday\, May 16th\nTime\n1:00 PM\nLocation\nGranito Badami Room\n\n\n\n50\nYears\n25\nYears\n\n\n\nAlumni\nFree\nGuests\n$50\nLunch & champagne included\n\n\nRSVP by\nMay 9th
URL:https://www.duny.edu/events/blood-drive-2/
CATEGORIES:All Events,Community Events & Workshops,Student Events
END:VEVENT
BEGIN:VEVENT
DTSTART;VALUE=DATE:20260325
DTEND;VALUE=DATE:20260326
DTSTAMP:20260425T075853
CREATED:20250504T211009Z
LAST-MODIFIED:20250504T211009Z
UID:10001370-1774396800-1774483199@www.duny.edu
SUMMARY:Business and Communication Studies Honor Societies Induction
DESCRIPTION:Legacy Class Reunion \nOnce a Charger.\nAlways a Charger.\n\nCome back. Reconnect. Celebrate. \nJoin us for an afternoon honoring the milestone 50th and 25th anniversary classes — reconnect with classmates and raise a glass to the legacy you've built since. \n\n\nDate\nSaturday\, May 16th\nTime\n1:00 PM\nLocation\nGranito Badami Room\n\n\n\n50\nYears\n25\nYears\n\n\n\nAlumni\nFree\nGuests\n$50\nLunch & champagne included\n\n\nRSVP by\nMay 9th
URL:https://www.duny.edu/events/business-and-communication-studies-honor-societies-induction/
CATEGORIES:Academics
END:VEVENT
BEGIN:VEVENT
DTSTART;TZID=America/New_York:20260325T173000
DTEND;TZID=America/New_York:20260325T190000
DTSTAMP:20260425T075853
CREATED:20250617T170239Z
LAST-MODIFIED:20250617T192514Z
UID:10001427-1774459800-1774465200@www.duny.edu
SUMMARY:Virtual Info Session
DESCRIPTION:Legacy Class Reunion \nOnce a Charger.\nAlways a Charger.\n\nCome back. Reconnect. Celebrate. \nJoin us for an afternoon honoring the milestone 50th and 25th anniversary classes — reconnect with classmates and raise a glass to the legacy you've built since. \n\n\nDate\nSaturday\, May 16th\nTime\n1:00 PM\nLocation\nGranito Badami Room\n\n\n\n50\nYears\n25\nYears\n\n\n\nAlumni\nFree\nGuests\n$50\nLunch & champagne included\n\n\nRSVP by\nMay 9th
URL:https://www.duny.edu/events/virtual-info-session-3-25-26/
LOCATION:Microsoft Teams
CATEGORIES:Admissions
ORGANIZER;CN="Dominican University Office of Admissions":MAILTO:admissions@duny.edu
END:VEVENT
BEGIN:VEVENT
DTSTART;TZID=America/New_York:20260326T180000
DTEND;TZID=America/New_York:20260326T193000
DTSTAMP:20260425T075853
CREATED:20250710T141458Z
LAST-MODIFIED:20260114T210012Z
UID:10001457-1774548000-1774553400@www.duny.edu
SUMMARY:Honors Dinner
DESCRIPTION:Legacy Class Reunion \nOnce a Charger.\nAlways a Charger.\n\nCome back. Reconnect. Celebrate. \nJoin us for an afternoon honoring the milestone 50th and 25th anniversary classes — reconnect with classmates and raise a glass to the legacy you've built since. \n\n\nDate\nSaturday\, May 16th\nTime\n1:00 PM\nLocation\nGranito Badami Room\n\n\n\n50\nYears\n25\nYears\n\n\n\nAlumni\nFree\nGuests\n$50\nLunch & champagne included\n\n\nRSVP by\nMay 9th
URL:https://www.duny.edu/events/honors-dinner-march-26-2026/
LOCATION:Lawrence Room\, Rosary Hall\, 488–500 Western Highway South\, Orangeburg\, NY\, 10962\, United States
CATEGORIES:Admissions,All Events
ORGANIZER;CN="Dominican University Office of Admissions":MAILTO:admissions@duny.edu
END:VEVENT
BEGIN:VEVENT
DTSTART;TZID=America/New_York:20260327T080000
DTEND;TZID=America/New_York:20260327T170000
DTSTAMP:20260425T075853
CREATED:20260327T211820Z
LAST-MODIFIED:20260327T211820Z
UID:10001575-1774598400-1774630800@www.duny.edu
SUMMARY:Fall Semester Begins! 📚🍂
DESCRIPTION:Legacy Class Reunion \nOnce a Charger.\nAlways a Charger.\n\nCome back. Reconnect. Celebrate. \nJoin us for an afternoon honoring the milestone 50th and 25th anniversary classes — reconnect with classmates and raise a glass to the legacy you've built since. \n\n\nDate\nSaturday\, May 16th\nTime\n1:00 PM\nLocation\nGranito Badami Room\n\n\n\n50\nYears\n25\nYears\n\n\n\nAlumni\nFree\nGuests\n$50\nLunch & champagne included\n\n\nRSVP by\nMay 9th
URL:https://www.duny.edu/events/fall-semester-begins-%f0%9f%93%9a%f0%9f%8d%82/
END:VEVENT
BEGIN:VEVENT
DTSTART;VALUE=DATE:20260329
DTEND;VALUE=DATE:20260330
DTSTAMP:20260425T075853
CREATED:20250521T192421Z
LAST-MODIFIED:20260326T132359Z
UID:10001390-1774742400-1774828799@www.duny.edu
SUMMARY:Palm Sunday
DESCRIPTION:Legacy Class Reunion \nOnce a Charger.\nAlways a Charger.\n\nCome back. Reconnect. Celebrate. \nJoin us for an afternoon honoring the milestone 50th and 25th anniversary classes — reconnect with classmates and raise a glass to the legacy you've built since. \n\n\nDate\nSaturday\, May 16th\nTime\n1:00 PM\nLocation\nGranito Badami Room\n\n\n\n50\nYears\n25\nYears\n\n\n\nAlumni\nFree\nGuests\n$50\nLunch & champagne included\n\n\nRSVP by\nMay 9th
URL:https://www.duny.edu/events/palm-sunday/
CATEGORIES:Community Events & Workshops,Faculty and Staff,Student Events
END:VEVENT
BEGIN:VEVENT
DTSTART;TZID=America/New_York:20260329T190000
DTEND;TZID=America/New_York:20260329T190000
DTSTAMP:20260425T075853
CREATED:20260121T163226Z
LAST-MODIFIED:20260202T202340Z
UID:10001531-1774810800-1774810800@www.duny.edu
SUMMARY:Campus Mass and Liturgy
DESCRIPTION:Legacy Class Reunion \nOnce a Charger.\nAlways a Charger.\n\nCome back. Reconnect. Celebrate. \nJoin us for an afternoon honoring the milestone 50th and 25th anniversary classes — reconnect with classmates and raise a glass to the legacy you've built since. \n\n\nDate\nSaturday\, May 16th\nTime\n1:00 PM\nLocation\nGranito Badami Room\n\n\n\n50\nYears\n25\nYears\n\n\n\nAlumni\nFree\nGuests\n$50\nLunch & champagne included\n\n\nRSVP by\nMay 9th
URL:https://www.duny.edu/events/campus-mass-and-liturgy-2/2026-03-29/
LOCATION:Rosary Hall Chapel\, 480 Western Highway\, Blauvelt\, NY\, 10913\, United States
CATEGORIES:All Events,Community Events & Workshops,Faculty and Staff,Student Events
END:VEVENT
BEGIN:VEVENT
DTSTART;TZID=America/New_York:20260331T124500
DTEND;TZID=America/New_York:20260331T140000
DTSTAMP:20260425T075853
CREATED:20260330T141823Z
LAST-MODIFIED:20260330T141824Z
UID:10001576-1774961100-1774965600@www.duny.edu
SUMMARY:Alumni Law Panel
DESCRIPTION:Legacy Class Reunion \nOnce a Charger.\nAlways a Charger.\n\nCome back. Reconnect. Celebrate. \nJoin us for an afternoon honoring the milestone 50th and 25th anniversary classes — reconnect with classmates and raise a glass to the legacy you've built since. \n\n\nDate\nSaturday\, May 16th\nTime\n1:00 PM\nLocation\nGranito Badami Room\n\n\n\n50\nYears\n25\nYears\n\n\n\nAlumni\nFree\nGuests\n$50\nLunch & champagne included\n\n\nRSVP by\nMay 9th
URL:https://www.duny.edu/events/alumni-law-panel/
LOCATION:Palisades Room\, Casey Hall
CATEGORIES:Academics,All Events,Alumni Events,Student Events
END:VEVENT
BEGIN:VEVENT
DTSTART;TZID=America/New_York:20260401T060000
DTEND;TZID=America/New_York:20260401T060000
DTSTAMP:20260425T075853
CREATED:20250224T152035Z
LAST-MODIFIED:20250224T152035Z
UID:10001338-1775023200-1775023200@www.duny.edu
SUMMARY:Classes follow Monday Schedule
DESCRIPTION:Legacy Class Reunion \nOnce a Charger.\nAlways a Charger.\n\nCome back. Reconnect. Celebrate. \nJoin us for an afternoon honoring the milestone 50th and 25th anniversary classes — reconnect with classmates and raise a glass to the legacy you've built since. \n\n\nDate\nSaturday\, May 16th\nTime\n1:00 PM\nLocation\nGranito Badami Room\n\n\n\n50\nYears\n25\nYears\n\n\n\nAlumni\nFree\nGuests\n$50\nLunch & champagne included\n\n\nRSVP by\nMay 9th
URL:https://www.duny.edu/events/classes-follow-monday-schedule/
CATEGORIES:Academics
END:VEVENT
BEGIN:VEVENT
DTSTART;VALUE=DATE:20260402
DTEND;VALUE=DATE:20260403
DTSTAMP:20260425T075853
CREATED:20250521T194617Z
LAST-MODIFIED:20250521T194617Z
UID:10001392-1775088000-1775174399@www.duny.edu
SUMMARY:Holy Thursday
DESCRIPTION:Legacy Class Reunion \nOnce a Charger.\nAlways a Charger.\n\nCome back. Reconnect. Celebrate. \nJoin us for an afternoon honoring the milestone 50th and 25th anniversary classes — reconnect with classmates and raise a glass to the legacy you've built since. \n\n\nDate\nSaturday\, May 16th\nTime\n1:00 PM\nLocation\nGranito Badami Room\n\n\n\n50\nYears\n25\nYears\n\n\n\nAlumni\nFree\nGuests\n$50\nLunch & champagne included\n\n\nRSVP by\nMay 9th
URL:https://www.duny.edu/events/holy-thursday/
END:VEVENT
BEGIN:VEVENT
DTSTART;TZID=America/New_York:20260402T000000
DTEND;TZID=America/New_York:20260406T000000
DTSTAMP:20260425T075853
CREATED:20250224T152213Z
LAST-MODIFIED:20250224T152213Z
UID:10001339-1775088000-1775433600@www.duny.edu
SUMMARY:Religious Holiday- University Closed
DESCRIPTION:Legacy Class Reunion \nOnce a Charger.\nAlways a Charger.\n\nCome back. Reconnect. Celebrate. \nJoin us for an afternoon honoring the milestone 50th and 25th anniversary classes — reconnect with classmates and raise a glass to the legacy you've built since. \n\n\nDate\nSaturday\, May 16th\nTime\n1:00 PM\nLocation\nGranito Badami Room\n\n\n\n50\nYears\n25\nYears\n\n\n\nAlumni\nFree\nGuests\n$50\nLunch & champagne included\n\n\nRSVP by\nMay 9th
URL:https://www.duny.edu/events/religious-holiday-university-closed/
CATEGORIES:Academics,Faculty and Staff
END:VEVENT
BEGIN:VEVENT
DTSTART;TZID=America/New_York:20260402T000000
DTEND;TZID=America/New_York:20260409T220000
DTSTAMP:20260425T075853
CREATED:20250521T192802Z
LAST-MODIFIED:20250521T192802Z
UID:10001391-1775088000-1775772000@www.duny.edu
SUMMARY:Passover
DESCRIPTION:Legacy Class Reunion \nOnce a Charger.\nAlways a Charger.\n\nCome back. Reconnect. Celebrate. \nJoin us for an afternoon honoring the milestone 50th and 25th anniversary classes — reconnect with classmates and raise a glass to the legacy you've built since. \n\n\nDate\nSaturday\, May 16th\nTime\n1:00 PM\nLocation\nGranito Badami Room\n\n\n\n50\nYears\n25\nYears\n\n\n\nAlumni\nFree\nGuests\n$50\nLunch & champagne included\n\n\nRSVP by\nMay 9th
URL:https://www.duny.edu/events/passover-2/
END:VEVENT
BEGIN:VEVENT
DTSTART;VALUE=DATE:20260403
DTEND;VALUE=DATE:20260404
DTSTAMP:20260425T075853
CREATED:20250521T194709Z
LAST-MODIFIED:20250521T194709Z
UID:10001393-1775174400-1775260799@www.duny.edu
SUMMARY:Good Friday
DESCRIPTION:Legacy Class Reunion \nOnce a Charger.\nAlways a Charger.\n\nCome back. Reconnect. Celebrate. \nJoin us for an afternoon honoring the milestone 50th and 25th anniversary classes — reconnect with classmates and raise a glass to the legacy you've built since. \n\n\nDate\nSaturday\, May 16th\nTime\n1:00 PM\nLocation\nGranito Badami Room\n\n\n\n50\nYears\n25\nYears\n\n\n\nAlumni\nFree\nGuests\n$50\nLunch & champagne included\n\n\nRSVP by\nMay 9th
URL:https://www.duny.edu/events/good-friday-3/
END:VEVENT
BEGIN:VEVENT
DTSTART;VALUE=DATE:20260404
DTEND;VALUE=DATE:20260405
DTSTAMP:20260425T075853
CREATED:20250521T194933Z
LAST-MODIFIED:20260215T214612Z
UID:10001394-1775260800-1775347199@www.duny.edu
SUMMARY:Holy Saturday
DESCRIPTION:Legacy Class Reunion \nOnce a Charger.\nAlways a Charger.\n\nCome back. Reconnect. Celebrate. \nJoin us for an afternoon honoring the milestone 50th and 25th anniversary classes — reconnect with classmates and raise a glass to the legacy you've built since. \n\n\nDate\nSaturday\, May 16th\nTime\n1:00 PM\nLocation\nGranito Badami Room\n\n\n\n50\nYears\n25\nYears\n\n\n\nAlumni\nFree\nGuests\n$50\nLunch & champagne included\n\n\nRSVP by\nMay 9th
URL:https://www.duny.edu/events/holy-saturday-3/
END:VEVENT
BEGIN:VEVENT
DTSTART;VALUE=DATE:20260405
DTEND;VALUE=DATE:20260406
DTSTAMP:20260425T075853
CREATED:20250521T195035Z
LAST-MODIFIED:20260215T214605Z
UID:10001395-1775347200-1775433599@www.duny.edu
SUMMARY:Easter Sunday
DESCRIPTION:Legacy Class Reunion \nOnce a Charger.\nAlways a Charger.\n\nCome back. Reconnect. Celebrate. \nJoin us for an afternoon honoring the milestone 50th and 25th anniversary classes — reconnect with classmates and raise a glass to the legacy you've built since. \n\n\nDate\nSaturday\, May 16th\nTime\n1:00 PM\nLocation\nGranito Badami Room\n\n\n\n50\nYears\n25\nYears\n\n\n\nAlumni\nFree\nGuests\n$50\nLunch & champagne included\n\n\nRSVP by\nMay 9th
URL:https://www.duny.edu/events/easter-sunday/
END:VEVENT
BEGIN:VEVENT
DTSTART;TZID=America/New_York:20260408T060000
DTEND;TZID=America/New_York:20260408T060000
DTSTAMP:20260425T075853
CREATED:20250224T152347Z
LAST-MODIFIED:20260112T163315Z
UID:10001340-1775628000-1775628000@www.duny.edu
SUMMARY:Last Day for Withdrawl from Spring Semester Courses
DESCRIPTION:Legacy Class Reunion \nOnce a Charger.\nAlways a Charger.\n\nCome back. Reconnect. Celebrate. \nJoin us for an afternoon honoring the milestone 50th and 25th anniversary classes — reconnect with classmates and raise a glass to the legacy you've built since. \n\n\nDate\nSaturday\, May 16th\nTime\n1:00 PM\nLocation\nGranito Badami Room\n\n\n\n50\nYears\n25\nYears\n\n\n\nAlumni\nFree\nGuests\n$50\nLunch & champagne included\n\n\nRSVP by\nMay 9th
URL:https://www.duny.edu/events/last-day-for-withdrawl-from-spring-semester-courses/
CATEGORIES:Academics
END:VEVENT
BEGIN:VEVENT
DTSTART;TZID=America/New_York:20260408T160000
DTEND;TZID=America/New_York:20260408T180000
DTSTAMP:20260425T075853
CREATED:20260225T125727Z
LAST-MODIFIED:20260225T125727Z
UID:10001559-1775664000-1775671200@www.duny.edu
SUMMARY:Pop up Shop
DESCRIPTION:Legacy Class Reunion \nOnce a Charger.\nAlways a Charger.\n\nCome back. Reconnect. Celebrate. \nJoin us for an afternoon honoring the milestone 50th and 25th anniversary classes — reconnect with classmates and raise a glass to the legacy you've built since. \n\n\nDate\nSaturday\, May 16th\nTime\n1:00 PM\nLocation\nGranito Badami Room\n\n\n\n50\nYears\n25\nYears\n\n\n\nAlumni\nFree\nGuests\n$50\nLunch & champagne included\n\n\nRSVP by\nMay 9th
URL:https://www.duny.edu/events/pop-up-shop-2/
LOCATION:Granito Center\, 470 Western Highway\, NY\, United States
CATEGORIES:All Events,Faculty and Staff,Student Events
END:VEVENT
BEGIN:VEVENT
DTSTART;TZID=America/New_York:20260409T170000
DTEND;TZID=America/New_York:20260409T170000
DTSTAMP:20260425T075853
CREATED:20250521T201211Z
LAST-MODIFIED:20250521T201211Z
UID:10001398-1775754000-1775754000@www.duny.edu
SUMMARY:Kappa Delta Pi Honor Society Induction
DESCRIPTION:Legacy Class Reunion \nOnce a Charger.\nAlways a Charger.\n\nCome back. Reconnect. Celebrate. \nJoin us for an afternoon honoring the milestone 50th and 25th anniversary classes — reconnect with classmates and raise a glass to the legacy you've built since. \n\n\nDate\nSaturday\, May 16th\nTime\n1:00 PM\nLocation\nGranito Badami Room\n\n\n\n50\nYears\n25\nYears\n\n\n\nAlumni\nFree\nGuests\n$50\nLunch & champagne included\n\n\nRSVP by\nMay 9th
URL:https://www.duny.edu/events/kappa-delta-pi-honor-society-induction-2/
CATEGORIES:Academics,All Events,Student Events
ORGANIZER;CN="Mike Kelly Associate Professor of Teacher Ed & Social Work":MAILTO:mike.kelly@duny.edu
END:VEVENT
BEGIN:VEVENT
DTSTART;VALUE=DATE:20260411
DTEND;VALUE=DATE:20260412
DTSTAMP:20260425T075853
CREATED:20250605T201024Z
LAST-MODIFIED:20250605T201024Z
UID:10001415-1775865600-1775951999@www.duny.edu
SUMMARY:Graduate Education Quarter IV Begins
DESCRIPTION:Legacy Class Reunion \nOnce a Charger.\nAlways a Charger.\n\nCome back. Reconnect. Celebrate. \nJoin us for an afternoon honoring the milestone 50th and 25th anniversary classes — reconnect with classmates and raise a glass to the legacy you've built since. \n\n\nDate\nSaturday\, May 16th\nTime\n1:00 PM\nLocation\nGranito Badami Room\n\n\n\n50\nYears\n25\nYears\n\n\n\nAlumni\nFree\nGuests\n$50\nLunch & champagne included\n\n\nRSVP by\nMay 9th
URL:https://www.duny.edu/events/graduate-education-quarter-iv-begins-3/
CATEGORIES:Academics
END:VEVENT
BEGIN:VEVENT
DTSTART;TZID=America/New_York:20260412T190000
DTEND;TZID=America/New_York:20260412T190000
DTSTAMP:20260425T075853
CREATED:20260121T163226Z
LAST-MODIFIED:20260202T202340Z
UID:10001532-1776020400-1776020400@www.duny.edu
SUMMARY:Campus Mass and Liturgy
DESCRIPTION:Legacy Class Reunion \nOnce a Charger.\nAlways a Charger.\n\nCome back. Reconnect. Celebrate. \nJoin us for an afternoon honoring the milestone 50th and 25th anniversary classes — reconnect with classmates and raise a glass to the legacy you've built since. \n\n\nDate\nSaturday\, May 16th\nTime\n1:00 PM\nLocation\nGranito Badami Room\n\n\n\n50\nYears\n25\nYears\n\n\n\nAlumni\nFree\nGuests\n$50\nLunch & champagne included\n\n\nRSVP by\nMay 9th
URL:https://www.duny.edu/events/campus-mass-and-liturgy-2/2026-04-12/
LOCATION:Rosary Hall Chapel\, 480 Western Highway\, Blauvelt\, NY\, 10913\, United States
CATEGORIES:All Events,Community Events & Workshops,Faculty and Staff,Student Events
END:VEVENT
BEGIN:VEVENT
DTSTART;TZID=America/New_York:20260414T140000
DTEND;TZID=America/New_York:20260414T160000
DTSTAMP:20260425T075853
CREATED:20260225T125415Z
LAST-MODIFIED:20260225T125415Z
UID:10001558-1776175200-1776182400@www.duny.edu
SUMMARY:Cupcakes & Kudos
DESCRIPTION:Legacy Class Reunion \nOnce a Charger.\nAlways a Charger.\n\nCome back. Reconnect. Celebrate. \nJoin us for an afternoon honoring the milestone 50th and 25th anniversary classes — reconnect with classmates and raise a glass to the legacy you've built since. \n\n\nDate\nSaturday\, May 16th\nTime\n1:00 PM\nLocation\nGranito Badami Room\n\n\n\n50\nYears\n25\nYears\n\n\n\nAlumni\nFree\nGuests\n$50\nLunch & champagne included\n\n\nRSVP by\nMay 9th
URL:https://www.duny.edu/events/cupcakes-kudos/
LOCATION:Casey Hall\, 470 Western Highway\, Orangeburg\, 10962\, United States
CATEGORIES:All Events,Student Events
ORGANIZER;CN="Katie Anderson%2C Director New Student and Transition Center":MAILTO:katie.anderson@duny.edu
END:VEVENT
END:VCALENDAR