BEGIN:VCALENDAR
VERSION:2.0
PRODID:-//Dominican University - ECPv6.15.18//NONSGML v1.0//EN
CALSCALE:GREGORIAN
METHOD:PUBLISH
X-ORIGINAL-URL:https://www.duny.edu
X-WR-CALDESC:Events for Dominican University
REFRESH-INTERVAL;VALUE=DURATION:PT1H
X-Robots-Tag:noindex
X-PUBLISHED-TTL:PT1H
BEGIN:VTIMEZONE
TZID:America/New_York
BEGIN:DAYLIGHT
TZOFFSETFROM:-0500
TZOFFSETTO:-0400
TZNAME:EDT
DTSTART:20250309T070000
END:DAYLIGHT
BEGIN:STANDARD
TZOFFSETFROM:-0400
TZOFFSETTO:-0500
TZNAME:EST
DTSTART:20251102T060000
END:STANDARD
BEGIN:DAYLIGHT
TZOFFSETFROM:-0500
TZOFFSETTO:-0400
TZNAME:EDT
DTSTART:20260308T070000
END:DAYLIGHT
BEGIN:STANDARD
TZOFFSETFROM:-0400
TZOFFSETTO:-0500
TZNAME:EST
DTSTART:20261101T060000
END:STANDARD
BEGIN:DAYLIGHT
TZOFFSETFROM:-0500
TZOFFSETTO:-0400
TZNAME:EDT
DTSTART:20270314T070000
END:DAYLIGHT
BEGIN:STANDARD
TZOFFSETFROM:-0400
TZOFFSETTO:-0500
TZNAME:EST
DTSTART:20271107T060000
END:STANDARD
BEGIN:DAYLIGHT
TZOFFSETFROM:-0500
TZOFFSETTO:-0400
TZNAME:EDT
DTSTART:20280312T070000
END:DAYLIGHT
BEGIN:STANDARD
TZOFFSETFROM:-0400
TZOFFSETTO:-0500
TZNAME:EST
DTSTART:20281105T060000
END:STANDARD
END:VTIMEZONE
BEGIN:VEVENT
DTSTART;VALUE=DATE:20261031
DTEND;VALUE=DATE:20261101
DTSTAMP:20260424T203952
CREATED:20260414T004344Z
LAST-MODIFIED:20260414T004344Z
UID:10001592-1793404800-1793491199@www.duny.edu
SUMMARY:Halloween 🎃
DESCRIPTION:Legacy Class Reunion \nOnce a Charger.\nAlways a Charger.\n\nCome back. Reconnect. Celebrate. \nJoin us for an afternoon honoring the milestone 50th and 25th anniversary classes — reconnect with classmates and raise a glass to the legacy you've built since. \n\n\nDate\nSaturday\, May 16th\nTime\n1:00 PM\nLocation\nGranito Badami Room\n\n\n\n50\nYears\n25\nYears\n\n\n\nAlumni\nFree\nGuests\n$50\nLunch & champagne included\n\n\nRSVP by\nMay 9th
URL:https://www.duny.edu/events/halloween-%f0%9f%8e%83/
END:VEVENT
BEGIN:VEVENT
DTSTART;VALUE=DATE:20261101
DTEND;VALUE=DATE:20261102
DTSTAMP:20260424T203952
CREATED:20260414T010324Z
LAST-MODIFIED:20260414T010324Z
UID:10001599-1793491200-1793577599@www.duny.edu
SUMMARY:All Saints' Day
DESCRIPTION:Legacy Class Reunion \nOnce a Charger.\nAlways a Charger.\n\nCome back. Reconnect. Celebrate. \nJoin us for an afternoon honoring the milestone 50th and 25th anniversary classes — reconnect with classmates and raise a glass to the legacy you've built since. \n\n\nDate\nSaturday\, May 16th\nTime\n1:00 PM\nLocation\nGranito Badami Room\n\n\n\n50\nYears\n25\nYears\n\n\n\nAlumni\nFree\nGuests\n$50\nLunch & champagne included\n\n\nRSVP by\nMay 9th
URL:https://www.duny.edu/events/all-saints-day/
END:VEVENT
BEGIN:VEVENT
DTSTART;VALUE=DATE:20261102
DTEND;VALUE=DATE:20261103
DTSTAMP:20260424T203952
CREATED:20260413T233713Z
LAST-MODIFIED:20260413T233713Z
UID:10001583-1793577600-1793663999@www.duny.edu
SUMMARY:Last day to withdrawal from Fall Semester classes
DESCRIPTION:Legacy Class Reunion \nOnce a Charger.\nAlways a Charger.\n\nCome back. Reconnect. Celebrate. \nJoin us for an afternoon honoring the milestone 50th and 25th anniversary classes — reconnect with classmates and raise a glass to the legacy you've built since. \n\n\nDate\nSaturday\, May 16th\nTime\n1:00 PM\nLocation\nGranito Badami Room\n\n\n\n50\nYears\n25\nYears\n\n\n\nAlumni\nFree\nGuests\n$50\nLunch & champagne included\n\n\nRSVP by\nMay 9th
URL:https://www.duny.edu/events/last-day-to-withdrawal-from-fall-semester-classes/
CATEGORIES:Academics
END:VEVENT
BEGIN:VEVENT
DTSTART;VALUE=DATE:20261111
DTEND;VALUE=DATE:20261112
DTSTAMP:20260424T203952
CREATED:20260414T005355Z
LAST-MODIFIED:20260414T005425Z
UID:10001595-1794355200-1794441599@www.duny.edu
SUMMARY:Veterans Day
DESCRIPTION:Legacy Class Reunion \nOnce a Charger.\nAlways a Charger.\n\nCome back. Reconnect. Celebrate. \nJoin us for an afternoon honoring the milestone 50th and 25th anniversary classes — reconnect with classmates and raise a glass to the legacy you've built since. \n\n\nDate\nSaturday\, May 16th\nTime\n1:00 PM\nLocation\nGranito Badami Room\n\n\n\n50\nYears\n25\nYears\n\n\n\nAlumni\nFree\nGuests\n$50\nLunch & champagne included\n\n\nRSVP by\nMay 9th
URL:https://www.duny.edu/events/veterans-day-26/
END:VEVENT
BEGIN:VEVENT
DTSTART;TZID=America/New_York:20261116T183000
DTEND;TZID=America/New_York:20261116T183000
DTSTAMP:20260424T203952
CREATED:20260413T234634Z
LAST-MODIFIED:20260413T234634Z
UID:10001584-1794853800-1794853800@www.duny.edu
SUMMARY:Honors Convocation
DESCRIPTION:Legacy Class Reunion \nOnce a Charger.\nAlways a Charger.\n\nCome back. Reconnect. Celebrate. \nJoin us for an afternoon honoring the milestone 50th and 25th anniversary classes — reconnect with classmates and raise a glass to the legacy you've built since. \n\n\nDate\nSaturday\, May 16th\nTime\n1:00 PM\nLocation\nGranito Badami Room\n\n\n\n50\nYears\n25\nYears\n\n\n\nAlumni\nFree\nGuests\n$50\nLunch & champagne included\n\n\nRSVP by\nMay 9th
URL:https://www.duny.edu/events/honors-convocation/
CATEGORIES:Academics,Student Events
END:VEVENT
BEGIN:VEVENT
DTSTART;VALUE=DATE:20261120
DTEND;VALUE=DATE:20261121
DTSTAMP:20260424T203952
CREATED:20260413T234742Z
LAST-MODIFIED:20260413T234742Z
UID:10001585-1795132800-1795219199@www.duny.edu
SUMMARY:Last day for January graduates to file a "Candidate for Degree" form
DESCRIPTION:Legacy Class Reunion \nOnce a Charger.\nAlways a Charger.\n\nCome back. Reconnect. Celebrate. \nJoin us for an afternoon honoring the milestone 50th and 25th anniversary classes — reconnect with classmates and raise a glass to the legacy you've built since. \n\n\nDate\nSaturday\, May 16th\nTime\n1:00 PM\nLocation\nGranito Badami Room\n\n\n\n50\nYears\n25\nYears\n\n\n\nAlumni\nFree\nGuests\n$50\nLunch & champagne included\n\n\nRSVP by\nMay 9th
URL:https://www.duny.edu/events/last-day-for-january-graduates-to-file-a-candidate-for-degree-form/
CATEGORIES:Academics
END:VEVENT
BEGIN:VEVENT
DTSTART;VALUE=DATE:20261125
DTEND;VALUE=DATE:20261130
DTSTAMP:20260424T203952
CREATED:20260413T235734Z
LAST-MODIFIED:20260413T235750Z
UID:10001586-1795564800-1795996799@www.duny.edu
SUMMARY:Thanksgiving Recess🦃 University Closed
DESCRIPTION:Legacy Class Reunion \nOnce a Charger.\nAlways a Charger.\n\nCome back. Reconnect. Celebrate. \nJoin us for an afternoon honoring the milestone 50th and 25th anniversary classes — reconnect with classmates and raise a glass to the legacy you've built since. \n\n\nDate\nSaturday\, May 16th\nTime\n1:00 PM\nLocation\nGranito Badami Room\n\n\n\n50\nYears\n25\nYears\n\n\n\nAlumni\nFree\nGuests\n$50\nLunch & champagne included\n\n\nRSVP by\nMay 9th
URL:https://www.duny.edu/events/thanksgiving-recess%f0%9f%a6%83-university-closed/
CATEGORIES:Academics,Faculty and Staff
END:VEVENT
BEGIN:VEVENT
DTSTART;VALUE=DATE:20261129
DTEND;VALUE=DATE:20261130
DTSTAMP:20260424T203952
CREATED:20260414T005618Z
LAST-MODIFIED:20260414T005618Z
UID:10001596-1795910400-1795996799@www.duny.edu
SUMMARY:First Sunday of Advent
DESCRIPTION:Legacy Class Reunion \nOnce a Charger.\nAlways a Charger.\n\nCome back. Reconnect. Celebrate. \nJoin us for an afternoon honoring the milestone 50th and 25th anniversary classes — reconnect with classmates and raise a glass to the legacy you've built since. \n\n\nDate\nSaturday\, May 16th\nTime\n1:00 PM\nLocation\nGranito Badami Room\n\n\n\n50\nYears\n25\nYears\n\n\n\nAlumni\nFree\nGuests\n$50\nLunch & champagne included\n\n\nRSVP by\nMay 9th
URL:https://www.duny.edu/events/first-sunday-of-advent/
END:VEVENT
BEGIN:VEVENT
DTSTART;VALUE=DATE:20261206
DTEND;VALUE=DATE:20261207
DTSTAMP:20260424T203952
CREATED:20260414T003933Z
LAST-MODIFIED:20260414T003933Z
UID:10001591-1796515200-1796601599@www.duny.edu
SUMMARY:Christmas Concert
DESCRIPTION:Legacy Class Reunion \nOnce a Charger.\nAlways a Charger.\n\nCome back. Reconnect. Celebrate. \nJoin us for an afternoon honoring the milestone 50th and 25th anniversary classes — reconnect with classmates and raise a glass to the legacy you've built since. \n\n\nDate\nSaturday\, May 16th\nTime\n1:00 PM\nLocation\nGranito Badami Room\n\n\n\n50\nYears\n25\nYears\n\n\n\nAlumni\nFree\nGuests\n$50\nLunch & champagne included\n\n\nRSVP by\nMay 9th
URL:https://www.duny.edu/events/christmas-concert-2026/
CATEGORIES:All Events,Alumni Events,Community Events & Workshops,Faculty and Staff
END:VEVENT
BEGIN:VEVENT
DTSTART;VALUE=DATE:20261208
DTEND;VALUE=DATE:20261209
DTSTAMP:20260424T203952
CREATED:20260414T010542Z
LAST-MODIFIED:20260414T010542Z
UID:10001600-1796688000-1796774399@www.duny.edu
SUMMARY:Immaculate Conception
DESCRIPTION:Legacy Class Reunion \nOnce a Charger.\nAlways a Charger.\n\nCome back. Reconnect. Celebrate. \nJoin us for an afternoon honoring the milestone 50th and 25th anniversary classes — reconnect with classmates and raise a glass to the legacy you've built since. \n\n\nDate\nSaturday\, May 16th\nTime\n1:00 PM\nLocation\nGranito Badami Room\n\n\n\n50\nYears\n25\nYears\n\n\n\nAlumni\nFree\nGuests\n$50\nLunch & champagne included\n\n\nRSVP by\nMay 9th
URL:https://www.duny.edu/events/immaculate-conception/
END:VEVENT
BEGIN:VEVENT
DTSTART;TZID=America/New_York:20261213T080000
DTEND;TZID=America/New_York:20261217T200000
DTSTAMP:20260424T203952
CREATED:20260414T001632Z
LAST-MODIFIED:20260414T001632Z
UID:10001587-1797148800-1797537600@www.duny.edu
SUMMARY:Fall Semester: Final Exam Week
DESCRIPTION:Legacy Class Reunion \nOnce a Charger.\nAlways a Charger.\n\nCome back. Reconnect. Celebrate. \nJoin us for an afternoon honoring the milestone 50th and 25th anniversary classes — reconnect with classmates and raise a glass to the legacy you've built since. \n\n\nDate\nSaturday\, May 16th\nTime\n1:00 PM\nLocation\nGranito Badami Room\n\n\n\n50\nYears\n25\nYears\n\n\n\nAlumni\nFree\nGuests\n$50\nLunch & champagne included\n\n\nRSVP by\nMay 9th
URL:https://www.duny.edu/events/fall-semester-final-exam-week/
CATEGORIES:Academics
END:VEVENT
BEGIN:VEVENT
DTSTART;VALUE=DATE:20261223
DTEND;VALUE=DATE:20270104
DTSTAMP:20260424T203952
CREATED:20260414T002013Z
LAST-MODIFIED:20260414T002457Z
UID:10001588-1797984000-1799020799@www.duny.edu
SUMMARY:Christmas Break - University Closed
DESCRIPTION:Legacy Class Reunion \nOnce a Charger.\nAlways a Charger.\n\nCome back. Reconnect. Celebrate. \nJoin us for an afternoon honoring the milestone 50th and 25th anniversary classes — reconnect with classmates and raise a glass to the legacy you've built since. \n\n\nDate\nSaturday\, May 16th\nTime\n1:00 PM\nLocation\nGranito Badami Room\n\n\n\n50\nYears\n25\nYears\n\n\n\nAlumni\nFree\nGuests\n$50\nLunch & champagne included\n\n\nRSVP by\nMay 9th
URL:https://www.duny.edu/events/christmas-break-university-closed/
CATEGORIES:Academics,Faculty and Staff,Student Events
END:VEVENT
BEGIN:VEVENT
DTSTART;TZID=America/New_York:20261225T000000
DTEND;TZID=America/New_York:20261225T233000
DTSTAMP:20260424T203952
CREATED:20260116T122110Z
LAST-MODIFIED:20260116T122110Z
UID:10001523-1798156800-1798241400@www.duny.edu
SUMMARY:Christmas Day 🎄
DESCRIPTION:Legacy Class Reunion \nOnce a Charger.\nAlways a Charger.\n\nCome back. Reconnect. Celebrate. \nJoin us for an afternoon honoring the milestone 50th and 25th anniversary classes — reconnect with classmates and raise a glass to the legacy you've built since. \n\n\nDate\nSaturday\, May 16th\nTime\n1:00 PM\nLocation\nGranito Badami Room\n\n\n\n50\nYears\n25\nYears\n\n\n\nAlumni\nFree\nGuests\n$50\nLunch & champagne included\n\n\nRSVP by\nMay 9th
URL:https://www.duny.edu/events/christmas-day-%f0%9f%8e%84/
ATTACH;FMTTYPE=image/png:https://www.duny.edu/wp-content/uploads/2026/01/Christmas-Header.png
END:VEVENT
BEGIN:VEVENT
DTSTART;VALUE=DATE:20270101
DTEND;VALUE=DATE:20270102
DTSTAMP:20260424T203952
CREATED:20260414T003143Z
LAST-MODIFIED:20260414T003219Z
UID:10001590-1798761600-1798847999@www.duny.edu
SUMMARY:New Year's Day
DESCRIPTION:Legacy Class Reunion \nOnce a Charger.\nAlways a Charger.\n\nCome back. Reconnect. Celebrate. \nJoin us for an afternoon honoring the milestone 50th and 25th anniversary classes — reconnect with classmates and raise a glass to the legacy you've built since. \n\n\nDate\nSaturday\, May 16th\nTime\n1:00 PM\nLocation\nGranito Badami Room\n\n\n\n50\nYears\n25\nYears\n\n\n\nAlumni\nFree\nGuests\n$50\nLunch & champagne included\n\n\nRSVP by\nMay 9th
URL:https://www.duny.edu/events/new-years-day/
CATEGORIES:Faculty and Staff
END:VEVENT
BEGIN:VEVENT
DTSTART;VALUE=DATE:20270101
DTEND;VALUE=DATE:20270102
DTSTAMP:20260424T203952
CREATED:20260414T005759Z
LAST-MODIFIED:20260414T005759Z
UID:10001598-1798761600-1798847999@www.duny.edu
SUMMARY:Solemnity of Mary\, Mother of God
DESCRIPTION:Legacy Class Reunion \nOnce a Charger.\nAlways a Charger.\n\nCome back. Reconnect. Celebrate. \nJoin us for an afternoon honoring the milestone 50th and 25th anniversary classes — reconnect with classmates and raise a glass to the legacy you've built since. \n\n\nDate\nSaturday\, May 16th\nTime\n1:00 PM\nLocation\nGranito Badami Room\n\n\n\n50\nYears\n25\nYears\n\n\n\nAlumni\nFree\nGuests\n$50\nLunch & champagne included\n\n\nRSVP by\nMay 9th
URL:https://www.duny.edu/events/solemnity-of-mary-mother-of-god-2/
END:VEVENT
BEGIN:VEVENT
DTSTART;VALUE=DATE:20270118
DTEND;VALUE=DATE:20270119
DTSTAMP:20260424T203952
CREATED:20260414T004742Z
LAST-MODIFIED:20260414T004742Z
UID:10001593-1800230400-1800316799@www.duny.edu
SUMMARY:Martin Luther King Jr. Day
DESCRIPTION:Legacy Class Reunion \nOnce a Charger.\nAlways a Charger.\n\nCome back. Reconnect. Celebrate. \nJoin us for an afternoon honoring the milestone 50th and 25th anniversary classes — reconnect with classmates and raise a glass to the legacy you've built since. \n\n\nDate\nSaturday\, May 16th\nTime\n1:00 PM\nLocation\nGranito Badami Room\n\n\n\n50\nYears\n25\nYears\n\n\n\nAlumni\nFree\nGuests\n$50\nLunch & champagne included\n\n\nRSVP by\nMay 9th
URL:https://www.duny.edu/events/martin-luther-king-jr-day/
END:VEVENT
END:VCALENDAR