BEGIN:VCALENDAR
VERSION:2.0
PRODID:-//Dominican University - ECPv6.15.18//NONSGML v1.0//EN
CALSCALE:GREGORIAN
METHOD:PUBLISH
X-WR-CALNAME:Dominican University
X-ORIGINAL-URL:https://www.duny.edu
X-WR-CALDESC:Events for Dominican University
REFRESH-INTERVAL;VALUE=DURATION:PT1H
X-Robots-Tag:noindex
X-PUBLISHED-TTL:PT1H
BEGIN:VTIMEZONE
TZID:America/New_York
BEGIN:DAYLIGHT
TZOFFSETFROM:-0500
TZOFFSETTO:-0400
TZNAME:EDT
DTSTART:20250309T070000
END:DAYLIGHT
BEGIN:STANDARD
TZOFFSETFROM:-0400
TZOFFSETTO:-0500
TZNAME:EST
DTSTART:20251102T060000
END:STANDARD
BEGIN:DAYLIGHT
TZOFFSETFROM:-0500
TZOFFSETTO:-0400
TZNAME:EDT
DTSTART:20260308T070000
END:DAYLIGHT
BEGIN:STANDARD
TZOFFSETFROM:-0400
TZOFFSETTO:-0500
TZNAME:EST
DTSTART:20261101T060000
END:STANDARD
BEGIN:DAYLIGHT
TZOFFSETFROM:-0500
TZOFFSETTO:-0400
TZNAME:EDT
DTSTART:20270314T070000
END:DAYLIGHT
BEGIN:STANDARD
TZOFFSETFROM:-0400
TZOFFSETTO:-0500
TZNAME:EST
DTSTART:20271107T060000
END:STANDARD
END:VTIMEZONE
BEGIN:VEVENT
DTSTART;TZID=America/New_York:20260429T173000
DTEND;TZID=America/New_York:20260429T173000
DTSTAMP:20260424T143450
CREATED:20260319T143954Z
LAST-MODIFIED:20260416T194636Z
UID:10001570-1777483800-1777483800@www.duny.edu
SUMMARY:A Fireside Chat with President Dr. Manuel Martínez
DESCRIPTION:<div>\n\n  <p>Join us for an engaging conversation with President <strong>Dr. Manuel Martínez</strong> as he shares updates\, insights\, and his vision for Dominican University New York.</p>\n\n  <p>This special fireside chat offers a unique opportunity to hear directly from Dr. Martínez\, ask questions\, and connect with fellow alumni and friends of the University.</p>\n\n  <p>Learn more about exciting new initiatives\, including the launch of <strong>digital badges</strong> — designed to recognize achievements\, enhance professional growth\, and strengthen lifelong connections to Dominican.</p>\n\n  <div style="border-left:3px solid #A6192E; padding:16px 20px; margin:24px 0;">\n    <p style="margin:0 0 6px 0;"><strong>Date</strong>   Wednesday\, April 29th</p>\n    <p style="margin:0 0 6px 0;"><strong>Time</strong>   5:30 PM</p>\n    <p style="margin:0;"><strong>Location</strong>   Holt Room in Hennessy</p>\n  </div>\n\n  <p>Enjoy a complimentary dinner and meaningful conversation in a welcoming setting.</p>\n\n  <p><strong>Registration is required by Friday\, April 24th.</strong> The first 10 alumni registrants will receive a free DUNY Charger t-shirt.</p>\n\n  <p>We look forward to seeing you there!</p>\n\n</div>\n\n\nOops! We could not locate your form.
URL:https://www.duny.edu/events/fireside-chat-2026/
LOCATION:Holt Room- Hennessy Center\, 495 Western Highway\, Blauvelt\, NY\, 10913\, United States
CATEGORIES:All Events,Faculty and Staff,Student Events
END:VEVENT
END:VCALENDAR