BEGIN:VCALENDAR
VERSION:2.0
PRODID:-//Dominican University - ECPv6.15.18//NONSGML v1.0//EN
CALSCALE:GREGORIAN
METHOD:PUBLISH
X-ORIGINAL-URL:https://www.duny.edu
X-WR-CALDESC:Events for Dominican University
REFRESH-INTERVAL;VALUE=DURATION:PT1H
X-Robots-Tag:noindex
X-PUBLISHED-TTL:PT1H
BEGIN:VTIMEZONE
TZID:America/New_York
BEGIN:DAYLIGHT
TZOFFSETFROM:-0500
TZOFFSETTO:-0400
TZNAME:EDT
DTSTART:20240310T070000
END:DAYLIGHT
BEGIN:STANDARD
TZOFFSETFROM:-0400
TZOFFSETTO:-0500
TZNAME:EST
DTSTART:20241103T060000
END:STANDARD
BEGIN:DAYLIGHT
TZOFFSETFROM:-0500
TZOFFSETTO:-0400
TZNAME:EDT
DTSTART:20250309T070000
END:DAYLIGHT
BEGIN:STANDARD
TZOFFSETFROM:-0400
TZOFFSETTO:-0500
TZNAME:EST
DTSTART:20251102T060000
END:STANDARD
BEGIN:DAYLIGHT
TZOFFSETFROM:-0500
TZOFFSETTO:-0400
TZNAME:EDT
DTSTART:20260308T070000
END:DAYLIGHT
BEGIN:STANDARD
TZOFFSETFROM:-0400
TZOFFSETTO:-0500
TZNAME:EST
DTSTART:20261101T060000
END:STANDARD
END:VTIMEZONE
BEGIN:VEVENT
DTSTART;TZID=America/New_York:20251005T190000
DTEND;TZID=America/New_York:20251005T190000
DTSTAMP:20260421T133921
CREATED:20250815T005012Z
LAST-MODIFIED:20260413T231842Z
UID:10001472-1759690800-1759690800@www.duny.edu
SUMMARY:Campus Mass
DESCRIPTION:All are welcome to join us for Campus Mass\, held weekly in the Rosary Hall Chapel on Sundays at 7 p.m. This cherished tradition offers our campus community a time for worship\, reflection\, and fellowship. \nFall 2025 Dates:8/24\, 8/31\, 9/7\, 9/14\, 9/28\, 10/5\, 10/12\, 10/19\, 10/26\, 11/2\, 11/9\, 11/16\, 11/23\, 12/7 \nPlease Note: \n\n\nNo Campus Mass on 9/21. Join us instead for the Fire in the Sky Family Mass on 9/20 in the Motherhouse Chapel. \n\n\nNo Campus Mass on 11/30 due to Thanksgiving Break.
URL:https://www.duny.edu/events/campus-mass/2025-10-05/
LOCATION:Rosary Hall Chapel\, 480 Western Highway\, Blauvelt\, NY\, 10913\, United States
CATEGORIES:All Events,Student Events
END:VEVENT
BEGIN:VEVENT
DTSTART;TZID=America/New_York:20251011T120000
DTEND;TZID=America/New_York:20251011T120000
DTSTAMP:20260421T133921
CREATED:20251008T184432Z
LAST-MODIFIED:20251008T184432Z
UID:10001502-1760184000-1760184000@www.duny.edu
SUMMARY:PINK OUT💗 Volleyball Game
DESCRIPTION:Show your support and school spirit this Saturday for the Pink Out Volleyball Game. \nDate: Saturday\, October 12th\nTime: 12:00 PM\nLocation: Hennessy Center  \nJoin us as our Women’s Volleyball team takes on Goldey-Beacom College in this special game dedicated to Breast Cancer Awareness Month. \nBe sure to wear pink to show your support!\n*Everyone wearing pink will receive a free giveaway\, and we will also have a table selling snacks throughout the game.* \nWe hope to see you on Saturday!
URL:https://www.duny.edu/events/pink-out%f0%9f%92%97-volleyball-game/
LOCATION:The Hennessy Center\, 470 Western Highway\, Blauvelt\, NY\, 10913\, United States
CATEGORIES:All Events,Athletics,Community Events & Workshops,Faculty and Staff,Student Events
END:VEVENT
BEGIN:VEVENT
DTSTART;TZID=America/New_York:20251012T190000
DTEND;TZID=America/New_York:20251012T190000
DTSTAMP:20260421T133921
CREATED:20250815T005012Z
LAST-MODIFIED:20260413T231842Z
UID:10001473-1760295600-1760295600@www.duny.edu
SUMMARY:Campus Mass
DESCRIPTION:All are welcome to join us for Campus Mass\, held weekly in the Rosary Hall Chapel on Sundays at 7 p.m. This cherished tradition offers our campus community a time for worship\, reflection\, and fellowship. \nFall 2025 Dates:8/24\, 8/31\, 9/7\, 9/14\, 9/28\, 10/5\, 10/12\, 10/19\, 10/26\, 11/2\, 11/9\, 11/16\, 11/23\, 12/7 \nPlease Note: \n\n\nNo Campus Mass on 9/21. Join us instead for the Fire in the Sky Family Mass on 9/20 in the Motherhouse Chapel. \n\n\nNo Campus Mass on 11/30 due to Thanksgiving Break.
URL:https://www.duny.edu/events/campus-mass/2025-10-12/
LOCATION:Rosary Hall Chapel\, 480 Western Highway\, Blauvelt\, NY\, 10913\, United States
CATEGORIES:All Events,Student Events
END:VEVENT
BEGIN:VEVENT
DTSTART;TZID=America/New_York:20251014T093000
DTEND;TZID=America/New_York:20251014T153000
DTSTAMP:20260421T133921
CREATED:20251008T183755Z
LAST-MODIFIED:20251008T183755Z
UID:10001501-1760434200-1760455800@www.duny.edu
SUMMARY:Blood Drive
DESCRIPTION:We’re hosting a Blood Drive with the New York Blood Center on Tuesday\, October 14th in the Doering Charger Center in the Hennessy Center and we’d love your support. \nIf you’re around and eligible to donate\, we encourage you to take a little time out of your day to help save lives. \nDate: Tuesday\, October 14\, 2025\nLocation: Hennessy Doering Charger Center (Rear gym)\nSign up here: https://donate.nybc.org/donor/schedules/drive_schedule/329729 \nEvery donation makes a difference!
URL:https://www.duny.edu/events/blood-drive/
LOCATION:The Doering Charger Center\, 495 Western Highway\, Blauvelt\, NY\, 10913\, United States
CATEGORIES:All Events,Alumni Events,Community Events & Workshops,Faculty and Staff,Student Events
END:VEVENT
BEGIN:VEVENT
DTSTART;TZID=America/New_York:20251014T141500
DTEND;TZID=America/New_York:20251014T141500
DTSTAMP:20260421T133921
CREATED:20251003T142612Z
LAST-MODIFIED:20251003T150732Z
UID:10001496-1760451300-1760451300@www.duny.edu
SUMMARY:Science Seminar
DESCRIPTION:The Science Department would like to invite you all to our second Science Seminar of the fall semester. \nWhen: Tuesday\, October 14\, 2025\nTime: 2:15 p.m.\nWhere: Hennessy Center\, Holt Room (in-person)\nOR via zoom.   \nOur seminar speaker\, Tricia Bautista\, is a board-certified physician in family medicine and an addiction specialist.  Currently\, she serves as the Director of Substance Use Services for Correctional Health Services and cares for justice involved patients on Rikers Island and in NYC Health + Hospitals.  Through her medical training\, she has developed an expertise in addiction medicine\, community-based harm reduction\, and overdose prevention\, and her interests have focused on caring for marginalized\, vulnerable populations.  Her talk titled\, “Breaking Barriers: Substance Use Care for Incarcerated Patients”\, which will touch upon her nontraditional path to medicine\, all of which has led her toward a deep commitment to caring for some of society’s most vulnerable populations.   \nAttached you will find our flyer for the talk including a quick summary on the topic as well as the zoom registration information for those attending remotely.   \nPlease note\, you do not need to register if you are planning on attending in-person.   \nYou can also use the following link to register for the zoom event: https://dc-edu.zoom.us/meeting/register/etr-ZayZTeqQNrDQUPbB0A.
URL:https://www.duny.edu/events/science-seminar/
LOCATION:Holt Room- Hennessy Center\, 495 Western Highway\, Blauvelt\, NY\, 10913\, United States
CATEGORIES:All Events,Community Events & Workshops,Faculty and Staff,Student Events
ORGANIZER;CN="Dr. Elena Guevara%2C PhD. Assistant Professor of Biology":MAILTO:eguevaratalarico@duny.edu
END:VEVENT
BEGIN:VEVENT
DTSTART;TZID=America/New_York:20251015T170000
DTEND;TZID=America/New_York:20251015T193000
DTSTAMP:20260421T133921
CREATED:20251014T165031Z
LAST-MODIFIED:20251015T123350Z
UID:10001503-1760547600-1760556600@www.duny.edu
SUMMARY:Open Mic Evening
DESCRIPTION:Students\, Staff and Faculty are cordially invited to an Open Mic Evening on October 15 from 5:00 PM to 7:30 PM in the Coreless Student Engagement Lounge (Granito Hall\, 2nd Floor) \n  \nIf you have any questions\, please email bonnie.snow@duny.edu
URL:https://www.duny.edu/events/open-mic-evening/
LOCATION:Corless Student Engagement Lounge
CATEGORIES:All Events,Faculty and Staff,Student Events
END:VEVENT
BEGIN:VEVENT
DTSTART;TZID=America/New_York:20251019T190000
DTEND;TZID=America/New_York:20251019T190000
DTSTAMP:20260421T133921
CREATED:20250815T005012Z
LAST-MODIFIED:20260413T231842Z
UID:10001474-1760900400-1760900400@www.duny.edu
SUMMARY:Campus Mass
DESCRIPTION:All are welcome to join us for Campus Mass\, held weekly in the Rosary Hall Chapel on Sundays at 7 p.m. This cherished tradition offers our campus community a time for worship\, reflection\, and fellowship. \nFall 2025 Dates:8/24\, 8/31\, 9/7\, 9/14\, 9/28\, 10/5\, 10/12\, 10/19\, 10/26\, 11/2\, 11/9\, 11/16\, 11/23\, 12/7 \nPlease Note: \n\n\nNo Campus Mass on 9/21. Join us instead for the Fire in the Sky Family Mass on 9/20 in the Motherhouse Chapel. \n\n\nNo Campus Mass on 11/30 due to Thanksgiving Break.
URL:https://www.duny.edu/events/campus-mass/2025-10-19/
LOCATION:Rosary Hall Chapel\, 480 Western Highway\, Blauvelt\, NY\, 10913\, United States
CATEGORIES:All Events,Student Events
END:VEVENT
BEGIN:VEVENT
DTSTART;TZID=America/New_York:20251021T130000
DTEND;TZID=America/New_York:20251021T150000
DTSTAMP:20260421T133921
CREATED:20251003T190633Z
LAST-MODIFIED:20251003T190633Z
UID:10001499-1761051600-1761058800@www.duny.edu
SUMMARY:Graduate School & Internship Fair
DESCRIPTION:Take the next step toward your future! Meet graduate schools and employers offering internship opportunities\, explore options\, and make valuable connections to shape your career path. \n\n25+ Graduate Schools and Internships\nNetwork with Admissions Representatives and Employers!\nOpen to Students\, Alumni and the Public\nFree admission\n\nDate: Tuesday\, October 21\, 2025\nTime: 1:00 p.m. – 3:00 p.m.\nLocation: Hennessy Center\, Holt Room\n495 Western Highway\,\nBlauvelt\, NY 10913 \n 
URL:https://www.duny.edu/events/graduate-school-internship-fair/
LOCATION:Holt Room- Hennessy Center\, 495 Western Highway\, Blauvelt\, NY\, 10913\, United States
ORGANIZER;CN="Manuel Juarez%2C Director of Career Development":MAILTO:Manuel.Juarez@duny.edu
END:VEVENT
BEGIN:VEVENT
DTSTART;TZID=America/New_York:20251026T190000
DTEND;TZID=America/New_York:20251026T190000
DTSTAMP:20260421T133921
CREATED:20250815T005012Z
LAST-MODIFIED:20260413T231842Z
UID:10001475-1761505200-1761505200@www.duny.edu
SUMMARY:Campus Mass
DESCRIPTION:All are welcome to join us for Campus Mass\, held weekly in the Rosary Hall Chapel on Sundays at 7 p.m. This cherished tradition offers our campus community a time for worship\, reflection\, and fellowship. \nFall 2025 Dates:8/24\, 8/31\, 9/7\, 9/14\, 9/28\, 10/5\, 10/12\, 10/19\, 10/26\, 11/2\, 11/9\, 11/16\, 11/23\, 12/7 \nPlease Note: \n\n\nNo Campus Mass on 9/21. Join us instead for the Fire in the Sky Family Mass on 9/20 in the Motherhouse Chapel. \n\n\nNo Campus Mass on 11/30 due to Thanksgiving Break.
URL:https://www.duny.edu/events/campus-mass/2025-10-26/
LOCATION:Rosary Hall Chapel\, 480 Western Highway\, Blauvelt\, NY\, 10913\, United States
CATEGORIES:All Events,Student Events
END:VEVENT
BEGIN:VEVENT
DTSTART;TZID=America/New_York:20251030T140000
DTEND;TZID=America/New_York:20251030T140000
DTSTAMP:20260421T133921
CREATED:20251027T183838Z
LAST-MODIFIED:20251027T185628Z
UID:10001508-1761832800-1761832800@www.duny.edu
SUMMARY:Bingo with the Sisters
DESCRIPTION:Thursday\, October 30\, 2025 \n2:00 pm \nMotherhouse \n  \nStudent/Faculty/Staff Events
URL:https://www.duny.edu/events/bingo-with-the-sisters/
CATEGORIES:Faculty and Staff,Student Events
END:VEVENT
END:VCALENDAR