BEGIN:VCALENDAR
VERSION:2.0
PRODID:-//Dominican University - ECPv6.15.18//NONSGML v1.0//EN
CALSCALE:GREGORIAN
METHOD:PUBLISH
X-WR-CALNAME:Dominican University
X-ORIGINAL-URL:https://www.duny.edu
X-WR-CALDESC:Events for Dominican University
REFRESH-INTERVAL;VALUE=DURATION:PT1H
X-Robots-Tag:noindex
X-PUBLISHED-TTL:PT1H
BEGIN:VTIMEZONE
TZID:America/New_York
BEGIN:DAYLIGHT
TZOFFSETFROM:-0500
TZOFFSETTO:-0400
TZNAME:EDT
DTSTART:20240310T070000
END:DAYLIGHT
BEGIN:STANDARD
TZOFFSETFROM:-0400
TZOFFSETTO:-0500
TZNAME:EST
DTSTART:20241103T060000
END:STANDARD
BEGIN:DAYLIGHT
TZOFFSETFROM:-0500
TZOFFSETTO:-0400
TZNAME:EDT
DTSTART:20250309T070000
END:DAYLIGHT
BEGIN:STANDARD
TZOFFSETFROM:-0400
TZOFFSETTO:-0500
TZNAME:EST
DTSTART:20251102T060000
END:STANDARD
BEGIN:DAYLIGHT
TZOFFSETFROM:-0500
TZOFFSETTO:-0400
TZNAME:EDT
DTSTART:20260308T070000
END:DAYLIGHT
BEGIN:STANDARD
TZOFFSETFROM:-0400
TZOFFSETTO:-0500
TZNAME:EST
DTSTART:20261101T060000
END:STANDARD
END:VTIMEZONE
BEGIN:VEVENT
DTSTART;TZID=America/New_York:20251114T073000
DTEND;TZID=America/New_York:20251114T073000
DTSTAMP:20260421T061219
CREATED:20251107T200048Z
LAST-MODIFIED:20251112T151034Z
UID:10001512-1763105400-1763105400@www.duny.edu
SUMMARY:Career Con: Risk Management
DESCRIPTION:Explore careers in insurance\, finance\, and beyond. Hear from executives\, young professionals\, and alumni and connect with over 50 visiting high school students eager to learn about Dominican University New York’s new Risk Management courses and minor.\n\nWhy Attend?\n\n✔ Candid advice and personal stories from industry leaders\n✔ Strategies for success in today’s workplace\n✔ Networking with young professionals and peers\n✔ A hands-on experiential challenge with prizes\n\n\n\nCareer Con Agenda\n7:30-8:15 AM\nCheck-in / Breakfast\nLocation: Granito Center  \n8:15-8:30 AM\nWelcome & Introductions\nLocation: Granito Extension \n\nDr. Manuel Martinez – President of Dominican University New York\nDr. Ivan Rudolph Shabinsky – Director of Division of Business\, Innovation\, Leadership at Dominican University New York\n\n8:30-8:50 AM\nKeynote Presentation: Anatomy of a Data Breach\nLocation: Granito Extension \n\nBenjamin Bertossi – Cyber Product Specialist\nChubb\n\n8:50-9:00 AM\nTransition to Breakout Rooms\nLocation: Prusmack Building \n9:00-9:50 AM\nMini-RMI Class\nLocation(s): Prusmack Building\, Rooms Ground Floor Room #9\, Ground Floor Room #10\, Ground Floor Room #15 and Room 212 (Second Floor)    \n9:50-10:00 AM\nBREAK \n10:00-11:45 PM\nExperiential Challenge Based off Mini-RMI Class \n\nGroup Presentations\nAlliant representatives\n\n11:45 AM-12:00 PM\nTransition to lunch\nLocation: Granito Extension \n12:00-12:30PM\nLunch + Young Risk Professional Panel\nLocation: Granito Extension \n12:30-1:00 PM\nAlliant and Other Representatives Power Networking \n1:00 PM\nTour of Dominican University & Alliant/Spencer Informational Table
URL:https://www.duny.edu/events/career-con-risk-management/
CATEGORIES:All Events,Community Events & Workshops,Faculty and Staff,Student Events
ORGANIZER;CN="Dr. Ivan Rudolph-Shabinsky":MAILTO:I.Rudolph-Shabinsky@duny.edu
END:VEVENT
END:VCALENDAR