BEGIN:VCALENDAR
VERSION:2.0
PRODID:-//Dominican University - ECPv6.15.18//NONSGML v1.0//EN
CALSCALE:GREGORIAN
METHOD:PUBLISH
X-WR-CALNAME:Dominican University
X-ORIGINAL-URL:https://www.duny.edu
X-WR-CALDESC:Events for Dominican University
REFRESH-INTERVAL;VALUE=DURATION:PT1H
X-Robots-Tag:noindex
X-PUBLISHED-TTL:PT1H
BEGIN:VTIMEZONE
TZID:America/New_York
BEGIN:DAYLIGHT
TZOFFSETFROM:-0500
TZOFFSETTO:-0400
TZNAME:EDT
DTSTART:20250309T070000
END:DAYLIGHT
BEGIN:STANDARD
TZOFFSETFROM:-0400
TZOFFSETTO:-0500
TZNAME:EST
DTSTART:20251102T060000
END:STANDARD
BEGIN:DAYLIGHT
TZOFFSETFROM:-0500
TZOFFSETTO:-0400
TZNAME:EDT
DTSTART:20260308T070000
END:DAYLIGHT
BEGIN:STANDARD
TZOFFSETFROM:-0400
TZOFFSETTO:-0500
TZNAME:EST
DTSTART:20261101T060000
END:STANDARD
BEGIN:DAYLIGHT
TZOFFSETFROM:-0500
TZOFFSETTO:-0400
TZNAME:EDT
DTSTART:20270314T070000
END:DAYLIGHT
BEGIN:STANDARD
TZOFFSETFROM:-0400
TZOFFSETTO:-0500
TZNAME:EST
DTSTART:20271107T060000
END:STANDARD
END:VTIMEZONE
BEGIN:VEVENT
DTSTART;TZID=America/New_York:20260212T080000
DTEND;TZID=America/New_York:20260212T170000
DTSTAMP:20260422T025753
CREATED:20260121T165439Z
LAST-MODIFIED:20260122T153142Z
UID:10001538-1770883200-1770915600@www.duny.edu
SUMMARY:Valentines for the Sisters 💌
DESCRIPTION:Send some love to the Sisters of St. Dominic! \nStop by our pop-up station to help brighten the day of the retired Sisters who have dedicated their lives to our community. This is a simple\, meaningful way for the DUNY family to show our gratitude and share some Valentine’s Day joy. \nEvent Details\n\nDate: Thursday\, February 12\nTime: All Day (Stop by anytime!)\nLocation: Casey Hall Lobby\nWho: All DUNY Students\, Faculty\, and Staff are welcome.\n\nThe Sisters of St. Dominic are the heart of our university’s history and mission. Our retired Sisters love hearing from current students and staff—your message is a wonderful reminder of the vibrant community they helped build.
URL:https://www.duny.edu/events/valentines-for-the-sisters-%f0%9f%92%8c/
LOCATION:Casey Hall Lobby
END:VEVENT
BEGIN:VEVENT
DTSTART;TZID=America/New_York:20260218T110000
DTEND;TZID=America/New_York:20260218T110000
DTSTAMP:20260422T025753
CREATED:20250521T191747Z
LAST-MODIFIED:20260122T152720Z
UID:10001388-1771412400-1771412400@www.duny.edu
SUMMARY:Ash Wednesday (+Campus Services)
DESCRIPTION:Begin the Lenten Season in Reflection and Community. \nAsh Wednesday marks the beginning of Lent\, a season of reflection\, renewal\, and preparation. We invite all students\, faculty\, and staff to join us for the distribution of ashes at either of our two campus services. Whether you have a full hour or just a brief midday break\, we welcome you to participate. \nService Schedule | Wednesday\, February 18\nMorning Mass \n\nTime: 11:00 AM\nLocation: Sisters of St. Dominic Motherhouse Chapel\n\nMidday Prayer Service \n\nTime: 12:00 PM (Noon)\nLocation: Granito Extension
URL:https://www.duny.edu/events/ash-wednesday-3/
LOCATION:Sisters of St. Dominic Motherhouse Chapel\, 496 Western Highway\, Blauvelt\, NY\, 10913\, United States
CATEGORIES:All Events,Community Events & Workshops,Faculty and Staff,Student Events
END:VEVENT
BEGIN:VEVENT
DTSTART;TZID=America/New_York:20260223T103000
DTEND;TZID=America/New_York:20260223T123000
DTSTAMP:20260422T025753
CREATED:20260128T175151Z
LAST-MODIFIED:20260128T175151Z
UID:10001545-1771842600-1771849800@www.duny.edu
SUMMARY:Pop-up Shop!🐴
DESCRIPTION:Stop by to browse our latest collection\, grab some exclusive gear\, and support the community. Whether you’re looking for a gift or something for yourself\, we’ve got you covered. \nLocation: Granito 202 \nWhen: February 23\, 2026 10:30 AM – 12:30 PM \nNote: Make sure to arrive early for the best selection!
URL:https://www.duny.edu/events/pop-up-shop%f0%9f%90%b4/
LOCATION:Granito 202
END:VEVENT
END:VCALENDAR