BEGIN:VCALENDAR
VERSION:2.0
PRODID:-//Dominican University - ECPv6.15.18//NONSGML v1.0//EN
CALSCALE:GREGORIAN
METHOD:PUBLISH
X-ORIGINAL-URL:https://www.duny.edu
X-WR-CALDESC:Events for Dominican University
REFRESH-INTERVAL;VALUE=DURATION:PT1H
X-Robots-Tag:noindex
X-PUBLISHED-TTL:PT1H
BEGIN:VTIMEZONE
TZID:America/New_York
BEGIN:DAYLIGHT
TZOFFSETFROM:-0500
TZOFFSETTO:-0400
TZNAME:EDT
DTSTART:20250309T070000
END:DAYLIGHT
BEGIN:STANDARD
TZOFFSETFROM:-0400
TZOFFSETTO:-0500
TZNAME:EST
DTSTART:20251102T060000
END:STANDARD
BEGIN:DAYLIGHT
TZOFFSETFROM:-0500
TZOFFSETTO:-0400
TZNAME:EDT
DTSTART:20260308T070000
END:DAYLIGHT
BEGIN:STANDARD
TZOFFSETFROM:-0400
TZOFFSETTO:-0500
TZNAME:EST
DTSTART:20261101T060000
END:STANDARD
BEGIN:DAYLIGHT
TZOFFSETFROM:-0500
TZOFFSETTO:-0400
TZNAME:EDT
DTSTART:20270314T070000
END:DAYLIGHT
BEGIN:STANDARD
TZOFFSETFROM:-0400
TZOFFSETTO:-0500
TZNAME:EST
DTSTART:20271107T060000
END:STANDARD
END:VTIMEZONE
BEGIN:VEVENT
DTSTART;TZID=America/New_York:20260419T090000
DTEND;TZID=America/New_York:20260419T090000
DTSTAMP:20260419T165810
CREATED:20260412T214449Z
LAST-MODIFIED:20260412T214449Z
UID:10001579-1776589200-1776589200@www.duny.edu
SUMMARY:Community Clean-Up 🌎
DESCRIPTION:We invite you to take part in making a positive impact both around campus and in the surrounding community.\n\nEvent Details:\n\nDate: Sunday\, April 19\n\nTime: 9 AM\n\n\nMeeting Location: Hennessey Center\n\nSign-Up Link\n\n\nYou can bring friends and family!\nGloves\, trash bags\, and other supplies will be provided.
URL:https://www.duny.edu/events/community-clean-up-%f0%9f%8c%8e/
CATEGORIES:All Events,Alumni Events,Community Events & Workshops,Faculty and Staff,Student Events
END:VEVENT
BEGIN:VEVENT
DTSTART;TZID=America/New_York:20260423T190000
DTEND;TZID=America/New_York:20260423T200000
DTSTAMP:20260419T165810
CREATED:20260225T124752Z
LAST-MODIFIED:20260225T124752Z
UID:10001557-1776970800-1776974400@www.duny.edu
SUMMARY:Student Leadership Awards
DESCRIPTION:Thu\, Apr 23rd 7:00 pm – 8:00 pm \n 
URL:https://www.duny.edu/events/student-leadership-awards/
CATEGORIES:All Events,Student Events
END:VEVENT
END:VCALENDAR