BEGIN:VCALENDAR
VERSION:2.0
PRODID:-//Dominican University - ECPv6.15.18//NONSGML v1.0//EN
CALSCALE:GREGORIAN
METHOD:PUBLISH
X-WR-CALNAME:Dominican University
X-ORIGINAL-URL:https://www.duny.edu
X-WR-CALDESC:Events for Dominican University
REFRESH-INTERVAL;VALUE=DURATION:PT1H
X-Robots-Tag:noindex
X-PUBLISHED-TTL:PT1H
BEGIN:VTIMEZONE
TZID:America/New_York
BEGIN:DAYLIGHT
TZOFFSETFROM:-0500
TZOFFSETTO:-0400
TZNAME:EDT
DTSTART:20240310T070000
END:DAYLIGHT
BEGIN:STANDARD
TZOFFSETFROM:-0400
TZOFFSETTO:-0500
TZNAME:EST
DTSTART:20241103T060000
END:STANDARD
BEGIN:DAYLIGHT
TZOFFSETFROM:-0500
TZOFFSETTO:-0400
TZNAME:EDT
DTSTART:20250309T070000
END:DAYLIGHT
BEGIN:STANDARD
TZOFFSETFROM:-0400
TZOFFSETTO:-0500
TZNAME:EST
DTSTART:20251102T060000
END:STANDARD
BEGIN:DAYLIGHT
TZOFFSETFROM:-0500
TZOFFSETTO:-0400
TZNAME:EDT
DTSTART:20260308T070000
END:DAYLIGHT
BEGIN:STANDARD
TZOFFSETFROM:-0400
TZOFFSETTO:-0500
TZNAME:EST
DTSTART:20261101T060000
END:STANDARD
END:VTIMEZONE
BEGIN:VEVENT
DTSTART;TZID=America/New_York:20251019T190000
DTEND;TZID=America/New_York:20251019T190000
DTSTAMP:20260420T134559
CREATED:20250815T005012Z
LAST-MODIFIED:20260413T231842Z
UID:10001474-1760900400-1760900400@www.duny.edu
SUMMARY:Campus Mass
DESCRIPTION:All are welcome to join us for Campus Mass\, held weekly in the Rosary Hall Chapel on Sundays at 7 p.m. This cherished tradition offers our campus community a time for worship\, reflection\, and fellowship. \nFall 2025 Dates:8/24\, 8/31\, 9/7\, 9/14\, 9/28\, 10/5\, 10/12\, 10/19\, 10/26\, 11/2\, 11/9\, 11/16\, 11/23\, 12/7 \nPlease Note: \n\n\nNo Campus Mass on 9/21. Join us instead for the Fire in the Sky Family Mass on 9/20 in the Motherhouse Chapel. \n\n\nNo Campus Mass on 11/30 due to Thanksgiving Break.
URL:https://www.duny.edu/events/campus-mass/2025-10-19/
LOCATION:Rosary Hall Chapel\, 480 Western Highway\, Blauvelt\, NY\, 10913\, United States
CATEGORIES:All Events,Student Events
END:VEVENT
BEGIN:VEVENT
DTSTART;TZID=America/New_York:20251020T150000
DTEND;TZID=America/New_York:20251020T170000
DTSTAMP:20260420T134559
CREATED:20250707T202723Z
LAST-MODIFIED:20250902T203910Z
UID:10001440-1760972400-1760979600@www.duny.edu
SUMMARY:Information Session and Campus Tour
DESCRIPTION:When school’s out\, opportunity is in! If your high school is closed\, it’s the perfect time to visit Dominican University New York: \nDiscover how Dominican University New York supports your success\, every step of the way. Join us for an afternoon of insight\, inspiration\, and exploration. \nDuring your visit\, you’ll: \n✅ Learn about our academic programs and personalized support services \n✅ Tour our beautiful 64-acre campus in scenic Rockland County \n✅ Hear directly from faculty\, staff\, and administration during a panel discussion hosted by Student Success Services \nCome see what it’s like to be part of the DUNY community! \n\n\n\n\n\n  \n\n\n\nTime\nActivity\n\n\n3:00 p.m.\nPresentation\n\n\n3:30 – 4:30 p.m.\nCampus Tour\n\n\n4:30 – 5:00 p.m.\nStudent Success Services Panel\n\n\n\nFor more information\, please contact the Office of Admissions at admissions@duny.edu or call (845) 848-7900.\n\n\n\n\n\n\nRSVP Now!\nLoading…
URL:https://www.duny.edu/events/info-session-oct-20-2025/
LOCATION:Holt Room- Hennessy Center\, 495 Western Highway\, Blauvelt\, NY\, 10913\, United States
CATEGORIES:Admissions,All Events,Open House
ORGANIZER;CN="Dominican University Office of Admissions":MAILTO:admissions@duny.edu
END:VEVENT
BEGIN:VEVENT
DTSTART;VALUE=DATE:20251021
DTEND;VALUE=DATE:20251022
DTSTAMP:20260420T134559
CREATED:20250605T210037Z
LAST-MODIFIED:20250605T210037Z
UID:10001421-1761004800-1761091199@www.duny.edu
SUMMARY:MBA/MSOLC Session II Begins
DESCRIPTION:Session II\nOctober 21 ─ December 11\, 202
URL:https://www.duny.edu/events/mba-msolc-session-ii-begins-2/
CATEGORIES:Academics
END:VEVENT
BEGIN:VEVENT
DTSTART;TZID=America/New_York:20251021T130000
DTEND;TZID=America/New_York:20251021T150000
DTSTAMP:20260420T134559
CREATED:20251003T190633Z
LAST-MODIFIED:20251003T190633Z
UID:10001499-1761051600-1761058800@www.duny.edu
SUMMARY:Graduate School & Internship Fair
DESCRIPTION:Take the next step toward your future! Meet graduate schools and employers offering internship opportunities\, explore options\, and make valuable connections to shape your career path. \n\n25+ Graduate Schools and Internships\nNetwork with Admissions Representatives and Employers!\nOpen to Students\, Alumni and the Public\nFree admission\n\nDate: Tuesday\, October 21\, 2025\nTime: 1:00 p.m. – 3:00 p.m.\nLocation: Hennessy Center\, Holt Room\n495 Western Highway\,\nBlauvelt\, NY 10913 \n 
URL:https://www.duny.edu/events/graduate-school-internship-fair/
LOCATION:Holt Room- Hennessy Center\, 495 Western Highway\, Blauvelt\, NY\, 10913\, United States
ORGANIZER;CN="Manuel Juarez%2C Director of Career Development":MAILTO:Manuel.Juarez@duny.edu
END:VEVENT
BEGIN:VEVENT
DTSTART;TZID=America/New_York:20251022T160000
DTEND;TZID=America/New_York:20251022T160000
DTSTAMP:20260420T134559
CREATED:20250504T205854Z
LAST-MODIFIED:20251021T152159Z
UID:10001363-1761148800-1761148800@www.duny.edu
SUMMARY:Tri Beta Honor Society Induction Ceremony
DESCRIPTION:New Date: November 5\, 2025. \nTime: 5:00-7:00 pm \n  \nAcademic Calendar – Special Events
URL:https://www.duny.edu/events/tri-beta-honor-society-induction-ceremony/
CATEGORIES:Academics
END:VEVENT
BEGIN:VEVENT
DTSTART;TZID=America/New_York:20251022T170000
DTEND;TZID=America/New_York:20251022T190000
DTSTAMP:20260420T134559
CREATED:20250925T150403Z
LAST-MODIFIED:20250925T150403Z
UID:10001491-1761152400-1761159600@www.duny.edu
SUMMARY:Sound Healing Experience
DESCRIPTION:We all have our own vibration and frequency. We can fall out of tune & potentially develop illnesses. Stress and negativity create blockages of a healthy flow of energy. Sound healing can open a new door into your consciousness and has incredible healing potential. Healing with sound can support and offer relief from stress\, depression\, anxiety\, addiction\, pain and moodiness. The immediate benefit of sound healing is an elevated mood & the effects of which can be felt for days. \nElise Manzo is a Reiki Master/Teacher and Certified Sound Therapist.  \nWednesday\, October 22\, 2025\n5:00 -7:00 p.m.\nLawrence Room\n**Pre-Registration is required for this event\, please email Alise.Cohen@duny.edu to sign up. \nStudents/Faculty and Staff Welcome
URL:https://www.duny.edu/events/sound-healing-experience/
LOCATION:Lawrence Room\, Rosary Hall\, 488–500 Western Highway South\, Orangeburg\, NY\, 10962\, United States
CATEGORIES:Faculty and Staff,Student Events
ORGANIZER;CN="Alice Cohen%2C Director of Counseling":MAILTO:alise.cohen@duny.edu
END:VEVENT
BEGIN:VEVENT
DTSTART;TZID=America/New_York:20251022T190000
DTEND;TZID=America/New_York:20251022T210000
DTSTAMP:20260420T134559
CREATED:20250926T183924Z
LAST-MODIFIED:20250926T191128Z
UID:10001493-1761159600-1761166800@www.duny.edu
SUMMARY:Self-Help Modifications to Improve Mental Health
DESCRIPTION:PUBLIC FORUM: BREAKING THE SILENCE \nLIFESTYLE PSYCHIATRY\nEVIDENCE BASED SELF-HELP MODIFICATIONS TO IMPROVE MENTAL HEALTH\nGia Merlo\, MD MBA MEd \nDr. Gia Merlo\, clinical professor of psychiatry at NYU Grossman School of Medicine\, is renowned for her expertise in well-being and lifestyle medicine\, and for developing the field of lifestyle Psychiatry. As a fellow of the American College of lifestyle Medicine and a distinguished fellow of the American Psychiatric Association\, Dr. Merlo is at the fore front of expanding evidence-based approaches to prevent\, treat\, and reverse psychiatric and behavioral disorders. \nHer peer-reviewed articles and four books for healthcare professionals are grounded in science\, drawn from psychology\, psychiatry\, and lifestyle medicine. With over thirty years of experience in clinical care and medical education\, she continues to inspire and empower individuals to prioritize their wellbeing and adopt healthier lifestyles. \nIn Loving Memory of Carol Olori \nThursday\, October 22\, 2025\nVia Zoom\n7:00 p.m. to 9:00 p.m. \n**Pre-Registration is required\, to reserve your spot\, please email events@namirockland.org \nSponsored By:\nNAM I Rockland- National Alliance on Mental Illness\nWest Hudson Psychiatric Society\nRockland County Department of Mental Health\nRockland Community College/ Student Success Counseling\nDominican University\nGarnet Health Medical Center\nFinkelstein Memorial Library
URL:https://www.duny.edu/events/self-help-modifications-to-improve-mental-health/
LOCATION:Via Zoom
CATEGORIES:Community Events & Workshops,Faculty and Staff,Student Events
END:VEVENT
BEGIN:VEVENT
DTSTART;TZID=America/New_York:20251023T163000
DTEND;TZID=America/New_York:20251023T183000
DTSTAMP:20260420T134559
CREATED:20250827T141503Z
LAST-MODIFIED:20260413T232117Z
UID:10001483-1761237000-1761244200@www.duny.edu
SUMMARY:2025 Happy Hour with Celebrity Bartenders
DESCRIPTION:Alumni • Community Social • Faculty & Staff \nThursday\, October 23\, 2025 • 4:30–6:30 PM\nGranito Center  \nAdmission $15 — includes hors d’oeuvres and one beer or wine. Beer & wine served by our Dominican University Celebrity Bartenders. 🍻\nWhat’s Included\n\nHors d’oeuvres + one beer or wine with admission\nRelaxed happy hour — swing by anytime\n\nExtras & Add-Ons\n\nDominican Beer Pilsner: $10 (Order ahead! While supplies last)\nExtra drink tickets: $5 each\n\nGive Back: All cash tips at the bar support each bartender’s initiative of choice. Thank you!\nEvent Policies\n\n21 & over — please bring a valid photo ID\nOn-campus event at Granito Center (parking available)\n\nQuestions? alumni@duny.edu
URL:https://www.duny.edu/events/2025-happy-hour-with-celebrity-bartenders/
LOCATION:Granito Center\, 470 Western Highway\, NY\, United States
CATEGORIES:All Events,Alumni Events,Faculty and Staff,Senior Special Events
ORGANIZER;CN="Margaret Treacy%2C Director of Annual Giving and Alumni & Parent Relations":MAILTO:Margaret.Treacy@duny.edu
END:VEVENT
BEGIN:VEVENT
DTSTART;TZID=America/New_York:20251023T173000
DTEND;TZID=America/New_York:20251023T193000
DTSTAMP:20260420T134559
CREATED:20251002T204954Z
LAST-MODIFIED:20251002T204954Z
UID:10001494-1761240600-1761247800@www.duny.edu
SUMMARY:Trunk or Treat
DESCRIPTION:The Office of Student Engagement invites faculty and staff to be part of this year’s Trunk or Treat on Thursday\, October 23\, 2025\, from 5:30–7:30 p.m. \n\nThis is one of our favorite community traditions — last year we welcomed over 200 families\, but we only had about 10 decorated cars. This year\, we need your help and support to make the event bigger and better than ever!\nDepartments\, classes\, and teams are encouraged to join by decorating a trunk  and handing out candy to families. All trunks will automatically be entered into our Car Competitions  for categories like Fan Favorite\, Best Overall Theme\, and Most Creative Decorations\, with prizes for the winners!\n\nRegister your trunk here: Trunk or Treat Registration Form\nWe’re also collecting candy donations so we have backup in case trunks run out during the event. Donations can be dropped off anytime between now and October 23 at the CSEC (Granito 206).\nThere will be fun for all ages and desserts for purchase from La Casa Di Dolce. This event is a true community celebration for ALL of DUNY — so whether you participate with a trunk\, donate candy\, or just attend with your family\, we’d love for you to be part of it.\n\nThank you for helping us grow this tradition and make it a festive night for our students\, colleagues\, and community!
URL:https://www.duny.edu/events/trunk-or-treat/
LOCATION:Casey Hall Parking Lot\, 470 Western Highway\, Orangeburg\, NY\, 10962\, United States
CATEGORIES:All Events,Alumni Events,Community Events & Workshops,Faculty and Staff,Student Events
ORGANIZER;CN="Dana McStowe%2C Associate Director of Student Engagement":MAILTO:dana.mcstowe@duny.edu
END:VEVENT
END:VCALENDAR