BEGIN:VCALENDAR
VERSION:2.0
PRODID:-//Dominican University - ECPv6.15.18//NONSGML v1.0//EN
CALSCALE:GREGORIAN
METHOD:PUBLISH
X-WR-CALNAME:Dominican University
X-ORIGINAL-URL:https://www.duny.edu
X-WR-CALDESC:Events for Dominican University
REFRESH-INTERVAL;VALUE=DURATION:PT1H
X-Robots-Tag:noindex
X-PUBLISHED-TTL:PT1H
BEGIN:VTIMEZONE
TZID:America/New_York
BEGIN:DAYLIGHT
TZOFFSETFROM:-0500
TZOFFSETTO:-0400
TZNAME:EDT
DTSTART:20250309T070000
END:DAYLIGHT
BEGIN:STANDARD
TZOFFSETFROM:-0400
TZOFFSETTO:-0500
TZNAME:EST
DTSTART:20251102T060000
END:STANDARD
BEGIN:DAYLIGHT
TZOFFSETFROM:-0500
TZOFFSETTO:-0400
TZNAME:EDT
DTSTART:20260308T070000
END:DAYLIGHT
BEGIN:STANDARD
TZOFFSETFROM:-0400
TZOFFSETTO:-0500
TZNAME:EST
DTSTART:20261101T060000
END:STANDARD
BEGIN:DAYLIGHT
TZOFFSETFROM:-0500
TZOFFSETTO:-0400
TZNAME:EDT
DTSTART:20270314T070000
END:DAYLIGHT
BEGIN:STANDARD
TZOFFSETFROM:-0400
TZOFFSETTO:-0500
TZNAME:EST
DTSTART:20271107T060000
END:STANDARD
END:VTIMEZONE
BEGIN:VEVENT
DTSTART;TZID=America/New_York:20260301T110000
DTEND;TZID=America/New_York:20260307T120000
DTSTAMP:20260422T113217
CREATED:20260128T175542Z
LAST-MODIFIED:20260128T175542Z
UID:10001546-1772362800-1772884800@www.duny.edu
SUMMARY:Alternative Spring Break
DESCRIPTION:
URL:https://www.duny.edu/events/alternative-spring-break/
CATEGORIES:Faculty and Staff,Student Events
END:VEVENT
BEGIN:VEVENT
DTSTART;TZID=America/New_York:20260302T000000
DTEND;TZID=America/New_York:20260306T000000
DTSTAMP:20260422T113217
CREATED:20250224T151643Z
LAST-MODIFIED:20260215T214653Z
UID:10001336-1772409600-1772755200@www.duny.edu
SUMMARY:SPRING BREAK!
DESCRIPTION:Academic Calendar
URL:https://www.duny.edu/events/spring-break/
CATEGORIES:Academics
END:VEVENT
BEGIN:VEVENT
DTSTART;VALUE=DATE:20260303
DTEND;VALUE=DATE:20260304
DTSTAMP:20260422T113217
CREATED:20251212T185720Z
LAST-MODIFIED:20260215T214645Z
UID:10001519-1772496000-1772582399@www.duny.edu
SUMMARY:Magha Puja Day
DESCRIPTION:Magha Puja Day is an esteemed spiritual festivity observed predominantly by Theravāda Buddhists and usually falls on the full moon day of the third lunar month.  \nThis event is a tribute to a unique episode in Buddhist history where 1\,250 monks\, all individually enlightened and ordained by Buddha himself\, spontaneously gathering without prior arrangement. This meeting\, often referred to as the “Fourfold Assembly\,” took place in the Veluvana Bamboo Grove near Rājagaha in Northern India. \nMagha Puja Day is an opportunity to renew spiritual commitments\, to gather in fellowship with like-minded seekers\, and to tread more mindfully on the journey towards inner peace and enlightenment. \n*Dates may vary*
URL:https://www.duny.edu/events/magha-puja-day/
END:VEVENT
END:VCALENDAR