BEGIN:VCALENDAR
VERSION:2.0
PRODID:-//Dominican University - ECPv6.15.18//NONSGML v1.0//EN
CALSCALE:GREGORIAN
METHOD:PUBLISH
X-WR-CALNAME:Dominican University
X-ORIGINAL-URL:https://www.duny.edu
X-WR-CALDESC:Events for Dominican University
REFRESH-INTERVAL;VALUE=DURATION:PT1H
X-Robots-Tag:noindex
X-PUBLISHED-TTL:PT1H
BEGIN:VTIMEZONE
TZID:America/New_York
BEGIN:DAYLIGHT
TZOFFSETFROM:-0500
TZOFFSETTO:-0400
TZNAME:EDT
DTSTART:20250309T070000
END:DAYLIGHT
BEGIN:STANDARD
TZOFFSETFROM:-0400
TZOFFSETTO:-0500
TZNAME:EST
DTSTART:20251102T060000
END:STANDARD
BEGIN:DAYLIGHT
TZOFFSETFROM:-0500
TZOFFSETTO:-0400
TZNAME:EDT
DTSTART:20260308T070000
END:DAYLIGHT
BEGIN:STANDARD
TZOFFSETFROM:-0400
TZOFFSETTO:-0500
TZNAME:EST
DTSTART:20261101T060000
END:STANDARD
BEGIN:DAYLIGHT
TZOFFSETFROM:-0500
TZOFFSETTO:-0400
TZNAME:EDT
DTSTART:20270314T070000
END:DAYLIGHT
BEGIN:STANDARD
TZOFFSETFROM:-0400
TZOFFSETTO:-0500
TZNAME:EST
DTSTART:20271107T060000
END:STANDARD
END:VTIMEZONE
BEGIN:VEVENT
DTSTART;TZID=America/New_York:20260308T140000
DTEND;TZID=America/New_York:20260308T140000
DTSTAMP:20260420T125226
CREATED:20260216T171601Z
LAST-MODIFIED:20260216T171602Z
UID:10001550-1772978400-1772978400@www.duny.edu
SUMMARY:Celtic Tea
DESCRIPTION:  \n  \n  \n  \n  \n  \n  \n  \n  \n  \n  \n  \n  \n  \n Purchase Tickets Here \n 
URL:https://www.duny.edu/events/celtic-tea/
LOCATION:Dominican Convent: Huston Room\, 496 Western Highway\, Blauvelt\, 10913\, United States
CATEGORIES:All Events,Alumni Events,Community Events & Workshops,Faculty and Staff
END:VEVENT
BEGIN:VEVENT
DTSTART;TZID=America/New_York:20260309T150000
DTEND;TZID=America/New_York:20260309T160000
DTSTAMP:20260420T125226
CREATED:20260225T131745Z
LAST-MODIFIED:20260225T131745Z
UID:10001564-1773068400-1773072000@www.duny.edu
SUMMARY:Catholic Sisters Week: Kick-Off Presentation
DESCRIPTION:Join us as we officially begin Catholic Sisters Week with a special Kick-Off Presentation celebrating the lives\, mission\, and lasting impact of Catholic Sisters. \nMonday\, March 9 | 3:00–4:00 PMMotherhouse\, Huston Room
URL:https://www.duny.edu/events/catholic-sisters-week-kick-off-presentation/
END:VEVENT
BEGIN:VEVENT
DTSTART;TZID=America/New_York:20260310T060000
DTEND;TZID=America/New_York:20260310T060000
DTSTAMP:20260420T125226
CREATED:20250224T151927Z
LAST-MODIFIED:20250224T151927Z
UID:10001337-1773122400-1773122400@www.duny.edu
SUMMARY:MBA/MSOLC Session IV Begins
DESCRIPTION:
URL:https://www.duny.edu/events/mba-msolc-session-iv-begins/
CATEGORIES:Academics
END:VEVENT
BEGIN:VEVENT
DTSTART;TZID=America/New_York:20260310T163000
DTEND;TZID=America/New_York:20260310T173000
DTSTAMP:20260420T125226
CREATED:20260225T131511Z
LAST-MODIFIED:20260225T131511Z
UID:10001563-1773160200-1773163800@www.duny.edu
SUMMARY:Catholic Sisters Week: Pizza & Trivia
DESCRIPTION:Join us for Day 2 of Catholic Sisters Week with fun\, food\, and friendly competition at Pizza & Trivia! Enjoy complimentary pizza while testing your knowledge with trivia questions covering a variety of topics. \nBring your friends\, form a team\, or join one when you arrive. Whether you’re in it to win or just there for the pizza\, this lively event is a great way to connect with the Sisters and the campus community. All are welcome! \nTuesday\, March 10 | 4:30–5:30 PMMotherhouse\, Huston Room
URL:https://www.duny.edu/events/catholic-sisters-week-pizza-trivia/
CATEGORIES:Student Events
END:VEVENT
BEGIN:VEVENT
DTSTART;TZID=America/New_York:20260311T150000
DTEND;TZID=America/New_York:20260311T160000
DTSTAMP:20260420T125226
CREATED:20260225T131127Z
LAST-MODIFIED:20260225T131127Z
UID:10001562-1773241200-1773244800@www.duny.edu
SUMMARY:Catholic Sisters Week: Sundaes with the Sisters
DESCRIPTION:Celebrate Catholic Sisters Week with a sweet afternoon of fellowship at Sundaes with the Sisters! Enjoy build-your-own ice cream sundaes while spending time with the Sisters in a relaxed\, welcoming setting. This fun\, informal gathering is a wonderful opportunity to share conversation\, laughter\, and community across campus. \nMarch 11 | 3:00–4:00 PMMotherhouse\, Huston Room
URL:https://www.duny.edu/events/catholic-sisters-week-sundaes-with-the-sisters/
CATEGORIES:All Events,Student Events
END:VEVENT
BEGIN:VEVENT
DTSTART;TZID=America/New_York:20260312T140000
DTEND;TZID=America/New_York:20260312T160000
DTSTAMP:20260420T125226
CREATED:20260225T130759Z
LAST-MODIFIED:20260225T130759Z
UID:10001561-1773324000-1773331200@www.duny.edu
SUMMARY:Catholic Sisters Week: Irish Soda Bread Bake-Off
DESCRIPTION:Celebrate Catholic Sisters Week with a warm and festive Irish Soda Bread Bake-Off! Join the Sisters and campus community for an afternoon of homemade treats\, friendly competition\, and Irish cheer. Sample a variety of freshly baked soda breads\, cast your vote for your favorite\, and enjoy good company in a welcoming atmosphere. \nThursday\, March 12 | 2:00–4:00 PMMotherhouse\, Huston Room
URL:https://www.duny.edu/events/catholic-sisters-week-irish-soda-bread-bake-off/
LOCATION:Sisters of St. Dominic Motherhouse Chapel\, 496 Western Highway\, Blauvelt\, NY\, 10913\, United States
CATEGORIES:All Events,Student Events
END:VEVENT
BEGIN:VEVENT
DTSTART;TZID=America/New_York:20260314T100000
DTEND;TZID=America/New_York:20260314T120000
DTSTAMP:20260420T125226
CREATED:20250710T135518Z
LAST-MODIFIED:20260123T155156Z
UID:10001455-1773482400-1773489600@www.duny.edu
SUMMARY:Undergraduate Saturday Tour
DESCRIPTION:We are eager to to welcome you and your family to our campus in Rockland County\, NY.\nBeautiful campus\, career-focused programs\, and a tight-knit community that embraces your success — you are invited to discover it all for yourself.  \n\nWhat to Expect at this Event:\n \nDuring your visit\, you will enjoy a tour of our facilities and learn more about our curriculum and programs that prepare Dominican University New York graduates for exceptional success. You’ll also meet admissions representatives and get answers to your questions.\n\nStops on the Tour: \n\nOur academic buildings\, including classrooms and laboratories\nThe Hennessy Center\, including both gyms and the fitness center\nThe Granito Center\, our full-service dining center.\n\n RSVP HERE!
URL:https://www.duny.edu/events/undergraduate-saturday-tour-march-14-2026/
LOCATION:Holt Room- Hennessy Center\, 495 Western Highway\, Blauvelt\, NY\, 10913\, United States
CATEGORIES:Admissions,All Events,Open House
ORGANIZER;CN="Dominican University Office of Admissions":MAILTO:admissions@duny.edu
END:VEVENT
END:VCALENDAR